BEGIN:VCALENDAR
VERSION:2.0
PRODID:-//wp-events-plugin.com//7.2.3.1//EN
TZID:Europe/London
X-WR-TIMEZONE:Europe/London
BEGIN:VEVENT
UID:4425@larevistadelapalma.com
DTSTART:20251227T160000Z
DTEND:20251227T224500Z
DTSTAMP:20251219T175721Z
URL:https://www.larevistadelapalma.com/events/10-anos-del-festival-fogaler
 a-el-encuentro/
SUMMARY:10 años de Fogalera - El encuentro
DESCRIPTION:Fogalera vuelve a realizar su encuentro anual en  La Tanqueta\
 , esta vez para celebrar sus 10 años.\n\nEstarán Higo Mordido\, ALberto 
 Rodríguez\, Las Pencas y Grajasound.\n\n&nbsp\;
ATTACH;FMTTYPE=image/jpeg:https://www.larevistadelapalma.com/wp-content/up
 loads/2025/12/10-anos-fogalera-el-encuentro.jpeg
CATEGORIES:Festivales/Fiestas,Música
LOCATION:Municipio de Los Llanos de Aridane\, Los Llanos de Aridane\, Los L
 lanos de Aridane\, 38760\, España
GEO:28.660236;-17.913187
X-APPLE-STRUCTURED-LOCATION;VALUE=URI;X-ADDRESS=Los Llanos de Aridane\, Los
  Llanos de Aridane\, 38760\, España;X-APPLE-RADIUS=100;X-TITLE=Municipio 
 de Los Llanos de Aridane:geo:28.660236,-17.913187
END:VEVENT
END:VCALENDARBEGIN:VCALENDAR
VERSION:2.0
PRODID:-//wp-events-plugin.com//7.2.3.1//EN
TZID:Europe/London
X-WR-TIMEZONE:Europe/London
BEGIN:VEVENT
UID:4425@larevistadelapalma.com
DTSTART:20251227T160000Z
DTEND:20251227T224500Z
DTSTAMP:20251219T175721Z
URL:https://www.larevistadelapalma.com/events/10-anos-del-festival-fogaler
 a-el-encuentro/
SUMMARY:10 años de Fogalera - El encuentro
DESCRIPTION:Fogalera vuelve a realizar su encuentro anual en  La Tanqueta\
 , esta vez para celebrar sus 10 años.\n\nEstarán Higo Mordido\, ALberto 
 Rodríguez\, Las Pencas y Grajasound.\n\n&nbsp\;
ATTACH;FMTTYPE=image/jpeg:https://www.larevistadelapalma.com/wp-content/up
 loads/2025/12/10-anos-fogalera-el-encuentro.jpeg
CATEGORIES:Festivales/Fiestas,Música
LOCATION:Municipio de Los Llanos de Aridane\, Los Llanos de Aridane\, Los L
 lanos de Aridane\, 38760\, España
GEO:28.660236;-17.913187
X-APPLE-STRUCTURED-LOCATION;VALUE=URI;X-ADDRESS=Los Llanos de Aridane\, Los
  Llanos de Aridane\, 38760\, España;X-APPLE-RADIUS=100;X-TITLE=Municipio 
 de Los Llanos de Aridane:geo:28.660236,-17.913187
END:VEVENT
END:VCALENDAR