BEGIN:VCALENDAR
VERSION:2.0
PRODID:-//wp-events-plugin.com//7.2.3.1//EN
TZID:Europe/London
X-WR-TIMEZONE:Europe/London
BEGIN:VEVENT
UID:3271@larevistadelapalma.com
DTSTART:20240928T201500Z
DTEND:20240928T211500Z
DTSTAMP:20240925T003013Z
URL:https://www.larevistadelapalma.com/events/115-anos-de-los-caballos-fuf
 os/
SUMMARY:115 años de los Caballos Fufos
DESCRIPTION:Al finalizar verbena con Los 3 de Caña\, Saoco\, El Morocho\, 
 Grupo Libertad y Tropicana.\nLos Caballos Fufos desfilarán desde el Ayunt
 amiento hasta la Avenida Constitución.\n\nParticiparán en el desfile las
  "Viejas a caballotas" de Los Llanos de Aridane.\n\n(Dentro de la programa
 ción de las Fiestas de San Miguel Arcángel que celebra el municipio)
ATTACH;FMTTYPE=image/jpeg:https://www.larevistadelapalma.com/wp-content/up
 loads/2024/09/Caballos-fufos.jpg
CATEGORIES:Fiestas populares,Otras propuestas
LOCATION:Municipio de Tazacorte\, Villa y Puerto de Tazacorte\, Tazacorte\,
  38770\, España
GEO:28.642917;-17.936888
X-APPLE-STRUCTURED-LOCATION;VALUE=URI;X-ADDRESS=Villa y Puerto de Tazacorte
 \, Tazacorte\, 38770\, España;X-APPLE-RADIUS=100;X-TITLE=Municipio de Taz
 acorte:geo:28.642917,-17.936888
END:VEVENT
END:VCALENDARBEGIN:VCALENDAR
VERSION:2.0
PRODID:-//wp-events-plugin.com//7.2.3.1//EN
TZID:Europe/London
X-WR-TIMEZONE:Europe/London
BEGIN:VEVENT
UID:3271@larevistadelapalma.com
DTSTART:20240928T201500Z
DTEND:20240928T211500Z
DTSTAMP:20240925T003013Z
URL:https://www.larevistadelapalma.com/events/115-anos-de-los-caballos-fuf
 os/
SUMMARY:115 años de los Caballos Fufos
DESCRIPTION:Al finalizar verbena con Los 3 de Caña\, Saoco\, El Morocho\, 
 Grupo Libertad y Tropicana.\nLos Caballos Fufos desfilarán desde el Ayunt
 amiento hasta la Avenida Constitución.\n\nParticiparán en el desfile las
  "Viejas a caballotas" de Los Llanos de Aridane.\n\n(Dentro de la programa
 ción de las Fiestas de San Miguel Arcángel que celebra el municipio)
ATTACH;FMTTYPE=image/jpeg:https://www.larevistadelapalma.com/wp-content/up
 loads/2024/09/Caballos-fufos.jpg
CATEGORIES:Fiestas populares,Otras propuestas
LOCATION:Municipio de Tazacorte\, Villa y Puerto de Tazacorte\, Tazacorte\,
  38770\, España
GEO:28.642917;-17.936888
X-APPLE-STRUCTURED-LOCATION;VALUE=URI;X-ADDRESS=Villa y Puerto de Tazacorte
 \, Tazacorte\, 38770\, España;X-APPLE-RADIUS=100;X-TITLE=Municipio de Taz
 acorte:geo:28.642917,-17.936888
END:VEVENT
END:VCALENDAR