BEGIN:VCALENDAR
VERSION:2.0
PRODID:-//wp-events-plugin.com//7.2.3.1//EN
TZID:Europe/London
X-WR-TIMEZONE:Europe/London
BEGIN:VEVENT
UID:600@larevistadelapalma.com
DTSTART:20230813T183000Z
DTEND:20230813T200000Z
DTSTAMP:20230809T123227Z
URL:https://www.larevistadelapalma.com/events/12-cuentos-dadaistas-de-la-d
 ama-anil-oscuro/
SUMMARY:12 cuentos dadaístas de La Dama Añil Oscuro
DESCRIPTION:Parece que la artista Eva Lilith ha inventado un género nuevo:
  el trap dadaísta. Y lo ha enmarcado en el formato escénico de la ópera
 . Una experiencia visual de color\, innovación y poética.
ATTACH;FMTTYPE=image/jpeg:https://www.larevistadelapalma.com/wp-content/up
 loads/2023/08/Opera-trap-dadaista.jpg
CATEGORIES:Espectáculos
LOCATION:Centro de la Cultura Andares\, Ctra. Dr. Morera Bravo\, 2. El Pueb
 lo.\, Villa de Mazo\, 38730\, España
GEO:28.604882;-17.777431
X-APPLE-STRUCTURED-LOCATION;VALUE=URI;X-ADDRESS=Ctra. Dr. Morera Bravo\, 2.
  El Pueblo.\, Villa de Mazo\, 38730\, España;X-APPLE-RADIUS=100;X-TITLE=C
 entro de la Cultura Andares:geo:28.604882,-17.777431
END:VEVENT
END:VCALENDARBEGIN:VCALENDAR
VERSION:2.0
PRODID:-//wp-events-plugin.com//7.2.3.1//EN
TZID:Europe/London
X-WR-TIMEZONE:Europe/London
BEGIN:VEVENT
UID:600@larevistadelapalma.com
DTSTART:20230813T183000Z
DTEND:20230813T200000Z
DTSTAMP:20230809T123227Z
URL:https://www.larevistadelapalma.com/events/12-cuentos-dadaistas-de-la-d
 ama-anil-oscuro/
SUMMARY:12 cuentos dadaístas de La Dama Añil Oscuro
DESCRIPTION:Parece que la artista Eva Lilith ha inventado un género nuevo:
  el trap dadaísta. Y lo ha enmarcado en el formato escénico de la ópera
 . Una experiencia visual de color\, innovación y poética.
ATTACH;FMTTYPE=image/jpeg:https://www.larevistadelapalma.com/wp-content/up
 loads/2023/08/Opera-trap-dadaista.jpg
CATEGORIES:Espectáculos
LOCATION:Centro de la Cultura Andares\, Ctra. Dr. Morera Bravo\, 2. El Pueb
 lo.\, Villa de Mazo\, 38730\, España
GEO:28.604882;-17.777431
X-APPLE-STRUCTURED-LOCATION;VALUE=URI;X-ADDRESS=Ctra. Dr. Morera Bravo\, 2.
  El Pueblo.\, Villa de Mazo\, 38730\, España;X-APPLE-RADIUS=100;X-TITLE=C
 entro de la Cultura Andares:geo:28.604882,-17.777431
END:VEVENT
END:VCALENDAR