BEGIN:VCALENDAR
VERSION:2.0
PRODID:-//wp-events-plugin.com//7.2.3.1//EN
TZID:Europe/London
X-WR-TIMEZONE:Europe/London
BEGIN:VEVENT
UID:4409@larevistadelapalma.com
DTSTART:20251220T140000Z
DTEND:20251220T223000Z
DTSTAMP:20251219T194449Z
URL:https://www.larevistadelapalma.com/events/20-dic-tasca-la-marmota/
SUMMARY:Las Pencas+ Reina Omega+ Monarkada + Grajasound. Tasca La Marmota
DESCRIPTION:Nosotros no habríamos calificado esto como una "noche de DJ's"
 ... en cualquier caso\, llámenlo como quieran. Un encuentro que comienza 
 calentando motores desde las 15:00 horas con la actuación de Las Penkas.\
 n\nLe seguirán Reina Omega\, Monarkada y la selección musical de Grajaso
 und. 
ATTACH;FMTTYPE=image/jpeg:https://www.larevistadelapalma.com/wp-content/up
 loads/2025/12/noche-de-Djs-en-La-Marmota.jpg
CATEGORIES:Festivales/Fiestas,Música
LOCATION:Tasca La Marmota\, Av de la Constitución\, número 1\, Tazacorte\
 , 38770\, España
GEO:28.643843;-17.933605
X-APPLE-STRUCTURED-LOCATION;VALUE=URI;X-ADDRESS=Av de la Constitución\, n
 úmero 1\, Tazacorte\, 38770\, España;X-APPLE-RADIUS=100;X-TITLE=Tasca La
  Marmota:geo:28.643843,-17.933605
END:VEVENT
END:VCALENDARBEGIN:VCALENDAR
VERSION:2.0
PRODID:-//wp-events-plugin.com//7.2.3.1//EN
TZID:Europe/London
X-WR-TIMEZONE:Europe/London
BEGIN:VEVENT
UID:4409@larevistadelapalma.com
DTSTART:20251220T140000Z
DTEND:20251220T223000Z
DTSTAMP:20251219T194449Z
URL:https://www.larevistadelapalma.com/events/20-dic-tasca-la-marmota/
SUMMARY:Las Pencas+ Reina Omega+ Monarkada + Grajasound. Tasca La Marmota
DESCRIPTION:Nosotros no habríamos calificado esto como una "noche de DJ's"
 ... en cualquier caso\, llámenlo como quieran. Un encuentro que comienza 
 calentando motores desde las 15:00 horas con la actuación de Las Penkas.\
 n\nLe seguirán Reina Omega\, Monarkada y la selección musical de Grajaso
 und. 
ATTACH;FMTTYPE=image/jpeg:https://www.larevistadelapalma.com/wp-content/up
 loads/2025/12/noche-de-Djs-en-La-Marmota.jpg
CATEGORIES:Festivales/Fiestas,Música
LOCATION:Tasca La Marmota\, Av de la Constitución\, número 1\, Tazacorte\
 , 38770\, España
GEO:28.643843;-17.933605
X-APPLE-STRUCTURED-LOCATION;VALUE=URI;X-ADDRESS=Av de la Constitución\, n
 úmero 1\, Tazacorte\, 38770\, España;X-APPLE-RADIUS=100;X-TITLE=Tasca La
  Marmota:geo:28.643843,-17.933605
END:VEVENT
END:VCALENDAR