BEGIN:VCALENDAR
VERSION:2.0
PRODID:-//wp-events-plugin.com//7.2.3.1//EN
TZID:Europe/London
X-WR-TIMEZONE:Europe/London
BEGIN:VEVENT
UID:3882@larevistadelapalma.com
DTSTART:20250724T083000Z
DTEND:20250724T133000Z
DTSTAMP:20250722T145217Z
URL:https://www.larevistadelapalma.com/events/20-formas-de-financiar-tu-em
 presa/
SUMMARY:20 formas de financiar tu empresa
DESCRIPTION:\n\nEl evento\, que se realizará en el Hotel H10 Taburiente P
 laya de Los Cancajos\, es gratuito\, pero las plazas son limitadas.\n\n\n
 \n\n\nObjetivo:\n\nLa financiación es uno de los mayores retos a los que 
 se enfrenta una empresa o un emprendedor. Este evento está diseñado para
  dar a conocer los diferentes instrumentos de financiación públicos y pr
 ivados disponibles. Ve y descubre los que mejor se adaptan a tus necesidad
 es.\n\n\n\n\n\n\nDirigido a:\n\nEmprendedores\, Autónomos\, Empresarios\,
  Asesorías fiscales y laborales\, AEDL Ayuntamientos\, Técnicos de Empre
 ndimiento\, etc.\n\n\n\n\n\nPrograma:\n09:30h Registro\n\n10:00h Bienvenid
 a INSTITUCIONAL\n\n\n 	Fernando González Negrín. Consejero de Hacienda\
 , Recursos Humanos\, Formación\, Empleo\, Residuos\, Industria y Energía
 . Cabildo de La Palma.\n 	Luis Vicente Martín de Paz. Presidente de ADER
  La Palma.\n\n\n10:20h Charla Contextual: Ecosistema de Financiación y O
 portunidades para La Palma\n\n\n 	Felipe Lorenzo Rodríguez. Técnico de 
 la Red CIDE – ADER LA PALMA\n\n\n10:30h Cabildo de La Palma: Ayudas a l
 a recuperación de la actividad económica después del volcán. Fomento d
 e la contratación laboral. Puesta en marcha de proyectos empresariales\n\
 n\n 	Nelso Pérez. Técnico Empleo Cabildo de La Palma. Cabildo de La Pal
 ma\n\n\n10:45h ADER La Palma: Programa LEADER La Palma. Programa Noray La
  Palma\n\n\n 	Eduardo Herrera Bautista. Técnico de ADER La Palma. Desarr
 ollo Rural de La Palma. Programa LEADER La Palma\n 	Nieves Laura Alonso Ga
 rcía. Técnica de ADER La Palma. Fomento de la Economía Azul en las zon
 as costeras. Programa Noray La Palma\n\n\n11:00h Fundación General de la 
 Universidad de La Laguna: Programa DIGINNOVA\n\n\n 	Vanesa Medina Lorenzo
 . Técnico Innovación FGULL\n\n\n11:15h Servicio Canario de Empleo: Inc
 entivos a la Contratación\n\n\n 	Haridian Hernández. Servicio Canario d
 e Empleo Isla de La Palma\n\n\n11:30h Café Networking\n\n12:00h Cámara d
 e Comercio: Subvenciones de «cuota cero» dirigidas a las personas trabaj
 adoras autónomas. KIT DIGITAL MICROPYMES de 0 A 3 Empleados. KIT DIGITAL 
 Comunidades de Bienes\, Sociedades Civiles y Explotaciones Agrarias.\n\n\n
  	Nayra González. Coordinadora Cámara Comercio La Palma\n\n\n12:15h RED
  CIDE GRAN CANARIA CET: Modernización industrial. Incorporación Personal
  Investigador IPI. Innovación Social. Proyectos de Digitalización\n\n 	N
 oemí Armas. Red CIDE GRAN CANARIA. CET.\n\n\n12:30h RED CIDE CLUSTER CET:
   CANARIAS STARS. RIS 3. Canarias APORTA y APORTA DIGITAL. Canarias APORT
 A ISLAS NO CAPITALINAS\n\n\n 	Enrique Hernández. Red CIDE La Palma CLÚST
 ER CET.\n\n\n12:45h EFICIENCIA ENERGÉTICA Y ENERGÍAS RENOVABLE: Subvenci
 ones para la transición verde\, Ayudas para la generación eléctrica ren
 ovable\, autoconsumo y descarbonización\, Subvenciones destinadas a finan
 ciar proyectos de eficiencia energética y economía circular de empresas 
 turísticas.\n\n 	Alejandro Herrera. Técnico Oficinas Verdes de Canarias.
 \n\n13:00h INCENTIVOS FISCALES\n\n13:15h Consultas y Cierre de La Jornada\
 n\n\n\n\n\n\n\nInscripción e información:\nEl evento es gratuito\, pero
  las plazas son limitadas. Reserva la tuya hoy mismo en: INSCRIPCIÓN o 
 llamando al 922 42 82 52\nTambién puedes escanear el código QR del cart
 el para acceder directamente al formulario de inscripción.\n\n\n\n\n\n\n\
 n\n\nOrganizan:\n\n 	La Red Canaria de Centros de Innovación y Desarrollo
  Empresarial (Red CIDE)\n 	Asociación para el Desarrollo Rural de la Isla
  de La Palma (ADER La Palma)\n 	Clúster Canarias Excelencia Tecnológica 
 (CET)\n 	Servicio de Formación y Empleo del Cabildo de La Palma.\n\nColab
 ora:\n\n\n 	B3cubo\n 	Cámara de Comercio\n 	Fundación General de la Univ
 ersidad de La Laguna\n 	Servicio Canario de Empleo\n\n&nbsp\;\n\n\n\n\n\n\
 n\n\n\n\n\n\n\n\n\n\n\n\n\n\n\n
ATTACH;FMTTYPE=image/jpeg:https://www.larevistadelapalma.com/wp-content/up
 loads/2025/07/financiatuempresa-2025-1.jpg
CATEGORIES:Formación,Otras propuestas
LOCATION:Barrio- Los Cancajos\, Los Cancajos\, Breña Baja\, España
GEO:28.646962;-17.759167
X-APPLE-STRUCTURED-LOCATION;VALUE=URI;X-ADDRESS=Los Cancajos\, Breña Baja\
 , España;X-APPLE-RADIUS=100;X-TITLE=Barrio- Los Cancajos:geo:28.646962,-1
 7.759167
END:VEVENT
END:VCALENDARBEGIN:VCALENDAR
VERSION:2.0
PRODID:-//wp-events-plugin.com//7.2.3.1//EN
TZID:Europe/London
X-WR-TIMEZONE:Europe/London
BEGIN:VEVENT
UID:3882@larevistadelapalma.com
DTSTART:20250724T083000Z
DTEND:20250724T133000Z
DTSTAMP:20250722T145217Z
URL:https://www.larevistadelapalma.com/events/20-formas-de-financiar-tu-em
 presa/
SUMMARY:20 formas de financiar tu empresa
DESCRIPTION:\n\nEl evento\, que se realizará en el Hotel H10 Taburiente P
 laya de Los Cancajos\, es gratuito\, pero las plazas son limitadas.\n\n\n
 \n\n\nObjetivo:\n\nLa financiación es uno de los mayores retos a los que 
 se enfrenta una empresa o un emprendedor. Este evento está diseñado para
  dar a conocer los diferentes instrumentos de financiación públicos y pr
 ivados disponibles. Ve y descubre los que mejor se adaptan a tus necesidad
 es.\n\n\n\n\n\n\nDirigido a:\n\nEmprendedores\, Autónomos\, Empresarios\,
  Asesorías fiscales y laborales\, AEDL Ayuntamientos\, Técnicos de Empre
 ndimiento\, etc.\n\n\n\n\n\nPrograma:\n09:30h Registro\n\n10:00h Bienvenid
 a INSTITUCIONAL\n\n\n 	Fernando González Negrín. Consejero de Hacienda\
 , Recursos Humanos\, Formación\, Empleo\, Residuos\, Industria y Energía
 . Cabildo de La Palma.\n 	Luis Vicente Martín de Paz. Presidente de ADER
  La Palma.\n\n\n10:20h Charla Contextual: Ecosistema de Financiación y O
 portunidades para La Palma\n\n\n 	Felipe Lorenzo Rodríguez. Técnico de 
 la Red CIDE – ADER LA PALMA\n\n\n10:30h Cabildo de La Palma: Ayudas a l
 a recuperación de la actividad económica después del volcán. Fomento d
 e la contratación laboral. Puesta en marcha de proyectos empresariales\n\
 n\n 	Nelso Pérez. Técnico Empleo Cabildo de La Palma. Cabildo de La Pal
 ma\n\n\n10:45h ADER La Palma: Programa LEADER La Palma. Programa Noray La
  Palma\n\n\n 	Eduardo Herrera Bautista. Técnico de ADER La Palma. Desarr
 ollo Rural de La Palma. Programa LEADER La Palma\n 	Nieves Laura Alonso Ga
 rcía. Técnica de ADER La Palma. Fomento de la Economía Azul en las zon
 as costeras. Programa Noray La Palma\n\n\n11:00h Fundación General de la 
 Universidad de La Laguna: Programa DIGINNOVA\n\n\n 	Vanesa Medina Lorenzo
 . Técnico Innovación FGULL\n\n\n11:15h Servicio Canario de Empleo: Inc
 entivos a la Contratación\n\n\n 	Haridian Hernández. Servicio Canario d
 e Empleo Isla de La Palma\n\n\n11:30h Café Networking\n\n12:00h Cámara d
 e Comercio: Subvenciones de «cuota cero» dirigidas a las personas trabaj
 adoras autónomas. KIT DIGITAL MICROPYMES de 0 A 3 Empleados. KIT DIGITAL 
 Comunidades de Bienes\, Sociedades Civiles y Explotaciones Agrarias.\n\n\n
  	Nayra González. Coordinadora Cámara Comercio La Palma\n\n\n12:15h RED
  CIDE GRAN CANARIA CET: Modernización industrial. Incorporación Personal
  Investigador IPI. Innovación Social. Proyectos de Digitalización\n\n 	N
 oemí Armas. Red CIDE GRAN CANARIA. CET.\n\n\n12:30h RED CIDE CLUSTER CET:
   CANARIAS STARS. RIS 3. Canarias APORTA y APORTA DIGITAL. Canarias APORT
 A ISLAS NO CAPITALINAS\n\n\n 	Enrique Hernández. Red CIDE La Palma CLÚST
 ER CET.\n\n\n12:45h EFICIENCIA ENERGÉTICA Y ENERGÍAS RENOVABLE: Subvenci
 ones para la transición verde\, Ayudas para la generación eléctrica ren
 ovable\, autoconsumo y descarbonización\, Subvenciones destinadas a finan
 ciar proyectos de eficiencia energética y economía circular de empresas 
 turísticas.\n\n 	Alejandro Herrera. Técnico Oficinas Verdes de Canarias.
 \n\n13:00h INCENTIVOS FISCALES\n\n13:15h Consultas y Cierre de La Jornada\
 n\n\n\n\n\n\n\nInscripción e información:\nEl evento es gratuito\, pero
  las plazas son limitadas. Reserva la tuya hoy mismo en: INSCRIPCIÓN o 
 llamando al 922 42 82 52\nTambién puedes escanear el código QR del cart
 el para acceder directamente al formulario de inscripción.\n\n\n\n\n\n\n\
 n\n\nOrganizan:\n\n 	La Red Canaria de Centros de Innovación y Desarrollo
  Empresarial (Red CIDE)\n 	Asociación para el Desarrollo Rural de la Isla
  de La Palma (ADER La Palma)\n 	Clúster Canarias Excelencia Tecnológica 
 (CET)\n 	Servicio de Formación y Empleo del Cabildo de La Palma.\n\nColab
 ora:\n\n\n 	B3cubo\n 	Cámara de Comercio\n 	Fundación General de la Univ
 ersidad de La Laguna\n 	Servicio Canario de Empleo\n\n&nbsp\;\n\n\n\n\n\n\
 n\n\n\n\n\n\n\n\n\n\n\n\n\n\n\n
ATTACH;FMTTYPE=image/jpeg:https://www.larevistadelapalma.com/wp-content/up
 loads/2025/07/financiatuempresa-2025-1.jpg
CATEGORIES:Formación,Otras propuestas
LOCATION:Barrio- Los Cancajos\, Los Cancajos\, Breña Baja\, España
GEO:28.646962;-17.759167
X-APPLE-STRUCTURED-LOCATION;VALUE=URI;X-ADDRESS=Los Cancajos\, Breña Baja\
 , España;X-APPLE-RADIUS=100;X-TITLE=Barrio- Los Cancajos:geo:28.646962,-1
 7.759167
END:VEVENT
END:VCALENDAR