BEGIN:VCALENDAR
VERSION:2.0
PRODID:-//wp-events-plugin.com//7.2.3.1//EN
TZID:Europe/London
X-WR-TIMEZONE:Europe/London
BEGIN:VEVENT
UID:3662@larevistadelapalma.com
DTSTART:20250320T190000Z
DTEND:20250320T203000Z
DTSTAMP:20250319T213434Z
URL:https://www.larevistadelapalma.com/events/25-aniversario-del-cemfac-co
 nferencia-tejiendo-emociones-a-traves-de-la-musica/
SUMMARY:25 aniversario del CEMFAC: Conferencia "Tejiendo emociones a travé
 s de la música"
DESCRIPTION:En esta charla\, la compositora Laura Vega compartirá sus refl
 exiones sobre cómo nacen las ideas musicales\, desde la fase inicial de i
 nspiración.
ATTACH;FMTTYPE=image/jpeg:https://www.larevistadelapalma.com/wp-content/up
 loads/2025/03/Conferencias-Cemfac-Laura-Vega.jpg
CATEGORIES:Formación,Otras propuestas,Varios
LOCATION:Casa de La Cultura de Los Llanos de Aridane\, : C. Real\, 8\, Los 
 Llanos de Aridane \, 38760\, España
GEO:28.658651;-17.913512
X-APPLE-STRUCTURED-LOCATION;VALUE=URI;X-ADDRESS=: C. Real\, 8\, Los Llanos 
 de Aridane \, 38760\, España;X-APPLE-RADIUS=100;X-TITLE=Casa de La Cultur
 a de Los Llanos de Aridane:geo:28.658651,-17.913512
END:VEVENT
END:VCALENDARBEGIN:VCALENDAR
VERSION:2.0
PRODID:-//wp-events-plugin.com//7.2.3.1//EN
TZID:Europe/London
X-WR-TIMEZONE:Europe/London
BEGIN:VEVENT
UID:3662@larevistadelapalma.com
DTSTART:20250320T190000Z
DTEND:20250320T203000Z
DTSTAMP:20250319T213434Z
URL:https://www.larevistadelapalma.com/events/25-aniversario-del-cemfac-co
 nferencia-tejiendo-emociones-a-traves-de-la-musica/
SUMMARY:25 aniversario del CEMFAC: Conferencia "Tejiendo emociones a travé
 s de la música"
DESCRIPTION:En esta charla\, la compositora Laura Vega compartirá sus refl
 exiones sobre cómo nacen las ideas musicales\, desde la fase inicial de i
 nspiración.
ATTACH;FMTTYPE=image/jpeg:https://www.larevistadelapalma.com/wp-content/up
 loads/2025/03/Conferencias-Cemfac-Laura-Vega.jpg
CATEGORIES:Formación,Otras propuestas,Varios
LOCATION:Casa de La Cultura de Los Llanos de Aridane\, : C. Real\, 8\, Los 
 Llanos de Aridane \, 38760\, España
GEO:28.658651;-17.913512
X-APPLE-STRUCTURED-LOCATION;VALUE=URI;X-ADDRESS=: C. Real\, 8\, Los Llanos 
 de Aridane \, 38760\, España;X-APPLE-RADIUS=100;X-TITLE=Casa de La Cultur
 a de Los Llanos de Aridane:geo:28.658651,-17.913512
END:VEVENT
END:VCALENDAR