BEGIN:VCALENDAR
VERSION:2.0
PRODID:-//wp-events-plugin.com//7.2.3.1//EN
TZID:Europe/London
X-WR-TIMEZONE:Europe/London
BEGIN:VEVENT
UID:4088@larevistadelapalma.com
DTSTART:20251227T190000Z
DTEND:20251227T203000Z
DTSTAMP:20251204T142138Z
URL:https://www.larevistadelapalma.com/events/26-festival-de-navidad-de-tr
 overos-de-asieta/
SUMMARY:26 Festival de Navidad de Troveros de Asieta
DESCRIPTION:El Festival cuenta con la intervención especial  de Alfredo D
 e La Fé\, leyenda viva de la Fania All-Stars\, con 60 años de trayectori
 a artística\, quién de la mano de Troveros de Asieta actúa por primera 
 vez ante el público de La Palma\, para ofrecer en el escenario\, todo su 
 talento y derroche de creatividad\, en temas emblemáticos de sus interpre
 taciones magistrales junto a Tito Puente\, Eddie Palmieri\, Hector Lavoe\,
  Celia Cruz o Rubén Blades\, entre otros. Sin duda alguna\, un montaje de
  altura\, en el que la visión actualizada del son cubano de Troveros\, da
  la mano al virtuosismo del violín de Alfredo De La Fé\, para ofrecer un
 a actuación única\, en la que se propicia la improvisación y la conexi
 ón con el público. \n\nDesde su presentación en Santa Cruz de La Palma
 \, un 29 de diciembre de 1991\, el Grupo ha venido ofreciendo un concierto
  anual por Navidad\, siendo en el año 2000\, cuando estos conciertos adqu
 ieren el carácter de Festival\, al incluir artistas invitados/as\, amplia
 ndo su puesta en escena\, tanto en su isla de La Palma como en extensiones
  del mismo en la isla de Tenerife.  \n\nA lo largo de las 25 ediciones a
 nteriores\, ha colaborado con Troveros de Asieta una amplia representació
 n de los/as artistas y formaciones más relevantes del panorama musical ca
 nario\, así como interpretes de talla nacional e internacional. \n\nTrov
 eros de Asieta se presenta al público en 1991\, en su isla de La Palma. E
 n sus 34 años de trayectoria cuenta con diez trabajos discográficos publ
 icados hasta la fecha\, “Tradicional” (1994)\, “Vamos a hacerlo buen
 o” (1997)\, “Siempre sonriendo” (2001)  “Bailando con Lecuona” 
 (2004)\, “Aquí en la Isla” (2008)\, “Troveros de Asieta 20 Años 
 – 2 CDs” (2011) y “El son tiene duende” (2014)\, “Querida Cuba
 ” (2017) e “Influencias del Latin Jazz” (2020)\, que ha presentado p
 or toda Canarias\, por territorio peninsular y en el extranjero.\n\nEn jul
 io de 2003\, el Grupo participa representando a España y a Europa\, en el
  VIII Encuentro de Septetos (Festival del Son) celebrado en la Habana\, qu
 e para esta edición contó por primera vez con representación internacio
 nal.\n\nEn varias ocasiones Troveros de Asieta ha sido elogiado por la cr
 ítica especializada\, considerándolo como una de las formaciones más re
 levantes de la música cubana hecha en España y Europa\, como así le ha 
 sido reconocido también por los expertos cubanos\, con el Premio Internac
 ional Cubadisco otorgado al Grupo en  2012. \n\nCon Troveros han colabor
 ado de forma estrecha artistas del prestigio de Manolito Simonet (Cuba)\, 
 Alfredo Valdés Jr. (Cuba-Nueva York)\, Albita Rodríguez (Cuba-Miami)\, P
 ancho Amat (Cuba)\, Lucrecia (Cuba-España)\, Martirio\, Raimundo Amador\,
  Sole Giménez\,  Braulio (España) o Polo Ortí\, y ha compartido cartel
  con figuras como\, Cachao\, Olga Guillot\, Pastora Soler\, Ketama\, Yerba
 buena\, Tito Nieves\, Isaac Delgado\, Los Van Van\, Gilberto Santarosa\, S
 epteto Nacional\, Septeto Habanero\, Sierra Maestra\, Septeto Santiaguero\
 , Eliades Ochoa\, Septeto Turquino\, Septeto Naborí\, Conjunto Jóvenes C
 lásicos del Son o Chipi Chacón.\n\nTambién han colaborado con el Grupo\
 , artistas canarios como\, Los Sabandeños\, Los Gofiones\, Taburiente\, C
 aco Senante\, Olga Cerpa\, José A. Ramos\, Andrés Molina\, Davinia Rodr
 íguez\, Benito Cabrera\, Kike Perdomo\, Candelaria González\, Rogelio Bo
 tanz\, Arístides Moreno\, Luis Morera\, Fabiola Socas\, Luisa Machado\, H
 ector González\, José M. Ramos\, Beselch\, Species\, Elena González\, o
  las cubanas residentes en Canarias\, Mayelín\, Claritzel Miyares o Ferna
 ndo Murga.\n\nCOMPONENTES DE TROVEROS DE ASIETA:\n\nFrancis Concepción: v
 oz y guitarra // Pedro Brito: cuatro cubano y voz // Fran Martín “Ciani
 ”: voz y percusión menor // José Humberto Martín: trompeta y coros //
  Carlos Perdomo: baby bass // David Platero: percusión // Alberto Martín
 : piano // Oscar Herrera: trompeta // Jhony Olivares: percusión // Alejan
 dro Suárez: trombón.\n\nTécnicos : Sonido : Chiqui Martín\;\, Ilumina
 ción : Miguel Ferrera.\n\nARTISTA INVITADO\n\nAlfredo De La Fé\, leyenda
  viva de la música latina y actual componente de las Estrellas de Fania\,
  ha sido sin duda alguna\, el pionero absoluto en transformar el sonido de
 l violín y adecuarlo a los géneros latinos\, además de haber fabricado 
 y patentado su propio violín. Doctorado en música por la Escuela Julliar
 d\, ha llevado su música por más de 95 países.\n\nCon solo seis años\,
  su madrina Celia Cruz\, le regala las cuerdas de su primer violín y le h
 ace el encargo de que lleve la música de Cuba por el mundo. Con una energ
 ía inconfundible y una herencia musical que vibra en cada nota\, en sus 6
 0 años de trayectoria\, ha brillado junto a artistas de la talla de Tito 
 Puente\, Celia Cruz\, Eddie Palmieri\, Cheo Feliciano\, Hector Lavoe\, San
 tana\, Fania All Stars\, Rubén Blades o Willie Colón\, entre muchos otro
 s. \n\nDe La Fé sigue transformando la música en pura emoción\, hacien
 do bailar a la brisa y encendiendo las estrellas en los grandes escenarios
  del mundo\, con su sonido único.\n\nEn su extensa y exitosa carrera\, ha
  recibido varias nominaciones a los Granmy Latinos y multitud de galardone
 s y reconocimientos.\n\n&nbsp\;
ATTACH;FMTTYPE=image/jpeg:https://www.larevistadelapalma.com/wp-content/up
 loads/2025/12/CARTEL-TROVEROS-27-DIC_INSTAGRAM.png
CATEGORIES:Conciertos,Música
LOCATION:Plaza de Santo Domingo en Santa Cruz de La Palma\, Plaza Santo Dom
 ingo\, Santa Cruz de La Palma\, 38700\, España
GEO:28.682691;-17.766334
X-APPLE-STRUCTURED-LOCATION;VALUE=URI;X-ADDRESS=Plaza Santo Domingo\, Santa
  Cruz de La Palma\, 38700\, España;X-APPLE-RADIUS=100;X-TITLE=Plaza de Sa
 nto Domingo en Santa Cruz de La Palma:geo:28.682691,-17.766334
END:VEVENT
END:VCALENDARBEGIN:VCALENDAR
VERSION:2.0
PRODID:-//wp-events-plugin.com//7.2.3.1//EN
TZID:Europe/London
X-WR-TIMEZONE:Europe/London
BEGIN:VEVENT
UID:4088@larevistadelapalma.com
DTSTART:20251227T190000Z
DTEND:20251227T203000Z
DTSTAMP:20251204T142138Z
URL:https://www.larevistadelapalma.com/events/26-festival-de-navidad-de-tr
 overos-de-asieta/
SUMMARY:26 Festival de Navidad de Troveros de Asieta
DESCRIPTION:El Festival cuenta con la intervención especial  de Alfredo D
 e La Fé\, leyenda viva de la Fania All-Stars\, con 60 años de trayectori
 a artística\, quién de la mano de Troveros de Asieta actúa por primera 
 vez ante el público de La Palma\, para ofrecer en el escenario\, todo su 
 talento y derroche de creatividad\, en temas emblemáticos de sus interpre
 taciones magistrales junto a Tito Puente\, Eddie Palmieri\, Hector Lavoe\,
  Celia Cruz o Rubén Blades\, entre otros. Sin duda alguna\, un montaje de
  altura\, en el que la visión actualizada del son cubano de Troveros\, da
  la mano al virtuosismo del violín de Alfredo De La Fé\, para ofrecer un
 a actuación única\, en la que se propicia la improvisación y la conexi
 ón con el público. \n\nDesde su presentación en Santa Cruz de La Palma
 \, un 29 de diciembre de 1991\, el Grupo ha venido ofreciendo un concierto
  anual por Navidad\, siendo en el año 2000\, cuando estos conciertos adqu
 ieren el carácter de Festival\, al incluir artistas invitados/as\, amplia
 ndo su puesta en escena\, tanto en su isla de La Palma como en extensiones
  del mismo en la isla de Tenerife.  \n\nA lo largo de las 25 ediciones a
 nteriores\, ha colaborado con Troveros de Asieta una amplia representació
 n de los/as artistas y formaciones más relevantes del panorama musical ca
 nario\, así como interpretes de talla nacional e internacional. \n\nTrov
 eros de Asieta se presenta al público en 1991\, en su isla de La Palma. E
 n sus 34 años de trayectoria cuenta con diez trabajos discográficos publ
 icados hasta la fecha\, “Tradicional” (1994)\, “Vamos a hacerlo buen
 o” (1997)\, “Siempre sonriendo” (2001)  “Bailando con Lecuona” 
 (2004)\, “Aquí en la Isla” (2008)\, “Troveros de Asieta 20 Años 
 – 2 CDs” (2011) y “El son tiene duende” (2014)\, “Querida Cuba
 ” (2017) e “Influencias del Latin Jazz” (2020)\, que ha presentado p
 or toda Canarias\, por territorio peninsular y en el extranjero.\n\nEn jul
 io de 2003\, el Grupo participa representando a España y a Europa\, en el
  VIII Encuentro de Septetos (Festival del Son) celebrado en la Habana\, qu
 e para esta edición contó por primera vez con representación internacio
 nal.\n\nEn varias ocasiones Troveros de Asieta ha sido elogiado por la cr
 ítica especializada\, considerándolo como una de las formaciones más re
 levantes de la música cubana hecha en España y Europa\, como así le ha 
 sido reconocido también por los expertos cubanos\, con el Premio Internac
 ional Cubadisco otorgado al Grupo en  2012. \n\nCon Troveros han colabor
 ado de forma estrecha artistas del prestigio de Manolito Simonet (Cuba)\, 
 Alfredo Valdés Jr. (Cuba-Nueva York)\, Albita Rodríguez (Cuba-Miami)\, P
 ancho Amat (Cuba)\, Lucrecia (Cuba-España)\, Martirio\, Raimundo Amador\,
  Sole Giménez\,  Braulio (España) o Polo Ortí\, y ha compartido cartel
  con figuras como\, Cachao\, Olga Guillot\, Pastora Soler\, Ketama\, Yerba
 buena\, Tito Nieves\, Isaac Delgado\, Los Van Van\, Gilberto Santarosa\, S
 epteto Nacional\, Septeto Habanero\, Sierra Maestra\, Septeto Santiaguero\
 , Eliades Ochoa\, Septeto Turquino\, Septeto Naborí\, Conjunto Jóvenes C
 lásicos del Son o Chipi Chacón.\n\nTambién han colaborado con el Grupo\
 , artistas canarios como\, Los Sabandeños\, Los Gofiones\, Taburiente\, C
 aco Senante\, Olga Cerpa\, José A. Ramos\, Andrés Molina\, Davinia Rodr
 íguez\, Benito Cabrera\, Kike Perdomo\, Candelaria González\, Rogelio Bo
 tanz\, Arístides Moreno\, Luis Morera\, Fabiola Socas\, Luisa Machado\, H
 ector González\, José M. Ramos\, Beselch\, Species\, Elena González\, o
  las cubanas residentes en Canarias\, Mayelín\, Claritzel Miyares o Ferna
 ndo Murga.\n\nCOMPONENTES DE TROVEROS DE ASIETA:\n\nFrancis Concepción: v
 oz y guitarra // Pedro Brito: cuatro cubano y voz // Fran Martín “Ciani
 ”: voz y percusión menor // José Humberto Martín: trompeta y coros //
  Carlos Perdomo: baby bass // David Platero: percusión // Alberto Martín
 : piano // Oscar Herrera: trompeta // Jhony Olivares: percusión // Alejan
 dro Suárez: trombón.\n\nTécnicos : Sonido : Chiqui Martín\;\, Ilumina
 ción : Miguel Ferrera.\n\nARTISTA INVITADO\n\nAlfredo De La Fé\, leyenda
  viva de la música latina y actual componente de las Estrellas de Fania\,
  ha sido sin duda alguna\, el pionero absoluto en transformar el sonido de
 l violín y adecuarlo a los géneros latinos\, además de haber fabricado 
 y patentado su propio violín. Doctorado en música por la Escuela Julliar
 d\, ha llevado su música por más de 95 países.\n\nCon solo seis años\,
  su madrina Celia Cruz\, le regala las cuerdas de su primer violín y le h
 ace el encargo de que lleve la música de Cuba por el mundo. Con una energ
 ía inconfundible y una herencia musical que vibra en cada nota\, en sus 6
 0 años de trayectoria\, ha brillado junto a artistas de la talla de Tito 
 Puente\, Celia Cruz\, Eddie Palmieri\, Cheo Feliciano\, Hector Lavoe\, San
 tana\, Fania All Stars\, Rubén Blades o Willie Colón\, entre muchos otro
 s. \n\nDe La Fé sigue transformando la música en pura emoción\, hacien
 do bailar a la brisa y encendiendo las estrellas en los grandes escenarios
  del mundo\, con su sonido único.\n\nEn su extensa y exitosa carrera\, ha
  recibido varias nominaciones a los Granmy Latinos y multitud de galardone
 s y reconocimientos.\n\n&nbsp\;
ATTACH;FMTTYPE=image/jpeg:https://www.larevistadelapalma.com/wp-content/up
 loads/2025/12/CARTEL-TROVEROS-27-DIC_INSTAGRAM.png
CATEGORIES:Conciertos,Música
LOCATION:Plaza de Santo Domingo en Santa Cruz de La Palma\, Plaza Santo Dom
 ingo\, Santa Cruz de La Palma\, 38700\, España
GEO:28.682691;-17.766334
X-APPLE-STRUCTURED-LOCATION;VALUE=URI;X-ADDRESS=Plaza Santo Domingo\, Santa
  Cruz de La Palma\, 38700\, España;X-APPLE-RADIUS=100;X-TITLE=Plaza de Sa
 nto Domingo en Santa Cruz de La Palma:geo:28.682691,-17.766334
END:VEVENT
END:VCALENDAR