BEGIN:VCALENDAR
VERSION:2.0
PRODID:-//wp-events-plugin.com//7.2.3.1//EN
TZID:Europe/London
X-WR-TIMEZONE:Europe/London
BEGIN:VEVENT
UID:3838@larevistadelapalma.com
DTSTART;VALUE=DATE:20250723
DTEND;VALUE=DATE:20250809
DTSTAMP:20250723T195224Z
URL:https://www.larevistadelapalma.com/events/3-turno-arte-lustral-casino/
SUMMARY:Tercer turno de Arte Lustral (Casino)
DESCRIPTION:Gara Acosta expone en el Casino una muestra con el título "Mag
 ua\, savia y lava".
ATTACH;FMTTYPE=image/jpeg:https://www.larevistadelapalma.com/wp-content/up
 loads/2025/07/Arte-Lustral-3-turno-Casino-Gara.jpeg
CATEGORIES:Exposiciones
LOCATION:Casino de Santa Cruz de La Palma\,  C. Anselmo Pérez de Brito\, 1
 5\, Santa Cruz De La Palma\, Santa Cruz de Tenerife\, 38700\, España
GEO:28.684234;-17.7638
X-APPLE-STRUCTURED-LOCATION;VALUE=URI;X-ADDRESS= C. Anselmo Pérez de Brito
 \, 15\, Santa Cruz De La Palma\, Santa Cruz de Tenerife\, 38700\, España;
 X-APPLE-RADIUS=100;X-TITLE=Casino de Santa Cruz de La Palma:geo:28.684234,
 -17.7638
END:VEVENT
END:VCALENDARBEGIN:VCALENDAR
VERSION:2.0
PRODID:-//wp-events-plugin.com//7.2.3.1//EN
TZID:Europe/London
X-WR-TIMEZONE:Europe/London
BEGIN:VEVENT
UID:3838@larevistadelapalma.com
DTSTART;VALUE=DATE:20250723
DTEND;VALUE=DATE:20250809
DTSTAMP:20250723T195224Z
URL:https://www.larevistadelapalma.com/events/3-turno-arte-lustral-casino/
SUMMARY:Tercer turno de Arte Lustral (Casino)
DESCRIPTION:Gara Acosta expone en el Casino una muestra con el título "Mag
 ua\, savia y lava".
ATTACH;FMTTYPE=image/jpeg:https://www.larevistadelapalma.com/wp-content/up
 loads/2025/07/Arte-Lustral-3-turno-Casino-Gara.jpeg
CATEGORIES:Exposiciones
LOCATION:Casino de Santa Cruz de La Palma\,  C. Anselmo Pérez de Brito\, 1
 5\, Santa Cruz De La Palma\, Santa Cruz de Tenerife\, 38700\, España
GEO:28.684234;-17.7638
X-APPLE-STRUCTURED-LOCATION;VALUE=URI;X-ADDRESS= C. Anselmo Pérez de Brito
 \, 15\, Santa Cruz De La Palma\, Santa Cruz de Tenerife\, 38700\, España;
 X-APPLE-RADIUS=100;X-TITLE=Casino de Santa Cruz de La Palma:geo:28.684234,
 -17.7638
END:VEVENT
END:VCALENDAR