BEGIN:VCALENDAR
VERSION:2.0
PRODID:-//wp-events-plugin.com//7.2.3.1//EN
TZID:Europe/London
X-WR-TIMEZONE:Europe/London
BEGIN:VEVENT
UID:3885@larevistadelapalma.com
DTSTART;VALUE=DATE:20250723
DTEND;VALUE=DATE:20250809
DTSTAMP:20250723T212607Z
URL:https://www.larevistadelapalma.com/events/3-turno-arte-lustral-o-daly/
SUMMARY:Tercer turno de las exposiciones "Arte Lustral" (Sala O'Daly)
DESCRIPTION:En la Sala O'Daly se exponen los trabajos de Patchwork de Carme
 n Dolores Pérez.
ATTACH;FMTTYPE=image/jpeg:https://www.larevistadelapalma.com/wp-content/up
 loads/2025/07/Arte-Lustral-3-turno-ODaly.jpg
CATEGORIES:Exposiciones
LOCATION:Sala O'Daly\, C. O'Daly\, 2\, \, Santa Cruz de La Palma \, 38700\,
  España
GEO:28.68306;-17.765032
X-APPLE-STRUCTURED-LOCATION;VALUE=URI;X-ADDRESS=C. O'Daly\, 2\, \, Santa Cr
 uz de La Palma \, 38700\, España;X-APPLE-RADIUS=100;X-TITLE=Sala O'Daly:g
 eo:28.68306,-17.765032
END:VEVENT
END:VCALENDARBEGIN:VCALENDAR
VERSION:2.0
PRODID:-//wp-events-plugin.com//7.2.3.1//EN
TZID:Europe/London
X-WR-TIMEZONE:Europe/London
BEGIN:VEVENT
UID:3885@larevistadelapalma.com
DTSTART;VALUE=DATE:20250723
DTEND;VALUE=DATE:20250809
DTSTAMP:20250723T212607Z
URL:https://www.larevistadelapalma.com/events/3-turno-arte-lustral-o-daly/
SUMMARY:Tercer turno de las exposiciones "Arte Lustral" (Sala O'Daly)
DESCRIPTION:En la Sala O'Daly se exponen los trabajos de Patchwork de Carme
 n Dolores Pérez.
ATTACH;FMTTYPE=image/jpeg:https://www.larevistadelapalma.com/wp-content/up
 loads/2025/07/Arte-Lustral-3-turno-ODaly.jpg
CATEGORIES:Exposiciones
LOCATION:Sala O'Daly\, C. O'Daly\, 2\, \, Santa Cruz de La Palma \, 38700\,
  España
GEO:28.68306;-17.765032
X-APPLE-STRUCTURED-LOCATION;VALUE=URI;X-ADDRESS=C. O'Daly\, 2\, \, Santa Cr
 uz de La Palma \, 38700\, España;X-APPLE-RADIUS=100;X-TITLE=Sala O'Daly:g
 eo:28.68306,-17.765032
END:VEVENT
END:VCALENDAR