BEGIN:VCALENDAR
VERSION:2.0
PRODID:-//wp-events-plugin.com//7.2.3.1//EN
TZID:Europe/London
X-WR-TIMEZONE:Europe/London
BEGIN:VEVENT
UID:3140@larevistadelapalma.com
DTSTART:20240803T183000Z
DTEND:20240803T200000Z
DTSTAMP:20240723T121418Z
URL:https://www.larevistadelapalma.com/events/30-aniversario-del-grupo-de-
 teatro-la-farsa/
SUMMARY:30 aniversario del Grupo de Teatro La Farsa
DESCRIPTION:Son 30 años de teatro amateur. Para celebrarlo\, La Farsa ha p
 reparado una obra de teatro que se representará el 3 de agosto a las 19.3
 0  en el centro de la cultura Andares en Villa de Mazo.\n\nAdemás\, el 4
  de agosto celebran una gala de aniversario también a las 19.30 y la inau
 guración de una exposición que mostrará estos 30 años de puro teatro.
ATTACH;FMTTYPE=image/jpeg:https://www.larevistadelapalma.com/wp-content/up
 loads/2024/07/IMG-20240719-WA0011.jpg
CATEGORIES:Espectáculos,Teatro
LOCATION:Centro de la Cultura Andares\, Ctra. Dr. Morera Bravo\, 2. El Pueb
 lo.\, Villa de Mazo\, 38730\, España
GEO:28.604882;-17.777431
X-APPLE-STRUCTURED-LOCATION;VALUE=URI;X-ADDRESS=Ctra. Dr. Morera Bravo\, 2.
  El Pueblo.\, Villa de Mazo\, 38730\, España;X-APPLE-RADIUS=100;X-TITLE=C
 entro de la Cultura Andares:geo:28.604882,-17.777431
END:VEVENT
END:VCALENDARBEGIN:VCALENDAR
VERSION:2.0
PRODID:-//wp-events-plugin.com//7.2.3.1//EN
TZID:Europe/London
X-WR-TIMEZONE:Europe/London
BEGIN:VEVENT
UID:3140@larevistadelapalma.com
DTSTART:20240803T183000Z
DTEND:20240803T200000Z
DTSTAMP:20240723T121418Z
URL:https://www.larevistadelapalma.com/events/30-aniversario-del-grupo-de-
 teatro-la-farsa/
SUMMARY:30 aniversario del Grupo de Teatro La Farsa
DESCRIPTION:Son 30 años de teatro amateur. Para celebrarlo\, La Farsa ha p
 reparado una obra de teatro que se representará el 3 de agosto a las 19.3
 0  en el centro de la cultura Andares en Villa de Mazo.\n\nAdemás\, el 4
  de agosto celebran una gala de aniversario también a las 19.30 y la inau
 guración de una exposición que mostrará estos 30 años de puro teatro.
ATTACH;FMTTYPE=image/jpeg:https://www.larevistadelapalma.com/wp-content/up
 loads/2024/07/IMG-20240719-WA0011.jpg
CATEGORIES:Espectáculos,Teatro
LOCATION:Centro de la Cultura Andares\, Ctra. Dr. Morera Bravo\, 2. El Pueb
 lo.\, Villa de Mazo\, 38730\, España
GEO:28.604882;-17.777431
X-APPLE-STRUCTURED-LOCATION;VALUE=URI;X-ADDRESS=Ctra. Dr. Morera Bravo\, 2.
  El Pueblo.\, Villa de Mazo\, 38730\, España;X-APPLE-RADIUS=100;X-TITLE=C
 entro de la Cultura Andares:geo:28.604882,-17.777431
END:VEVENT
END:VCALENDAR