BEGIN:VCALENDAR
VERSION:2.0
PRODID:-//wp-events-plugin.com//7.2.3.1//EN
TZID:Europe/London
X-WR-TIMEZONE:Europe/London
BEGIN:VEVENT
UID:3129@larevistadelapalma.com
DTSTART;VALUE=DATE:20240722
DTEND;VALUE=DATE:20240723
DTSTAMP:20240724T183157Z
URL:https://www.larevistadelapalma.com/events/3o-campus-de-arqueologia-de-
 tijarafe/
SUMMARY:3º Campus de Arqueología de Tijarafe
DESCRIPTION:\nSe realizará del  22 de julio al 3 de agosto. El miércoles
 \, 17 de julio\, se cierran inscripciones.\nOrientado a aficionados y entu
 siastas del pasado aborigen de las Islas Canarias. A diferencia de otros c
 ampus\, este no está enfocado solo a estudiantes\, sino a personas con di
 stintos perfiles vitales que tengan en común el interés por la Arqueolog
 ía.\n Para inscribirte solo tienes que ser mayor de edad y remitir a cam
 pusarqueologiatijarafe@gmail.com lo siguiente:\n\n\n\n 	Tus datos personal
 es: Nombre y apellidos\, DNI\, fecha de nacimiento\, email\, número de te
 léfono\, dirección\, información sobre alergias o intolerancias aliment
 arias y\, finalmente\, los datos de contactos de alguna persona.\n\n\n\n 	
 Un pequeño texto\, de medio folio\, en el que se describas las razones po
 r las que te interesa participar en el Campus de Arqueología. Tus motivac
 iones personales\, que esperas aprender en él\, que aspectos te gustaría
  profundizar\, que otras experiencias has tenido con la arqueología\, etc
 .\n\n\n\n\n 	Y un breve currículum académico y/o laboral que permita hac
 ernos una idea de tu nivel de formación. Que estudios\, si los tienes\, h
 as cursado\, a que te dedicas actualmente\, que otros conocimientos tienes
 \, etc.\n\n\nMás información en: campusdearqueologia.tijarafe.net
ATTACH;FMTTYPE=image/jpeg:https://www.larevistadelapalma.com/wp-content/up
 loads/2024/07/Campus-arqueologia-tijarafe.jpg
CATEGORIES:Formación,Otras propuestas
LOCATION:Municipio de Tijarafe\, Municipio de Tijarafe\, Tijarafe\, 38780\,
  España
GEO:28.711091;-17.956181
X-APPLE-STRUCTURED-LOCATION;VALUE=URI;X-ADDRESS=Municipio de Tijarafe\, Tij
 arafe\, 38780\, España;X-APPLE-RADIUS=100;X-TITLE=Municipio de Tijarafe:g
 eo:28.711091,-17.956181
END:VEVENT
END:VCALENDARBEGIN:VCALENDAR
VERSION:2.0
PRODID:-//wp-events-plugin.com//7.2.3.1//EN
TZID:Europe/London
X-WR-TIMEZONE:Europe/London
BEGIN:VEVENT
UID:3129@larevistadelapalma.com
DTSTART;VALUE=DATE:20240722
DTEND;VALUE=DATE:20240723
DTSTAMP:20240724T183157Z
URL:https://www.larevistadelapalma.com/events/3o-campus-de-arqueologia-de-
 tijarafe/
SUMMARY:3º Campus de Arqueología de Tijarafe
DESCRIPTION:\nSe realizará del  22 de julio al 3 de agosto. El miércoles
 \, 17 de julio\, se cierran inscripciones.\nOrientado a aficionados y entu
 siastas del pasado aborigen de las Islas Canarias. A diferencia de otros c
 ampus\, este no está enfocado solo a estudiantes\, sino a personas con di
 stintos perfiles vitales que tengan en común el interés por la Arqueolog
 ía.\n Para inscribirte solo tienes que ser mayor de edad y remitir a cam
 pusarqueologiatijarafe@gmail.com lo siguiente:\n\n\n\n 	Tus datos personal
 es: Nombre y apellidos\, DNI\, fecha de nacimiento\, email\, número de te
 léfono\, dirección\, información sobre alergias o intolerancias aliment
 arias y\, finalmente\, los datos de contactos de alguna persona.\n\n\n\n 	
 Un pequeño texto\, de medio folio\, en el que se describas las razones po
 r las que te interesa participar en el Campus de Arqueología. Tus motivac
 iones personales\, que esperas aprender en él\, que aspectos te gustaría
  profundizar\, que otras experiencias has tenido con la arqueología\, etc
 .\n\n\n\n\n 	Y un breve currículum académico y/o laboral que permita hac
 ernos una idea de tu nivel de formación. Que estudios\, si los tienes\, h
 as cursado\, a que te dedicas actualmente\, que otros conocimientos tienes
 \, etc.\n\n\nMás información en: campusdearqueologia.tijarafe.net
ATTACH;FMTTYPE=image/jpeg:https://www.larevistadelapalma.com/wp-content/up
 loads/2024/07/Campus-arqueologia-tijarafe.jpg
CATEGORIES:Formación,Otras propuestas
LOCATION:Municipio de Tijarafe\, Municipio de Tijarafe\, Tijarafe\, 38780\,
  España
GEO:28.711091;-17.956181
X-APPLE-STRUCTURED-LOCATION;VALUE=URI;X-ADDRESS=Municipio de Tijarafe\, Tij
 arafe\, 38780\, España;X-APPLE-RADIUS=100;X-TITLE=Municipio de Tijarafe:g
 eo:28.711091,-17.956181
END:VEVENT
END:VCALENDAR