BEGIN:VCALENDAR
VERSION:2.0
PRODID:-//wp-events-plugin.com//7.2.3.1//EN
TZID:Europe/London
X-WR-TIMEZONE:Europe/London
BEGIN:VEVENT
UID:3592@larevistadelapalma.com
DTSTART:20250621T190000Z
DTEND:20250621T203000Z
DTSTAMP:20250619T123100Z
URL:https://www.larevistadelapalma.com/events/40-capital-pop-bajada/
SUMMARY:Los 40 Capital Pop - Bajada de La Virgen
DESCRIPTION:Kapo se incorpora así al evento más conectado con el público
  joven en el calendario de La Bajada de La Virgen de 2025\, en un cartel q
 ue encabeza junto a el rapero argentino Trueno\, la puertorriqueña De La 
 Rose\, y Dalex\,  miembro de los ‘Avengers’ del reggaetón.
ATTACH;FMTTYPE=image/jpeg:https://www.larevistadelapalma.com/wp-content/up
 loads/2025/02/los-40-capital-pop-junio.jpg
CATEGORIES:Festivales/Fiestas,Música
LOCATION:Municipio de Santa Cruz de La Palma\, Santa Cruz de La Palma \, Sa
 nta Cruz de La Palma \, 38700\, España
GEO:28.688757;-17.765102
X-APPLE-STRUCTURED-LOCATION;VALUE=URI;X-ADDRESS=Santa Cruz de La Palma \, S
 anta Cruz de La Palma \, 38700\, España;X-APPLE-RADIUS=100;X-TITLE=Munici
 pio de Santa Cruz de La Palma:geo:28.688757,-17.765102
END:VEVENT
END:VCALENDARBEGIN:VCALENDAR
VERSION:2.0
PRODID:-//wp-events-plugin.com//7.2.3.1//EN
TZID:Europe/London
X-WR-TIMEZONE:Europe/London
BEGIN:VEVENT
UID:3592@larevistadelapalma.com
DTSTART:20250621T190000Z
DTEND:20250621T203000Z
DTSTAMP:20250619T123100Z
URL:https://www.larevistadelapalma.com/events/40-capital-pop-bajada/
SUMMARY:Los 40 Capital Pop - Bajada de La Virgen
DESCRIPTION:Kapo se incorpora así al evento más conectado con el público
  joven en el calendario de La Bajada de La Virgen de 2025\, en un cartel q
 ue encabeza junto a el rapero argentino Trueno\, la puertorriqueña De La 
 Rose\, y Dalex\,  miembro de los ‘Avengers’ del reggaetón.
ATTACH;FMTTYPE=image/jpeg:https://www.larevistadelapalma.com/wp-content/up
 loads/2025/02/los-40-capital-pop-junio.jpg
CATEGORIES:Festivales/Fiestas,Música
LOCATION:Municipio de Santa Cruz de La Palma\, Santa Cruz de La Palma \, Sa
 nta Cruz de La Palma \, 38700\, España
GEO:28.688757;-17.765102
X-APPLE-STRUCTURED-LOCATION;VALUE=URI;X-ADDRESS=Santa Cruz de La Palma \, S
 anta Cruz de La Palma \, 38700\, España;X-APPLE-RADIUS=100;X-TITLE=Munici
 pio de Santa Cruz de La Palma:geo:28.688757,-17.765102
END:VEVENT
END:VCALENDAR