BEGIN:VCALENDAR
VERSION:2.0
PRODID:-//wp-events-plugin.com//7.2.3.1//EN
TZID:Europe/London
X-WR-TIMEZONE:Europe/London
BEGIN:VEVENT
UID:3116@larevistadelapalma.com
DTSTART:20240712T190000Z
DTEND:20240712T220000Z
DTSTAMP:20240711T111551Z
URL:https://www.larevistadelapalma.com/events/6-festival-habaneras-musica-
 del-mar-santa-cruz/
SUMMARY:Sexta edición del festival ‘Habaneras y Música del Mar’ en Sa
 nta Cruz de La Palma
DESCRIPTION:La sexta edición del festival ‘Habaneras y Música del Mar
 ’ se celebrará el viernes 12 de julio a las 20:00 horas en la Plaza San
  Francisco.\nEl público asistente podrá disfrutar de las actuaciones mus
 icales de las agrupaciones ‘Los Arrieros’\, ‘Tuhoco’ y la Rondalla
  Renacer.\nEntre los actos se realizará la entrega del ancla de Honor del
  Club de Vela Latina Benahoare a José Alberto Hernández Ferrera.
ATTACH;FMTTYPE=image/jpeg:https://www.larevistadelapalma.com/wp-content/up
 loads/2024/07/Festival-habaneras.jpg
CATEGORIES:Festivales/Fiestas,Música
LOCATION:Plaza de San Francisco\, Plaza de San Francisco \, Santa Cruz De L
 a Palma\, Santa Cruz de Tenerife\, 38700\, España
GEO:28.683698;-17.767894
X-APPLE-STRUCTURED-LOCATION;VALUE=URI;X-ADDRESS=Plaza de San Francisco \, S
 anta Cruz De La Palma\, Santa Cruz de Tenerife\, 38700\, España;X-APPLE-R
 ADIUS=100;X-TITLE=Plaza de San Francisco:geo:28.683698,-17.767894
END:VEVENT
END:VCALENDARBEGIN:VCALENDAR
VERSION:2.0
PRODID:-//wp-events-plugin.com//7.2.3.1//EN
TZID:Europe/London
X-WR-TIMEZONE:Europe/London
BEGIN:VEVENT
UID:3116@larevistadelapalma.com
DTSTART:20240712T190000Z
DTEND:20240712T220000Z
DTSTAMP:20240711T111551Z
URL:https://www.larevistadelapalma.com/events/6-festival-habaneras-musica-
 del-mar-santa-cruz/
SUMMARY:Sexta edición del festival ‘Habaneras y Música del Mar’ en Sa
 nta Cruz de La Palma
DESCRIPTION:La sexta edición del festival ‘Habaneras y Música del Mar
 ’ se celebrará el viernes 12 de julio a las 20:00 horas en la Plaza San
  Francisco.\nEl público asistente podrá disfrutar de las actuaciones mus
 icales de las agrupaciones ‘Los Arrieros’\, ‘Tuhoco’ y la Rondalla
  Renacer.\nEntre los actos se realizará la entrega del ancla de Honor del
  Club de Vela Latina Benahoare a José Alberto Hernández Ferrera.
ATTACH;FMTTYPE=image/jpeg:https://www.larevistadelapalma.com/wp-content/up
 loads/2024/07/Festival-habaneras.jpg
CATEGORIES:Festivales/Fiestas,Música
LOCATION:Plaza de San Francisco\, Plaza de San Francisco \, Santa Cruz De L
 a Palma\, Santa Cruz de Tenerife\, 38700\, España
GEO:28.683698;-17.767894
X-APPLE-STRUCTURED-LOCATION;VALUE=URI;X-ADDRESS=Plaza de San Francisco \, S
 anta Cruz De La Palma\, Santa Cruz de Tenerife\, 38700\, España;X-APPLE-R
 ADIUS=100;X-TITLE=Plaza de San Francisco:geo:28.683698,-17.767894
END:VEVENT
END:VCALENDAR