BEGIN:VCALENDAR
VERSION:2.0
PRODID:-//wp-events-plugin.com//7.2.3.1//EN
TZID:Europe/London
X-WR-TIMEZONE:Europe/London
BEGIN:VEVENT
UID:2976@larevistadelapalma.com
DTSTART:20240513T190000Z
DTEND:20240513T203000Z
DTSTAMP:20240509T124716Z
URL:https://www.larevistadelapalma.com/events/8-escritoras-canarias-para-e
 l-8m-teatro-chico/
SUMMARY:Proyección de ‘8 escritoras canarias para el 8M’ en el Teatro 
 Chico
DESCRIPTION:El documental de Beatriz Gómez Magdalena sobre la mirada femen
 ina en la literatura canaria\, ‘8 escritoras canarias para el 8M’\, se
  proyecta\, de manera gratuita\, en el Teatro Chico de Santa Cruz de La Pa
 lma.\n\nUn documental en el que se explora la situación actual de las esc
 ritoras canarias y en el cual se reflexiona sobre las claves necesarias pa
 ra lograr una sociedad igualitaria.\nSe ha contado con la participación d
 e las escritoras canarias: Elsa López\, Rosario Valcárcel\, Lucía Rosa 
 González\, Inmaculada Hernández Ortega\, Belén Lorenzo\, Lucy Gómez\, 
 Ana Hernández de Dolara y Sandra Lorenzo.\n\n
ATTACH;FMTTYPE=image/jpeg:https://www.larevistadelapalma.com/wp-content/up
 loads/2024/04/8-escritoras-canarias-Beatriz-Gomez.jpg
CATEGORIES:Cine,Cine y Literatura
LOCATION:Teatro Chico\, Calle Díaz Pimienta\, 1\, Santa Cruz De La Palma\,
  Santa Cruz de Tenerife\, 38700\, España
GEO:28.68432;-17.764225
X-APPLE-STRUCTURED-LOCATION;VALUE=URI;X-ADDRESS=Calle Díaz Pimienta\, 1\, 
 Santa Cruz De La Palma\, Santa Cruz de Tenerife\, 38700\, España;X-APPLE-
 RADIUS=100;X-TITLE=Teatro Chico:geo:28.68432,-17.764225
END:VEVENT
END:VCALENDARBEGIN:VCALENDAR
VERSION:2.0
PRODID:-//wp-events-plugin.com//7.2.3.1//EN
TZID:Europe/London
X-WR-TIMEZONE:Europe/London
BEGIN:VEVENT
UID:2976@larevistadelapalma.com
DTSTART:20240513T190000Z
DTEND:20240513T203000Z
DTSTAMP:20240509T124716Z
URL:https://www.larevistadelapalma.com/events/8-escritoras-canarias-para-e
 l-8m-teatro-chico/
SUMMARY:Proyección de ‘8 escritoras canarias para el 8M’ en el Teatro 
 Chico
DESCRIPTION:El documental de Beatriz Gómez Magdalena sobre la mirada femen
 ina en la literatura canaria\, ‘8 escritoras canarias para el 8M’\, se
  proyecta\, de manera gratuita\, en el Teatro Chico de Santa Cruz de La Pa
 lma.\n\nUn documental en el que se explora la situación actual de las esc
 ritoras canarias y en el cual se reflexiona sobre las claves necesarias pa
 ra lograr una sociedad igualitaria.\nSe ha contado con la participación d
 e las escritoras canarias: Elsa López\, Rosario Valcárcel\, Lucía Rosa 
 González\, Inmaculada Hernández Ortega\, Belén Lorenzo\, Lucy Gómez\, 
 Ana Hernández de Dolara y Sandra Lorenzo.\n\n
ATTACH;FMTTYPE=image/jpeg:https://www.larevistadelapalma.com/wp-content/up
 loads/2024/04/8-escritoras-canarias-Beatriz-Gomez.jpg
CATEGORIES:Cine,Cine y Literatura
LOCATION:Teatro Chico\, Calle Díaz Pimienta\, 1\, Santa Cruz De La Palma\,
  Santa Cruz de Tenerife\, 38700\, España
GEO:28.68432;-17.764225
X-APPLE-STRUCTURED-LOCATION;VALUE=URI;X-ADDRESS=Calle Díaz Pimienta\, 1\, 
 Santa Cruz De La Palma\, Santa Cruz de Tenerife\, 38700\, España;X-APPLE-
 RADIUS=100;X-TITLE=Teatro Chico:geo:28.68432,-17.764225
END:VEVENT
END:VCALENDAR