BEGIN:VCALENDAR
VERSION:2.0
PRODID:-//wp-events-plugin.com//7.2.3.1//EN
TZID:Europe/London
X-WR-TIMEZONE:Europe/London
BEGIN:VEVENT
UID:2780@larevistadelapalma.com
DTSTART:20240209T090000Z
DTEND:20240209T120000Z
DTSTAMP:20240208T231349Z
URL:https://www.larevistadelapalma.com/events/8a-loca-carrera-solidaria/
SUMMARY:8ª Loca Carrera Solidaria\, Santa Cruz de La Palma
DESCRIPTION:Este evento\, que tiene poco de "carrera"\, bastante de "loca" 
 y mucho de "solidaria"\,
ATTACH;FMTTYPE=image/jpeg:https://www.larevistadelapalma.com/wp-content/up
 loads/2024/02/Loca-Carrera-solidaria.jpg
CATEGORIES:Fiestas populares,Otras propuestas
LOCATION:Municipio de Santa Cruz de La Palma\, Santa Cruz de La Palma \, Sa
 nta Cruz de La Palma \, 38700\, España
GEO:28.688757;-17.765102
X-APPLE-STRUCTURED-LOCATION;VALUE=URI;X-ADDRESS=Santa Cruz de La Palma \, S
 anta Cruz de La Palma \, 38700\, España;X-APPLE-RADIUS=100;X-TITLE=Munici
 pio de Santa Cruz de La Palma:geo:28.688757,-17.765102
END:VEVENT
END:VCALENDARBEGIN:VCALENDAR
VERSION:2.0
PRODID:-//wp-events-plugin.com//7.2.3.1//EN
TZID:Europe/London
X-WR-TIMEZONE:Europe/London
BEGIN:VEVENT
UID:2780@larevistadelapalma.com
DTSTART:20240209T090000Z
DTEND:20240209T120000Z
DTSTAMP:20240208T231349Z
URL:https://www.larevistadelapalma.com/events/8a-loca-carrera-solidaria/
SUMMARY:8ª Loca Carrera Solidaria\, Santa Cruz de La Palma
DESCRIPTION:Este evento\, que tiene poco de "carrera"\, bastante de "loca" 
 y mucho de "solidaria"\,
ATTACH;FMTTYPE=image/jpeg:https://www.larevistadelapalma.com/wp-content/up
 loads/2024/02/Loca-Carrera-solidaria.jpg
CATEGORIES:Fiestas populares,Otras propuestas
LOCATION:Municipio de Santa Cruz de La Palma\, Santa Cruz de La Palma \, Sa
 nta Cruz de La Palma \, 38700\, España
GEO:28.688757;-17.765102
X-APPLE-STRUCTURED-LOCATION;VALUE=URI;X-ADDRESS=Santa Cruz de La Palma \, S
 anta Cruz de La Palma \, 38700\, España;X-APPLE-RADIUS=100;X-TITLE=Munici
 pio de Santa Cruz de La Palma:geo:28.688757,-17.765102
END:VEVENT
END:VCALENDAR