BEGIN:VCALENDAR
VERSION:2.0
PRODID:-//wp-events-plugin.com//7.2.3.1//EN
TZID:Europe/London
X-WR-TIMEZONE:Europe/London
BEGIN:VEVENT
UID:3423@larevistadelapalma.com
DTSTART:20241208T110000Z
DTEND:20241208T130000Z
DTSTAMP:20241125T232051Z
URL:https://www.larevistadelapalma.com/events/a-serenade-with-the-ladies-o
 f-jazz-en-finca-la-principal/
SUMMARY:A Serenade With The Ladies Of Jazz\, en Finca La Principal
DESCRIPTION:\n No Winter Fest 2024. Un fesitval de invierno en el lugar de
  la eterna primavera.\nPrepárate para un día mágico donde el legado de 
 las grandes divas del jazz cobrará vida de la mano de la Atlantic Jazz La
 b Orchestra\, dirigida por Natanael Ramos\, y la increíble voz de Esther 
 Van Hees (BEL).\nEl programa incluye clásicos que abarcan desde el vertig
 inoso swing de Ella Fitzgerald hasta el tono melancólico de Diana Krall\,
  pasando por la sofisticación de Doris Day y la intensidad de Anita O’D
 ay. Piezas como “Too Darn Hot” de Fitzgerald\, “Love Me Or Leave Me
 ” de Day y “Caravan” en la interpretación de Fitzgerald y Duke Elli
 ngton ofrecen al público un recorrido por estilos y emociones que definen
  el jazz vocal femenino.\nA Serenade with the Ladies of Jazz no solo busca
  revivir estas interpretaciones clásicas\, sino también resaltar el pape
 l pionero de estas mujeres en la música. Con arreglos detallados y una in
 terpretación vocal que conecta profundamente con cada tema\, esta producc
 ión celebra la herencia musical de las grandes damas del jazz\, invitando
  al público a redescubrir el género en toda su riqueza y diversidad.\n\n
 \nDéjate llevar al corazón de los míticos clubes de jazz con clásicos 
 como:\n\n 	Too Darn Hot\n 	Cheek to Cheek\n 	 Shiny Stockings\n 	Love for
  Sale\n 	No Moon At All\n 	 ¡Y muchos más!\n\nGracias al apoyo de Turis
 mo de Islas Canarias y el Instituto Canario de Desarrollo Cultural\, vivir
 ás una experiencia única junto a 16 músicos en directo.\n\nMás informa
 ción y entradas  atlanticjazzlab.org\n\n
ATTACH;FMTTYPE=image/jpeg:https://www.larevistadelapalma.com/wp-content/up
 loads/2024/11/Atlantic-Jazz-Lab.png
CATEGORIES:Conciertos,Música
LOCATION:Finca La Principal\, Cam. del Aeropuerto\, Breña Alta\, 38710\, E
 spaña
GEO:28.675948;-17.785806
X-APPLE-STRUCTURED-LOCATION;VALUE=URI;X-ADDRESS=Cam. del Aeropuerto\, Breñ
 a Alta\, 38710\, España;X-APPLE-RADIUS=100;X-TITLE=Finca La Principal:geo
 :28.675948,-17.785806
END:VEVENT
END:VCALENDARBEGIN:VCALENDAR
VERSION:2.0
PRODID:-//wp-events-plugin.com//7.2.3.1//EN
TZID:Europe/London
X-WR-TIMEZONE:Europe/London
BEGIN:VEVENT
UID:3423@larevistadelapalma.com
DTSTART:20241208T110000Z
DTEND:20241208T130000Z
DTSTAMP:20241125T232051Z
URL:https://www.larevistadelapalma.com/events/a-serenade-with-the-ladies-o
 f-jazz-en-finca-la-principal/
SUMMARY:A Serenade With The Ladies Of Jazz\, en Finca La Principal
DESCRIPTION:\n No Winter Fest 2024. Un fesitval de invierno en el lugar de
  la eterna primavera.\nPrepárate para un día mágico donde el legado de 
 las grandes divas del jazz cobrará vida de la mano de la Atlantic Jazz La
 b Orchestra\, dirigida por Natanael Ramos\, y la increíble voz de Esther 
 Van Hees (BEL).\nEl programa incluye clásicos que abarcan desde el vertig
 inoso swing de Ella Fitzgerald hasta el tono melancólico de Diana Krall\,
  pasando por la sofisticación de Doris Day y la intensidad de Anita O’D
 ay. Piezas como “Too Darn Hot” de Fitzgerald\, “Love Me Or Leave Me
 ” de Day y “Caravan” en la interpretación de Fitzgerald y Duke Elli
 ngton ofrecen al público un recorrido por estilos y emociones que definen
  el jazz vocal femenino.\nA Serenade with the Ladies of Jazz no solo busca
  revivir estas interpretaciones clásicas\, sino también resaltar el pape
 l pionero de estas mujeres en la música. Con arreglos detallados y una in
 terpretación vocal que conecta profundamente con cada tema\, esta producc
 ión celebra la herencia musical de las grandes damas del jazz\, invitando
  al público a redescubrir el género en toda su riqueza y diversidad.\n\n
 \nDéjate llevar al corazón de los míticos clubes de jazz con clásicos 
 como:\n\n 	Too Darn Hot\n 	Cheek to Cheek\n 	 Shiny Stockings\n 	Love for
  Sale\n 	No Moon At All\n 	 ¡Y muchos más!\n\nGracias al apoyo de Turis
 mo de Islas Canarias y el Instituto Canario de Desarrollo Cultural\, vivir
 ás una experiencia única junto a 16 músicos en directo.\n\nMás informa
 ción y entradas  atlanticjazzlab.org\n\n
ATTACH;FMTTYPE=image/jpeg:https://www.larevistadelapalma.com/wp-content/up
 loads/2024/11/Atlantic-Jazz-Lab.png
CATEGORIES:Conciertos,Música
LOCATION:Finca La Principal\, Cam. del Aeropuerto\, Breña Alta\, 38710\, E
 spaña
GEO:28.675948;-17.785806
X-APPLE-STRUCTURED-LOCATION;VALUE=URI;X-ADDRESS=Cam. del Aeropuerto\, Breñ
 a Alta\, 38710\, España;X-APPLE-RADIUS=100;X-TITLE=Finca La Principal:geo
 :28.675948,-17.785806
END:VEVENT
END:VCALENDAR