BEGIN:VCALENDAR
VERSION:2.0
PRODID:-//wp-events-plugin.com//7.2.3.1//EN
TZID:Europe/London
X-WR-TIMEZONE:Europe/London
BEGIN:VEVENT
UID:3157@larevistadelapalma.com
DTSTART:20240822T190000Z
DTEND:20240822T203000Z
DTSTAMP:20240809T231742Z
URL:https://www.larevistadelapalma.com/events/a-taste-of-vaudeville/
SUMMARY: “A Taste of Vaudeville”\, el próximo espectáculo del ciclo 
 "La Tecla de la Capital"
DESCRIPTION:Prosigue el ciclo La Tecla de la Capital\, en Santa Cruz de La 
 Palma\, que durante el mes de agosto nos ofrecerá distintos espectáculos
  en plazas y rincones del municipio\, con el nexo común del piano como pr
 otagonista.\nUn programa diseñado por Ars Vita Gestión Cultural\, organi
 zado por el Ayuntamiento de Santa Cruz de La Palma y con el patrocinio del
  Cabildo Insular de La Palma\, Sodepal y el ICDC\, que nos propone cuatro 
 propuestas diferentes. Las primeras citas: LA TECLA DEL CORAZÓN con Ali 
 Wakhanda\, en la Plaza de La Candelaria\; y LA TECLA DEL MOVIMIENTO\, con 
 el espectáculo “Al son de la danza” de Ama Trío y Ainhoa Jiménez\, 
 en la Plaza del Tanquito.\nLa programación todavía nos guarda dos propu
 estas\, la siguiente será LA TECLA DE LA RISA\, “A Taste of Vaudevill
 e” con Thelmo Parole y Diego Charlo\, que tendrá lugar en la bonita Pla
 za del barrio de Velhoco.\nUn piano\, un espacio abierto y dos personajes
  antagónicos. Un payaso entusiasta y un músico indiferente. Un bastón\,
  un sombrero y una cuchara. Un tambor sin baquetas. Una pequeña maleta pa
 ra un gran final. Un duelo a muerte…Un juego sin reglas donde todo es po
 sible\; Un mundo donde la inocencia y la ingenuidad son una virtud. Un lug
 ar para disfrutar\, sentir y sonreír… donde pensar menos y amar más. U
 n momento donde perder la noción del tiempo\, y donde ese instante es lo 
 único que importa… Un punto donde la calle encuentra el circo y el teat
 ro encuentra la calle. Una actuación con todos y para todos. Thelmo Parol
 e y Diego Charlo conducen al público a su universo de música\, circo y c
 omedia. Un universo lleno de empatía y esperanza donde estos dos excéntr
 icos personajes habitan.\n “A Taste Of Vaudeville” es una humilde bús
 queda de la belleza\, la fantasía\, la poesía\, la risa… de la esencia
  de los pequeños momentos\; una invitación a una experiencia cálida y m
 ágica\, diseñada para soñar\, jugar y compartir. Thelmo and Diego\, en 
 un tributo a los clásicos\, intentan recrear su propio mundo de Vodevil. 
 Un espectáculo de comedia gestual con la emoción del circo\, el carácte
 r del teatro y la espontaneidad de la calle… Thelmo es magistralmente ac
 ompañado por la envolvente y emocionante música de Diego\, quien pone la
  perfecta intensidad y tiempo a cada nota y a cada situación\, aportando 
 al espectáculo un sabor fresco y romántico\; un sabor a nostalgia\, un s
 abor a Vodevil… \nUn espectáculo con el espíritu de los viejos tiempos
 \, cuando la comedia se centraba en el personaje\, en el gesto\, en la rea
 cción y en la intención… no tanto en hacer cosas divertidas sino en ha
 cer divertidas “situaciones cotidianas”….\nEl siguiente encuentro se
 rá\, LA TECLA DEL CINE\, con “El Gabinete del Doctor Caligari” (1920)
 \, con el acompañamiento musical de Fernando Felipe Martel\n
ATTACH;FMTTYPE=image/jpeg:https://www.larevistadelapalma.com/wp-content/up
 loads/2024/08/Thelmo-Parole-1.jpg
CATEGORIES:Espectáculos
LOCATION:Plaza de San Vicente Ferrer. Velhoco\, Velhoco \, 69\, Santa Cruz 
 de La Palma\, 38713\, España
GEO:28.689939;-17.78422
X-APPLE-STRUCTURED-LOCATION;VALUE=URI;X-ADDRESS=Velhoco \, 69\, Santa Cruz 
 de La Palma\, 38713\, España;X-APPLE-RADIUS=100;X-TITLE=Plaza de San Vice
 nte Ferrer. Velhoco:geo:28.689939,-17.78422
END:VEVENT
END:VCALENDARBEGIN:VCALENDAR
VERSION:2.0
PRODID:-//wp-events-plugin.com//7.2.3.1//EN
TZID:Europe/London
X-WR-TIMEZONE:Europe/London
BEGIN:VEVENT
UID:3157@larevistadelapalma.com
DTSTART:20240822T190000Z
DTEND:20240822T203000Z
DTSTAMP:20240809T231742Z
URL:https://www.larevistadelapalma.com/events/a-taste-of-vaudeville/
SUMMARY: “A Taste of Vaudeville”\, el próximo espectáculo del ciclo 
 "La Tecla de la Capital"
DESCRIPTION:Prosigue el ciclo La Tecla de la Capital\, en Santa Cruz de La 
 Palma\, que durante el mes de agosto nos ofrecerá distintos espectáculos
  en plazas y rincones del municipio\, con el nexo común del piano como pr
 otagonista.\nUn programa diseñado por Ars Vita Gestión Cultural\, organi
 zado por el Ayuntamiento de Santa Cruz de La Palma y con el patrocinio del
  Cabildo Insular de La Palma\, Sodepal y el ICDC\, que nos propone cuatro 
 propuestas diferentes. Las primeras citas: LA TECLA DEL CORAZÓN con Ali 
 Wakhanda\, en la Plaza de La Candelaria\; y LA TECLA DEL MOVIMIENTO\, con 
 el espectáculo “Al son de la danza” de Ama Trío y Ainhoa Jiménez\, 
 en la Plaza del Tanquito.\nLa programación todavía nos guarda dos propu
 estas\, la siguiente será LA TECLA DE LA RISA\, “A Taste of Vaudevill
 e” con Thelmo Parole y Diego Charlo\, que tendrá lugar en la bonita Pla
 za del barrio de Velhoco.\nUn piano\, un espacio abierto y dos personajes
  antagónicos. Un payaso entusiasta y un músico indiferente. Un bastón\,
  un sombrero y una cuchara. Un tambor sin baquetas. Una pequeña maleta pa
 ra un gran final. Un duelo a muerte…Un juego sin reglas donde todo es po
 sible\; Un mundo donde la inocencia y la ingenuidad son una virtud. Un lug
 ar para disfrutar\, sentir y sonreír… donde pensar menos y amar más. U
 n momento donde perder la noción del tiempo\, y donde ese instante es lo 
 único que importa… Un punto donde la calle encuentra el circo y el teat
 ro encuentra la calle. Una actuación con todos y para todos. Thelmo Parol
 e y Diego Charlo conducen al público a su universo de música\, circo y c
 omedia. Un universo lleno de empatía y esperanza donde estos dos excéntr
 icos personajes habitan.\n “A Taste Of Vaudeville” es una humilde bús
 queda de la belleza\, la fantasía\, la poesía\, la risa… de la esencia
  de los pequeños momentos\; una invitación a una experiencia cálida y m
 ágica\, diseñada para soñar\, jugar y compartir. Thelmo and Diego\, en 
 un tributo a los clásicos\, intentan recrear su propio mundo de Vodevil. 
 Un espectáculo de comedia gestual con la emoción del circo\, el carácte
 r del teatro y la espontaneidad de la calle… Thelmo es magistralmente ac
 ompañado por la envolvente y emocionante música de Diego\, quien pone la
  perfecta intensidad y tiempo a cada nota y a cada situación\, aportando 
 al espectáculo un sabor fresco y romántico\; un sabor a nostalgia\, un s
 abor a Vodevil… \nUn espectáculo con el espíritu de los viejos tiempos
 \, cuando la comedia se centraba en el personaje\, en el gesto\, en la rea
 cción y en la intención… no tanto en hacer cosas divertidas sino en ha
 cer divertidas “situaciones cotidianas”….\nEl siguiente encuentro se
 rá\, LA TECLA DEL CINE\, con “El Gabinete del Doctor Caligari” (1920)
 \, con el acompañamiento musical de Fernando Felipe Martel\n
ATTACH;FMTTYPE=image/jpeg:https://www.larevistadelapalma.com/wp-content/up
 loads/2024/08/Thelmo-Parole-1.jpg
CATEGORIES:Espectáculos
LOCATION:Plaza de San Vicente Ferrer. Velhoco\, Velhoco \, 69\, Santa Cruz 
 de La Palma\, 38713\, España
GEO:28.689939;-17.78422
X-APPLE-STRUCTURED-LOCATION;VALUE=URI;X-ADDRESS=Velhoco \, 69\, Santa Cruz 
 de La Palma\, 38713\, España;X-APPLE-RADIUS=100;X-TITLE=Plaza de San Vice
 nte Ferrer. Velhoco:geo:28.689939,-17.78422
END:VEVENT
END:VCALENDAR