BEGIN:VCALENDAR
VERSION:2.0
PRODID:-//wp-events-plugin.com//7.2.3.1//EN
TZID:Europe/London
X-WR-TIMEZONE:Europe/London
BEGIN:VEVENT
UID:912@larevistadelapalma.com
DTSTART:20231216T203000Z
DTEND:20231216T220000Z
DTSTAMP:20231208T010043Z
URL:https://www.larevistadelapalma.com/events/abba-the-new-experience-en-t
 azacorte/
SUMMARY:Tributo: ABBA The New Experience en Tazacorte
DESCRIPTION:Un tributo con el nivel y puesta en escena que el famoso grupo 
 sueco homenajeado requiere. Vuelven para hacernos viajar en el tiempo con 
 su nostálgico recopilatorio de canciones inolvidables e incombustibles.
ATTACH;FMTTYPE=image/jpeg:https://www.larevistadelapalma.com/wp-content/up
 loads/2023/12/Tributo-abba.jpg
CATEGORIES:Conciertos,Música
LOCATION:Plaza de España de Tazacorte\, plaza de España\, Tazacorte\, 387
 70\, España
GEO:28.644047;-17.933657
X-APPLE-STRUCTURED-LOCATION;VALUE=URI;X-ADDRESS=plaza de España\, Tazacort
 e\, 38770\, España;X-APPLE-RADIUS=100;X-TITLE=Plaza de España de Tazacor
 te:geo:28.644047,-17.933657
END:VEVENT
END:VCALENDARBEGIN:VCALENDAR
VERSION:2.0
PRODID:-//wp-events-plugin.com//7.2.3.1//EN
TZID:Europe/London
X-WR-TIMEZONE:Europe/London
BEGIN:VEVENT
UID:912@larevistadelapalma.com
DTSTART:20231216T203000Z
DTEND:20231216T220000Z
DTSTAMP:20231208T010043Z
URL:https://www.larevistadelapalma.com/events/abba-the-new-experience-en-t
 azacorte/
SUMMARY:Tributo: ABBA The New Experience en Tazacorte
DESCRIPTION:Un tributo con el nivel y puesta en escena que el famoso grupo 
 sueco homenajeado requiere. Vuelven para hacernos viajar en el tiempo con 
 su nostálgico recopilatorio de canciones inolvidables e incombustibles.
ATTACH;FMTTYPE=image/jpeg:https://www.larevistadelapalma.com/wp-content/up
 loads/2023/12/Tributo-abba.jpg
CATEGORIES:Conciertos,Música
LOCATION:Plaza de España de Tazacorte\, plaza de España\, Tazacorte\, 387
 70\, España
GEO:28.644047;-17.933657
X-APPLE-STRUCTURED-LOCATION;VALUE=URI;X-ADDRESS=plaza de España\, Tazacort
 e\, 38770\, España;X-APPLE-RADIUS=100;X-TITLE=Plaza de España de Tazacor
 te:geo:28.644047,-17.933657
END:VEVENT
END:VCALENDAR