BEGIN:VCALENDAR
VERSION:2.0
PRODID:-//wp-events-plugin.com//7.2.3.1//EN
TZID:Europe/London
X-WR-TIMEZONE:Europe/London
BEGIN:VEVENT
UID:2983@larevistadelapalma.com
DTSTART;VALUE=DATE:20241019
DTEND;VALUE=DATE:20241020
DTSTAMP:20240509T223207Z
URL:https://www.larevistadelapalma.com/events/abiertas-inscripciones-de-la
 -full-moon-trail-2024/
SUMMARY:Abiertas inscripciones de la Full Moon Trail 2024
DESCRIPTION:La FMT\, que forma parte de las K Series Canarias y del circuit
 o Open Trail La Palma\, es mucho más que una prueba\, pues no hay que olv
 idar que desde 2018 la decana de las carreras nocturnas de Canarias está
  acreditada como “Actividad deportiva Starlight”\, poniéndose de mani
 fiesto la labor que se realiza en beneficio del turismo de las estrellas\,
  además de posicionarse como un elemento movilizador de la difusión de l
 a astronomía y como herramienta generadora de una economía sostenible y 
 respetuosa con el entorno natural\, además de tratarse de un revulsivo ec
 onómico para el municipio. Por ello\, un año más se contará con un pro
 grama de actividades y jornadas de divulgación astronómica que se desarr
 ollará en Tijarafe los días previos a la celebración de la FMT.\n\n 	La
 s inscripciones a XII FULL MOON TRAIL 2024 finalizarán el lunes\, 14 de o
 ctubre de 2024 23:59h. (GMT) Canarias o al completar el cupo de plazas di
 sponibles.\n\nIncripciones &gt\;&gt\;
ATTACH;FMTTYPE=image/jpeg:https://www.larevistadelapalma.com/wp-content/up
 loads/2024/05/unnamed-scaled.jpg
CATEGORIES:Actividades deportivas,Otras propuestas
LOCATION:Municipio de Tijarafe\, Municipio de Tijarafe\, Tijarafe\, 38780\,
  España
GEO:28.711091;-17.956181
X-APPLE-STRUCTURED-LOCATION;VALUE=URI;X-ADDRESS=Municipio de Tijarafe\, Tij
 arafe\, 38780\, España;X-APPLE-RADIUS=100;X-TITLE=Municipio de Tijarafe:g
 eo:28.711091,-17.956181
END:VEVENT
END:VCALENDARBEGIN:VCALENDAR
VERSION:2.0
PRODID:-//wp-events-plugin.com//7.2.3.1//EN
TZID:Europe/London
X-WR-TIMEZONE:Europe/London
BEGIN:VEVENT
UID:2983@larevistadelapalma.com
DTSTART;VALUE=DATE:20241019
DTEND;VALUE=DATE:20241020
DTSTAMP:20240509T223207Z
URL:https://www.larevistadelapalma.com/events/abiertas-inscripciones-de-la
 -full-moon-trail-2024/
SUMMARY:Abiertas inscripciones de la Full Moon Trail 2024
DESCRIPTION:La FMT\, que forma parte de las K Series Canarias y del circuit
 o Open Trail La Palma\, es mucho más que una prueba\, pues no hay que olv
 idar que desde 2018 la decana de las carreras nocturnas de Canarias está
  acreditada como “Actividad deportiva Starlight”\, poniéndose de mani
 fiesto la labor que se realiza en beneficio del turismo de las estrellas\,
  además de posicionarse como un elemento movilizador de la difusión de l
 a astronomía y como herramienta generadora de una economía sostenible y 
 respetuosa con el entorno natural\, además de tratarse de un revulsivo ec
 onómico para el municipio. Por ello\, un año más se contará con un pro
 grama de actividades y jornadas de divulgación astronómica que se desarr
 ollará en Tijarafe los días previos a la celebración de la FMT.\n\n 	La
 s inscripciones a XII FULL MOON TRAIL 2024 finalizarán el lunes\, 14 de o
 ctubre de 2024 23:59h. (GMT) Canarias o al completar el cupo de plazas di
 sponibles.\n\nIncripciones &gt\;&gt\;
ATTACH;FMTTYPE=image/jpeg:https://www.larevistadelapalma.com/wp-content/up
 loads/2024/05/unnamed-scaled.jpg
CATEGORIES:Actividades deportivas,Otras propuestas
LOCATION:Municipio de Tijarafe\, Municipio de Tijarafe\, Tijarafe\, 38780\,
  España
GEO:28.711091;-17.956181
X-APPLE-STRUCTURED-LOCATION;VALUE=URI;X-ADDRESS=Municipio de Tijarafe\, Tij
 arafe\, 38780\, España;X-APPLE-RADIUS=100;X-TITLE=Municipio de Tijarafe:g
 eo:28.711091,-17.956181
END:VEVENT
END:VCALENDAR