BEGIN:VCALENDAR
VERSION:2.0
PRODID:-//wp-events-plugin.com//7.2.3.1//EN
TZID:Europe/London
X-WR-TIMEZONE:Europe/London
BEGIN:VEVENT
UID:3470@larevistadelapalma.com
DTSTART:20241212T190000Z
DTEND:20241212T203000Z
DTSTAMP:20241210T175927Z
URL:https://www.larevistadelapalma.com/events/abra-canarias-cultural-organ
 iza-el-recital-vuela-alto-poesia/
SUMMARY:Abra Canarias Cultural organiza el recital: Vuela alto\, poesía
DESCRIPTION:\n\n\n\n\n\nAbra Canarias Cultural  en su afán por acercar la
  literatura al público y hacerle un espacio entre los ajetreos y responsa
 bilidades diarias\, regresa con una nueva edición del recital de poesía 
 Vuela Alto\, que alcanza su quinta edición. Será una noche muy bonita\, 
 llena de música y poesía.\n\n\nEste año les acompañarán los poetas An
 drés Morales (Chile)\, Lidice Megla (Canadá)\, Margarita Otero Solloso (
 Galicia/Gran Canaria)\, Domingo Acosta Felipe (La Palma) y Ricardo Hernán
 dez Bravo (La Palma).\n\n\n\n\n\n\n\n\n\n\n\n\n\n\n\nEl evento estará ame
 nizado por el Dúo Entre cuerdas: Carlos Martín (guitarra]) y Raúl Berm
 údez (violín).\n\n\nAndrés Morales (Santiago de Chile\, 1962) Poeta\, i
 nvestigador\, ensayista y traductor. Licenciado y Doctor en Filosofía y L
 etras en Literatura. Ha publicado más de treinta y cinco libros. Algunos 
 de ellos traducidos al inglés\, francés\, portugués\, rumano\, italiano
 \, alemán y croata. Ha recibido diversos premios en Chile\, Argentina\, F
 rancia y España.\n\nLidice Megla (Cuba\, 1968) es poeta y traductora. Ha 
 publicado varios poemarios y es ganadora de concursos internacionales de p
 oesía. Nominada Woman of Influence Nanaimo (WIN) 2024\, en la categoría 
 de arte y cultura. Miembro de la Asociación de Traductores Literarios de 
 Canadá\, La Asociación de Traductores e Intérpretes de Columbia Britán
 ica\, La Liga de Poetas Canadienses y la Federación de Escritores de Colu
 mbia Británica. Vive en Nanaimo\, Isla de Vancouver\, en los territorios 
 no cedidos de los pueblos tradicionales Snuneymuxw.\nMargarita Otero Sollo
 so (Galicia/Gran Canaria) De Pseudónimo artístico Marotsy. Gallega de O
 rigen y canaria de corazón pues reside en Las Palmas desde 1983. Diplomad
 a en Enfermería por la ULPGC y en Paleografía y Diplomática por la U
 NED. Escribe desde los doce años. Ganadora del II Certamen de Poesía en 
 red "Versos para vivir" de la Asociación de Escritores Canarios ACTE. Dos
  veces semifinalista en el Certamen nacional de Poesía viva de El Corte I
 nglés 2019 y 2020. 3ª Finalista del Certamen Luis Natera 2020.  2º pre
 mio público en el I Certamen de Hiperbreves de Cueva de Unicornios\, 2020
 . 3º premio en el II Certamen de Hiperbreves de Cueva de Unicornios\, 202
 1. Poemas y textos suyos han sido seleccionados y publicados en varias ant
 ologías locales\, nacionales e internacionales como La Habana Convida\, 
 ed. Primigenios (2019)\, Antología 2020 de NACE\, ed. Plutonio\, Verso
 s en el aire VII\, Luz de Luna III\, Poetas Nocturnos III y Versos desde e
 l corazón III de la ed. Diversidad Literaria\, La Flor Herida\, ed. Begi
 nbooks\, Escritos a Padrón y +de 100 Escritos a Padrón...\n\n\nDomingo 
 Acosta Felipe:  "Nací en Santa Cruz de La Palma en 1957. De vez en cuand
 o escribo. Tengo cinco poemarios publicados: El mar de Nadie\, Aguere-Idea
 \, 2011\, Grito\, NACE\, 2015\, Ramas del tiempo\, NACE\, La voz del barro
 \, Aguere-Idea\, 2019 y Memoria de unas olas\, Aguere-Idea\, 2023. Algunos
  de mis poemas han sido publicados o traducidos en diversas revistas y ant
 ologías de España y otros países. Lo demás\, es tiempo y vida\, esa pe
 renne lucha en el desastre."\n\nRicardo Hernández Bravo (El Paso\, Isla d
 e La Palma\, 1966) es licenciado en Filología Hispánica y profesor de Le
 ngua y Literatura en enseñanza secundaria. Tiene editados los libros de p
 oesía El ojo entornado (1996)\, En el idioma de los delfines (Premio “J
 ulio Tovar”\, 1996) (1997)\, la antología El aire del origen [Poemas 19
 90-2002] (2003)\, Los posos de la sed (2014)\, La piedra habitada (2017\; 
 reeditado con fotografías de Coriolano González Montañez en 2023)\, Pau
 sa para anuncios (2019)\, Papi\, no se puede pagar sin aliento (2021) y do
 s poemarios en colaboración con pintores: La tierra desigual (2005)\, con
  Hugo Pitti\, y Alas de metal (2008)\, con Graciela Janet. Asimismo es aut
 or de dos libros en prosa: Siete cuentos (1997) y Vivir sobre el volcán (
 2022). Figura en diferentes antologías poéticas. Poemas suyos han sido t
 raducidos al alemán y su libro Pausa para anuncios al francés: Pause ré
 clames (Éditions L’Harmattan\, 2022).\nEstá organizado por la Concejal
 ía de Cultura de Breña Alta y la asociación Abra Canarias Cultural.\n\n
 \n\n\n\n\n\n\n\n
ATTACH;FMTTYPE=image/jpeg:https://www.larevistadelapalma.com/wp-content/up
 loads/2024/12/Recital-poesia-Abra.jpg
CATEGORIES:Cine y Literatura,Literatura
LOCATION:Parque de Los Álamos\, Bodegón Los Alamos\, Breña Alta\, 38710\
 , España
GEO:28.667222;-17.787778
X-APPLE-STRUCTURED-LOCATION;VALUE=URI;X-ADDRESS=Bodegón Los Alamos\, Breñ
 a Alta\, 38710\, España;X-APPLE-RADIUS=100;X-TITLE=Parque de Los Álamos:
 geo:28.667222,-17.787778
END:VEVENT
END:VCALENDARBEGIN:VCALENDAR
VERSION:2.0
PRODID:-//wp-events-plugin.com//7.2.3.1//EN
TZID:Europe/London
X-WR-TIMEZONE:Europe/London
BEGIN:VEVENT
UID:3470@larevistadelapalma.com
DTSTART:20241212T190000Z
DTEND:20241212T203000Z
DTSTAMP:20241210T175927Z
URL:https://www.larevistadelapalma.com/events/abra-canarias-cultural-organ
 iza-el-recital-vuela-alto-poesia/
SUMMARY:Abra Canarias Cultural organiza el recital: Vuela alto\, poesía
DESCRIPTION:\n\n\n\n\n\nAbra Canarias Cultural  en su afán por acercar la
  literatura al público y hacerle un espacio entre los ajetreos y responsa
 bilidades diarias\, regresa con una nueva edición del recital de poesía 
 Vuela Alto\, que alcanza su quinta edición. Será una noche muy bonita\, 
 llena de música y poesía.\n\n\nEste año les acompañarán los poetas An
 drés Morales (Chile)\, Lidice Megla (Canadá)\, Margarita Otero Solloso (
 Galicia/Gran Canaria)\, Domingo Acosta Felipe (La Palma) y Ricardo Hernán
 dez Bravo (La Palma).\n\n\n\n\n\n\n\n\n\n\n\n\n\n\n\nEl evento estará ame
 nizado por el Dúo Entre cuerdas: Carlos Martín (guitarra]) y Raúl Berm
 údez (violín).\n\n\nAndrés Morales (Santiago de Chile\, 1962) Poeta\, i
 nvestigador\, ensayista y traductor. Licenciado y Doctor en Filosofía y L
 etras en Literatura. Ha publicado más de treinta y cinco libros. Algunos 
 de ellos traducidos al inglés\, francés\, portugués\, rumano\, italiano
 \, alemán y croata. Ha recibido diversos premios en Chile\, Argentina\, F
 rancia y España.\n\nLidice Megla (Cuba\, 1968) es poeta y traductora. Ha 
 publicado varios poemarios y es ganadora de concursos internacionales de p
 oesía. Nominada Woman of Influence Nanaimo (WIN) 2024\, en la categoría 
 de arte y cultura. Miembro de la Asociación de Traductores Literarios de 
 Canadá\, La Asociación de Traductores e Intérpretes de Columbia Britán
 ica\, La Liga de Poetas Canadienses y la Federación de Escritores de Colu
 mbia Británica. Vive en Nanaimo\, Isla de Vancouver\, en los territorios 
 no cedidos de los pueblos tradicionales Snuneymuxw.\nMargarita Otero Sollo
 so (Galicia/Gran Canaria) De Pseudónimo artístico Marotsy. Gallega de O
 rigen y canaria de corazón pues reside en Las Palmas desde 1983. Diplomad
 a en Enfermería por la ULPGC y en Paleografía y Diplomática por la U
 NED. Escribe desde los doce años. Ganadora del II Certamen de Poesía en 
 red "Versos para vivir" de la Asociación de Escritores Canarios ACTE. Dos
  veces semifinalista en el Certamen nacional de Poesía viva de El Corte I
 nglés 2019 y 2020. 3ª Finalista del Certamen Luis Natera 2020.  2º pre
 mio público en el I Certamen de Hiperbreves de Cueva de Unicornios\, 2020
 . 3º premio en el II Certamen de Hiperbreves de Cueva de Unicornios\, 202
 1. Poemas y textos suyos han sido seleccionados y publicados en varias ant
 ologías locales\, nacionales e internacionales como La Habana Convida\, 
 ed. Primigenios (2019)\, Antología 2020 de NACE\, ed. Plutonio\, Verso
 s en el aire VII\, Luz de Luna III\, Poetas Nocturnos III y Versos desde e
 l corazón III de la ed. Diversidad Literaria\, La Flor Herida\, ed. Begi
 nbooks\, Escritos a Padrón y +de 100 Escritos a Padrón...\n\n\nDomingo 
 Acosta Felipe:  "Nací en Santa Cruz de La Palma en 1957. De vez en cuand
 o escribo. Tengo cinco poemarios publicados: El mar de Nadie\, Aguere-Idea
 \, 2011\, Grito\, NACE\, 2015\, Ramas del tiempo\, NACE\, La voz del barro
 \, Aguere-Idea\, 2019 y Memoria de unas olas\, Aguere-Idea\, 2023. Algunos
  de mis poemas han sido publicados o traducidos en diversas revistas y ant
 ologías de España y otros países. Lo demás\, es tiempo y vida\, esa pe
 renne lucha en el desastre."\n\nRicardo Hernández Bravo (El Paso\, Isla d
 e La Palma\, 1966) es licenciado en Filología Hispánica y profesor de Le
 ngua y Literatura en enseñanza secundaria. Tiene editados los libros de p
 oesía El ojo entornado (1996)\, En el idioma de los delfines (Premio “J
 ulio Tovar”\, 1996) (1997)\, la antología El aire del origen [Poemas 19
 90-2002] (2003)\, Los posos de la sed (2014)\, La piedra habitada (2017\; 
 reeditado con fotografías de Coriolano González Montañez en 2023)\, Pau
 sa para anuncios (2019)\, Papi\, no se puede pagar sin aliento (2021) y do
 s poemarios en colaboración con pintores: La tierra desigual (2005)\, con
  Hugo Pitti\, y Alas de metal (2008)\, con Graciela Janet. Asimismo es aut
 or de dos libros en prosa: Siete cuentos (1997) y Vivir sobre el volcán (
 2022). Figura en diferentes antologías poéticas. Poemas suyos han sido t
 raducidos al alemán y su libro Pausa para anuncios al francés: Pause ré
 clames (Éditions L’Harmattan\, 2022).\nEstá organizado por la Concejal
 ía de Cultura de Breña Alta y la asociación Abra Canarias Cultural.\n\n
 \n\n\n\n\n\n\n\n
ATTACH;FMTTYPE=image/jpeg:https://www.larevistadelapalma.com/wp-content/up
 loads/2024/12/Recital-poesia-Abra.jpg
CATEGORIES:Cine y Literatura,Literatura
LOCATION:Parque de Los Álamos\, Bodegón Los Alamos\, Breña Alta\, 38710\
 , España
GEO:28.667222;-17.787778
X-APPLE-STRUCTURED-LOCATION;VALUE=URI;X-ADDRESS=Bodegón Los Alamos\, Breñ
 a Alta\, 38710\, España;X-APPLE-RADIUS=100;X-TITLE=Parque de Los Álamos:
 geo:28.667222,-17.787778
END:VEVENT
END:VCALENDAR