BEGIN:VCALENDAR
VERSION:2.0
PRODID:-//wp-events-plugin.com//7.2.3.1//EN
TZID:Europe/London
X-WR-TIMEZONE:Europe/London
BEGIN:VEVENT
UID:2948@larevistadelapalma.com
DTSTART:20240427T180000Z
DTEND:20240427T225900Z
DTSTAMP:20240422T130742Z
URL:https://www.larevistadelapalma.com/events/actuacion-de-complicesy-trib
 uto-a-cold-play-en-brena-alta/
SUMMARY:Actuación de Cómplices y tributo a Cold Play en Breña Alta
DESCRIPTION:El próximo sábado\, 27 de abril\, dentro del concierto de "Lo
 s 40 Classic"\, El Parque de Los Álamos congrega las actuaciones de Cómp
 lices\, y uno de los mejores tributos dedicados al prestigioso grupo music
 al al grupo Cold Play\, con "Cold Day".\n\nCómplices\, no necesita presen
 tación. Uno de los grupos clásicos de la escena musical en España\, hoy
  en día siguen siendo una de las bandas de su generación más escuchadas
  en Spotify con casi 1 millón de oyentes mensuales. Terra es el nuevo á
 lbum de Cómplices. Creado y grabado desde el principio de la pandemia ha
 sta hace pocos meses.\n\nCold Day nació en el año 2012\, fruto de la uni
 ón de cuatro músicos que querían dar un homenaje honesto y fiel a la ba
 nda británica Coldplay. La banda proviene de Barcelona. El repertorio vie
 ne configurado por un sinfín de grandes temas clásicos de toda la discog
 rafía de Coldplay\, desde su primer trabajo “Parachutes”.\n\nTe esper
 an Con Jorge Sánchez\, desde las 19:00 horas.
ATTACH;FMTTYPE=image/jpeg:https://www.larevistadelapalma.com/wp-content/up
 loads/2024/04/cold-play-Tributo.jpg
CATEGORIES:Conciertos,Música
LOCATION:Parque de Los Álamos\, Bodegón Los Alamos\, Breña Alta\, 38710\
 , España
GEO:28.667222;-17.787778
X-APPLE-STRUCTURED-LOCATION;VALUE=URI;X-ADDRESS=Bodegón Los Alamos\, Breñ
 a Alta\, 38710\, España;X-APPLE-RADIUS=100;X-TITLE=Parque de Los Álamos:
 geo:28.667222,-17.787778
END:VEVENT
END:VCALENDARBEGIN:VCALENDAR
VERSION:2.0
PRODID:-//wp-events-plugin.com//7.2.3.1//EN
TZID:Europe/London
X-WR-TIMEZONE:Europe/London
BEGIN:VEVENT
UID:2948@larevistadelapalma.com
DTSTART:20240427T180000Z
DTEND:20240427T225900Z
DTSTAMP:20240422T130742Z
URL:https://www.larevistadelapalma.com/events/actuacion-de-complicesy-trib
 uto-a-cold-play-en-brena-alta/
SUMMARY:Actuación de Cómplices y tributo a Cold Play en Breña Alta
DESCRIPTION:El próximo sábado\, 27 de abril\, dentro del concierto de "Lo
 s 40 Classic"\, El Parque de Los Álamos congrega las actuaciones de Cómp
 lices\, y uno de los mejores tributos dedicados al prestigioso grupo music
 al al grupo Cold Play\, con "Cold Day".\n\nCómplices\, no necesita presen
 tación. Uno de los grupos clásicos de la escena musical en España\, hoy
  en día siguen siendo una de las bandas de su generación más escuchadas
  en Spotify con casi 1 millón de oyentes mensuales. Terra es el nuevo á
 lbum de Cómplices. Creado y grabado desde el principio de la pandemia ha
 sta hace pocos meses.\n\nCold Day nació en el año 2012\, fruto de la uni
 ón de cuatro músicos que querían dar un homenaje honesto y fiel a la ba
 nda británica Coldplay. La banda proviene de Barcelona. El repertorio vie
 ne configurado por un sinfín de grandes temas clásicos de toda la discog
 rafía de Coldplay\, desde su primer trabajo “Parachutes”.\n\nTe esper
 an Con Jorge Sánchez\, desde las 19:00 horas.
ATTACH;FMTTYPE=image/jpeg:https://www.larevistadelapalma.com/wp-content/up
 loads/2024/04/cold-play-Tributo.jpg
CATEGORIES:Conciertos,Música
LOCATION:Parque de Los Álamos\, Bodegón Los Alamos\, Breña Alta\, 38710\
 , España
GEO:28.667222;-17.787778
X-APPLE-STRUCTURED-LOCATION;VALUE=URI;X-ADDRESS=Bodegón Los Alamos\, Breñ
 a Alta\, 38710\, España;X-APPLE-RADIUS=100;X-TITLE=Parque de Los Álamos:
 geo:28.667222,-17.787778
END:VEVENT
END:VCALENDAR