BEGIN:VCALENDAR
VERSION:2.0
PRODID:-//wp-events-plugin.com//7.2.3.1//EN
TZID:Europe/London
X-WR-TIMEZONE:Europe/London
BEGIN:VEVENT
UID:739@larevistadelapalma.com
DTSTART;VALUE=DATE:20231007
DTEND;VALUE=DATE:20231008
DTSTAMP:20231005T214439Z
URL:https://www.larevistadelapalma.com/events/actuacion-de-miss-music-band
 -en-la-alameda/
SUMMARY:Actuación de Miss Music Band en La Alameda
DESCRIPTION:No hace mucho que nos visitaron\, en septiembre los tuvimos por
  la Isla en la Feria Gastrorock de Tazacorte. Vuelven para animar otro eve
 nto gastronómico\, "Cultura sobre la mesa"\, que se desarrollará de 12 a
  18 horas en la Plaza de La Alameda de Santa Cruz de La Palma.\n\nMiss Mus
 ic Band es una banda afincada en Tenerife\, con la voz de la italiana Ben
 edetta Di Cicco (Benny) al frente\, ofrece versiones pop y rock de los añ
 os 70 y 80.\n\n¡A bailar!\n\n\n\n&nbsp\;\n\n\n\n\n\n\n\n\n\n\nVer esta pu
 blicación en Instagram\n\n\n\n\n\n\n\n\n\n\n\n\n\n\n\n\n\n\n\n\n\n\n&nbsp
 \;\nUna publicación compartida de MISS (@miss_music_band)\n\n\n
ATTACH;FMTTYPE=image/jpeg:https://www.larevistadelapalma.com/wp-content/up
 loads/2023/10/Miss-Concierto-La-Palma-1.jpg
CATEGORIES:Conciertos,Música
LOCATION:Plaza de La Alameda\, Plaza de La Alameda\, Santa Cruz de La Palma
 \, 38700\, España
GEO:28.688148;-17.761123
X-APPLE-STRUCTURED-LOCATION;VALUE=URI;X-ADDRESS=Plaza de La Alameda\, Santa
  Cruz de La Palma\, 38700\, España;X-APPLE-RADIUS=100;X-TITLE=Plaza de La
  Alameda:geo:28.688148,-17.761123
END:VEVENT
END:VCALENDARBEGIN:VCALENDAR
VERSION:2.0
PRODID:-//wp-events-plugin.com//7.2.3.1//EN
TZID:Europe/London
X-WR-TIMEZONE:Europe/London
BEGIN:VEVENT
UID:739@larevistadelapalma.com
DTSTART;VALUE=DATE:20231007
DTEND;VALUE=DATE:20231008
DTSTAMP:20231005T214439Z
URL:https://www.larevistadelapalma.com/events/actuacion-de-miss-music-band
 -en-la-alameda/
SUMMARY:Actuación de Miss Music Band en La Alameda
DESCRIPTION:No hace mucho que nos visitaron\, en septiembre los tuvimos por
  la Isla en la Feria Gastrorock de Tazacorte. Vuelven para animar otro eve
 nto gastronómico\, "Cultura sobre la mesa"\, que se desarrollará de 12 a
  18 horas en la Plaza de La Alameda de Santa Cruz de La Palma.\n\nMiss Mus
 ic Band es una banda afincada en Tenerife\, con la voz de la italiana Ben
 edetta Di Cicco (Benny) al frente\, ofrece versiones pop y rock de los añ
 os 70 y 80.\n\n¡A bailar!\n\n\n\n&nbsp\;\n\n\n\n\n\n\n\n\n\n\nVer esta pu
 blicación en Instagram\n\n\n\n\n\n\n\n\n\n\n\n\n\n\n\n\n\n\n\n\n\n\n&nbsp
 \;\nUna publicación compartida de MISS (@miss_music_band)\n\n\n
ATTACH;FMTTYPE=image/jpeg:https://www.larevistadelapalma.com/wp-content/up
 loads/2023/10/Miss-Concierto-La-Palma-1.jpg
CATEGORIES:Conciertos,Música
LOCATION:Plaza de La Alameda\, Plaza de La Alameda\, Santa Cruz de La Palma
 \, 38700\, España
GEO:28.688148;-17.761123
X-APPLE-STRUCTURED-LOCATION;VALUE=URI;X-ADDRESS=Plaza de La Alameda\, Santa
  Cruz de La Palma\, 38700\, España;X-APPLE-RADIUS=100;X-TITLE=Plaza de La
  Alameda:geo:28.688148,-17.761123
END:VEVENT
END:VCALENDAR