BEGIN:VCALENDAR
VERSION:2.0
PRODID:-//wp-events-plugin.com//7.2.3.1//EN
TZID:Europe/London
X-WR-TIMEZONE:Europe/London
BEGIN:VEVENT
UID:4458@larevistadelapalma.com
DTSTART:20260115T180000Z
DTEND:20260115T193000Z
DTSTAMP:20260108T204129Z
URL:https://www.larevistadelapalma.com/events/actuacion-del-cantautor-tija
 rafero-casia-melian/
SUMMARY:Actuación del cantautor tijarafero Casia Melián
DESCRIPTION:\nMúsica en la biblio con Casia Melián:\nEl cantautor tijaraf
 ero Casia Melián compartirá su repertorio de canciones nacidas de la vid
 a\, la búsqueda del equilibrio y la naturaleza de nuestra tierra.\n\n\n\n
 \n
ATTACH;FMTTYPE=image/jpeg:https://www.larevistadelapalma.com/wp-content/up
 loads/2026/01/01-15-Casa-Melian.jpg
CATEGORIES:Conciertos,Música
LOCATION:Biblioteca Municipal de Tijarafe\, C. Real\, 4\, Tijarafe\, 38780\
 , España
GEO:28.710961;-17.955715
X-APPLE-STRUCTURED-LOCATION;VALUE=URI;X-ADDRESS=C. Real\, 4\, Tijarafe\, 38
 780\, España;X-APPLE-RADIUS=100;X-TITLE=Biblioteca Municipal de Tijarafe:
 geo:28.710961,-17.955715
END:VEVENT
END:VCALENDARBEGIN:VCALENDAR
VERSION:2.0
PRODID:-//wp-events-plugin.com//7.2.3.1//EN
TZID:Europe/London
X-WR-TIMEZONE:Europe/London
BEGIN:VEVENT
UID:4458@larevistadelapalma.com
DTSTART:20260115T180000Z
DTEND:20260115T193000Z
DTSTAMP:20260108T204129Z
URL:https://www.larevistadelapalma.com/events/actuacion-del-cantautor-tija
 rafero-casia-melian/
SUMMARY:Actuación del cantautor tijarafero Casia Melián
DESCRIPTION:\nMúsica en la biblio con Casia Melián:\nEl cantautor tijaraf
 ero Casia Melián compartirá su repertorio de canciones nacidas de la vid
 a\, la búsqueda del equilibrio y la naturaleza de nuestra tierra.\n\n\n\n
 \n
ATTACH;FMTTYPE=image/jpeg:https://www.larevistadelapalma.com/wp-content/up
 loads/2026/01/01-15-Casa-Melian.jpg
CATEGORIES:Conciertos,Música
LOCATION:Biblioteca Municipal de Tijarafe\, C. Real\, 4\, Tijarafe\, 38780\
 , España
GEO:28.710961;-17.955715
X-APPLE-STRUCTURED-LOCATION;VALUE=URI;X-ADDRESS=C. Real\, 4\, Tijarafe\, 38
 780\, España;X-APPLE-RADIUS=100;X-TITLE=Biblioteca Municipal de Tijarafe:
 geo:28.710961,-17.955715
END:VEVENT
END:VCALENDAR