BEGIN:VCALENDAR
VERSION:2.0
PRODID:-//wp-events-plugin.com//7.2.3.1//EN
TZID:Europe/London
X-WR-TIMEZONE:Europe/London
BEGIN:VEVENT
UID:3301@larevistadelapalma.com
DTSTART:20241018T193000Z
DTEND:20241018T210000Z
DTSTAMP:20240928T214105Z
URL:https://www.larevistadelapalma.com/events/adversos-en-concierto-en-la-
 casa-del-conde/
SUMMARY:Adversos en concierto en la Casa del Conde
DESCRIPTION:Adversos\, formado por Pedro Padrón\, creador y compositor de 
 sonidos que abarcan desde la canción de autor\, el jazz\, la Bossa o el f
 olk\, y por María Padrón\, una de las voces femeninas más destacadas de
  la isla.\n\nEl concierto tendrá dos partes\, la primera con versiones de
  clásicos de boleros\, samba\, jazz... y una segunda parte con temas prop
 ios.\nMás info y entradas &gt\;&gt\;\n*Imagen: Concierto en el Bar Centra
 l El Paso (Ars Vita. Gestión Cultural)
ATTACH;FMTTYPE=image/jpeg:https://www.larevistadelapalma.com/wp-content/up
 loads/2024/09/Adversos-Imagen-concierto-Bar-Central-Foto-Ars-Vita-Gestion-
 CUltural.jpg
CATEGORIES:Conciertos,Música
LOCATION:Casa del Conde\, Los Llanos de Aridane\, C/San Antonio\, 35 - Llan
 o de Argual\, Los Llanos de Aridane\, 38760\, España
GEO:28.655333;-17.926641
X-APPLE-STRUCTURED-LOCATION;VALUE=URI;X-ADDRESS=C/San Antonio\, 35 - Llano 
 de Argual\, Los Llanos de Aridane\, 38760\, España;X-APPLE-RADIUS=100;X-T
 ITLE=Casa del Conde\, Los Llanos de Aridane:geo:28.655333,-17.926641
END:VEVENT
END:VCALENDARBEGIN:VCALENDAR
VERSION:2.0
PRODID:-//wp-events-plugin.com//7.2.3.1//EN
TZID:Europe/London
X-WR-TIMEZONE:Europe/London
BEGIN:VEVENT
UID:3301@larevistadelapalma.com
DTSTART:20241018T193000Z
DTEND:20241018T210000Z
DTSTAMP:20240928T214105Z
URL:https://www.larevistadelapalma.com/events/adversos-en-concierto-en-la-
 casa-del-conde/
SUMMARY:Adversos en concierto en la Casa del Conde
DESCRIPTION:Adversos\, formado por Pedro Padrón\, creador y compositor de 
 sonidos que abarcan desde la canción de autor\, el jazz\, la Bossa o el f
 olk\, y por María Padrón\, una de las voces femeninas más destacadas de
  la isla.\n\nEl concierto tendrá dos partes\, la primera con versiones de
  clásicos de boleros\, samba\, jazz... y una segunda parte con temas prop
 ios.\nMás info y entradas &gt\;&gt\;\n*Imagen: Concierto en el Bar Centra
 l El Paso (Ars Vita. Gestión Cultural)
ATTACH;FMTTYPE=image/jpeg:https://www.larevistadelapalma.com/wp-content/up
 loads/2024/09/Adversos-Imagen-concierto-Bar-Central-Foto-Ars-Vita-Gestion-
 CUltural.jpg
CATEGORIES:Conciertos,Música
LOCATION:Casa del Conde\, Los Llanos de Aridane\, C/San Antonio\, 35 - Llan
 o de Argual\, Los Llanos de Aridane\, 38760\, España
GEO:28.655333;-17.926641
X-APPLE-STRUCTURED-LOCATION;VALUE=URI;X-ADDRESS=C/San Antonio\, 35 - Llano 
 de Argual\, Los Llanos de Aridane\, 38760\, España;X-APPLE-RADIUS=100;X-T
 ITLE=Casa del Conde\, Los Llanos de Aridane:geo:28.655333,-17.926641
END:VEVENT
END:VCALENDAR