BEGIN:VCALENDAR
VERSION:2.0
PRODID:-//wp-events-plugin.com//7.2.3.1//EN
TZID:Europe/London
X-WR-TIMEZONE:Europe/London
BEGIN:VEVENT
UID:4437@larevistadelapalma.com
DTSTART:20251226T190000Z
DTEND:20251226T203000Z
DTSTAMP:20251223T200358Z
URL:https://www.larevistadelapalma.com/events/adversos-los-llanos/
SUMMARY:Concierto de Adversos en Los Llanos de Aridane
DESCRIPTION:Concierto de hora y media en el que la primera parte lo forman 
 temas versionados de las influencias que han moldeado el estilo de Adverso
 s (desde el bolero al jazz pasando por la trova y las influencia del rock 
 europeo).\n\nLa segunda parte está compuesta por temas originales de Adve
 rsos. El formato es de banda con músicos de la talla de Abel Cordovez a l
 os teclados\, voces y arreglos\, Koen Leon al bajo y Miguel Valdés a la b
 atería y percusión. Se invitarán a artistas locales para colaboración.
ATTACH;FMTTYPE=image/jpeg:https://www.larevistadelapalma.com/wp-content/up
 loads/2025/12/26-DICIEMBRE-Adversos.jpg
CATEGORIES:Conciertos,Música
LOCATION:Plaza de España en Los Llanos de Aridane\, Plaza de España\, Los
  Llanos de Aridane\, 38760\, España
GEO:28.658934;-17.913174
X-APPLE-STRUCTURED-LOCATION;VALUE=URI;X-ADDRESS=Plaza de España\, Los Llan
 os de Aridane\, 38760\, España;X-APPLE-RADIUS=100;X-TITLE=Plaza de Españ
 a en Los Llanos de Aridane:geo:28.658934,-17.913174
END:VEVENT
END:VCALENDARBEGIN:VCALENDAR
VERSION:2.0
PRODID:-//wp-events-plugin.com//7.2.3.1//EN
TZID:Europe/London
X-WR-TIMEZONE:Europe/London
BEGIN:VEVENT
UID:4437@larevistadelapalma.com
DTSTART:20251226T190000Z
DTEND:20251226T203000Z
DTSTAMP:20251223T200358Z
URL:https://www.larevistadelapalma.com/events/adversos-los-llanos/
SUMMARY:Concierto de Adversos en Los Llanos de Aridane
DESCRIPTION:Concierto de hora y media en el que la primera parte lo forman 
 temas versionados de las influencias que han moldeado el estilo de Adverso
 s (desde el bolero al jazz pasando por la trova y las influencia del rock 
 europeo).\n\nLa segunda parte está compuesta por temas originales de Adve
 rsos. El formato es de banda con músicos de la talla de Abel Cordovez a l
 os teclados\, voces y arreglos\, Koen Leon al bajo y Miguel Valdés a la b
 atería y percusión. Se invitarán a artistas locales para colaboración.
ATTACH;FMTTYPE=image/jpeg:https://www.larevistadelapalma.com/wp-content/up
 loads/2025/12/26-DICIEMBRE-Adversos.jpg
CATEGORIES:Conciertos,Música
LOCATION:Plaza de España en Los Llanos de Aridane\, Plaza de España\, Los
  Llanos de Aridane\, 38760\, España
GEO:28.658934;-17.913174
X-APPLE-STRUCTURED-LOCATION;VALUE=URI;X-ADDRESS=Plaza de España\, Los Llan
 os de Aridane\, 38760\, España;X-APPLE-RADIUS=100;X-TITLE=Plaza de Españ
 a en Los Llanos de Aridane:geo:28.658934,-17.913174
END:VEVENT
END:VCALENDAR