BEGIN:VCALENDAR
VERSION:2.0
PRODID:-//wp-events-plugin.com//7.2.3.1//EN
TZID:Europe/London
X-WR-TIMEZONE:Europe/London
BEGIN:VEVENT
UID:2860@larevistadelapalma.com
DTSTART:20240421T110000Z
DTEND:20240421T123000Z
DTSTAMP:20240326T132140Z
URL:https://www.larevistadelapalma.com/events/aire-larumbe-danza/
SUMMARY:"Aire" un espectáculo de Larumbe Danza
DESCRIPTION:AIRE es la última obra de la trilogía que Larumbe Danza ha de
 dicado a la sensibilización medioambiental\, después de los premios y é
 xitos internacionales de sus predecesoras\, Ballenas\, historias de gigant
 es (agua) y Ensueños del Bosque (tierra).\n\nUna fábula de compromiso co
 n el bienestar de uno de nuestros bienes universales contada desde la dest
 reza de las bailarinas protagonistas y la magia de las proyecciones en 3D.
 \nComprar entradas &gt\;&gt\;\nAIRE\, por muy extraño que te parezca\, tr
 anscurre en un ascensor.\nUn buen día\, dos vecinas\, dos personas que a 
 penas se conocen\, al bajar a la calle desde sus pisos en un edificio muy 
 alto de una gran ciudad\, se encuentra en el ascensor el cual se queda blo
 queado inesperadamente. Frente a esta situación\, a la convivencia forzad
 a en un ambiente muy pequeño\, frente a la preocupación\, la incertidumb
 re y poco a poco\, la conciencia de un aire cada vez más enrarecido\, las
  dos se ayudan primero a tranquilizarse inspirando y expirando el aire\, p
 rimero de manera apresurada pero paulatinamente de manera mas calmada\, ma
 s relajada y profunda.\nYa más tranquilas van abriendo sus mentes y\, com
 o si siguiesen al aire que se escapa por las pequeñas aperturas del ascen
 sor\, emprenden un viaje en el que volarán\, jugarán y que les llevará 
 desde la estratosfera a los bosques\, desde los lagos y mares hasta la gra
 n ciudad donde el aire está entristecido y contaminado\, al igual que las
  personas\, que en ella habitan\, aunque la mayor parte no lo saben  o no
  son conscientes\, sobre todo porque no tienen tiempo\, ni tan siquiera pa
 ra saber si son felices.\nSin embargo\, de esta aventura\, de este viaje 
 real o no\, de esta experiencia extraña\, nuestras protagonistas saldrá
 n cambiadas\, con las ideas de cómo vivir la vida\, mucho más claras que
  antes de subirse al ascensor.
ATTACH;FMTTYPE=image/jpeg:https://www.larevistadelapalma.com/wp-content/up
 loads/2024/03/Aire-2.jpg
CATEGORIES:Danza,Espectáculos
LOCATION:Teatro Circo de Marte\, Calle Virgen de La Luz\, 5\, Santa Cruz de
  La Palma\, 38700\, España
GEO:28.682989;-17.765755
X-APPLE-STRUCTURED-LOCATION;VALUE=URI;X-ADDRESS=Calle Virgen de La Luz\, 5\
 , Santa Cruz de La Palma\, 38700\, España;X-APPLE-RADIUS=100;X-TITLE=Teat
 ro Circo de Marte:geo:28.682989,-17.765755
END:VEVENT
END:VCALENDARBEGIN:VCALENDAR
VERSION:2.0
PRODID:-//wp-events-plugin.com//7.2.3.1//EN
TZID:Europe/London
X-WR-TIMEZONE:Europe/London
BEGIN:VEVENT
UID:2860@larevistadelapalma.com
DTSTART:20240421T110000Z
DTEND:20240421T123000Z
DTSTAMP:20240326T132140Z
URL:https://www.larevistadelapalma.com/events/aire-larumbe-danza/
SUMMARY:"Aire" un espectáculo de Larumbe Danza
DESCRIPTION:AIRE es la última obra de la trilogía que Larumbe Danza ha de
 dicado a la sensibilización medioambiental\, después de los premios y é
 xitos internacionales de sus predecesoras\, Ballenas\, historias de gigant
 es (agua) y Ensueños del Bosque (tierra).\n\nUna fábula de compromiso co
 n el bienestar de uno de nuestros bienes universales contada desde la dest
 reza de las bailarinas protagonistas y la magia de las proyecciones en 3D.
 \nComprar entradas &gt\;&gt\;\nAIRE\, por muy extraño que te parezca\, tr
 anscurre en un ascensor.\nUn buen día\, dos vecinas\, dos personas que a 
 penas se conocen\, al bajar a la calle desde sus pisos en un edificio muy 
 alto de una gran ciudad\, se encuentra en el ascensor el cual se queda blo
 queado inesperadamente. Frente a esta situación\, a la convivencia forzad
 a en un ambiente muy pequeño\, frente a la preocupación\, la incertidumb
 re y poco a poco\, la conciencia de un aire cada vez más enrarecido\, las
  dos se ayudan primero a tranquilizarse inspirando y expirando el aire\, p
 rimero de manera apresurada pero paulatinamente de manera mas calmada\, ma
 s relajada y profunda.\nYa más tranquilas van abriendo sus mentes y\, com
 o si siguiesen al aire que se escapa por las pequeñas aperturas del ascen
 sor\, emprenden un viaje en el que volarán\, jugarán y que les llevará 
 desde la estratosfera a los bosques\, desde los lagos y mares hasta la gra
 n ciudad donde el aire está entristecido y contaminado\, al igual que las
  personas\, que en ella habitan\, aunque la mayor parte no lo saben  o no
  son conscientes\, sobre todo porque no tienen tiempo\, ni tan siquiera pa
 ra saber si son felices.\nSin embargo\, de esta aventura\, de este viaje 
 real o no\, de esta experiencia extraña\, nuestras protagonistas saldrá
 n cambiadas\, con las ideas de cómo vivir la vida\, mucho más claras que
  antes de subirse al ascensor.
ATTACH;FMTTYPE=image/jpeg:https://www.larevistadelapalma.com/wp-content/up
 loads/2024/03/Aire-2.jpg
CATEGORIES:Danza,Espectáculos
LOCATION:Teatro Circo de Marte\, Calle Virgen de La Luz\, 5\, Santa Cruz de
  La Palma\, 38700\, España
GEO:28.682989;-17.765755
X-APPLE-STRUCTURED-LOCATION;VALUE=URI;X-ADDRESS=Calle Virgen de La Luz\, 5\
 , Santa Cruz de La Palma\, 38700\, España;X-APPLE-RADIUS=100;X-TITLE=Teat
 ro Circo de Marte:geo:28.682989,-17.765755
END:VEVENT
END:VCALENDAR