BEGIN:VCALENDAR
VERSION:2.0
PRODID:-//wp-events-plugin.com//7.2.3.1//EN
TZID:Europe/London
X-WR-TIMEZONE:Europe/London
BEGIN:VEVENT
UID:4407@larevistadelapalma.com
DTSTART:20260104T190000Z
DTEND:20260104T203000Z
DTSTAMP:20251217T212833Z
URL:https://www.larevistadelapalma.com/events/al-cielo-concierto-acustico-
 flavia-cruz-tazacorte/
SUMMARY:“Al Cielo”: Concierto en acústico de Flavia Cruz en Tazacorte
DESCRIPTION:Concierto Acústico a la Luz de las Velas.\n\nFlavia Cruz prese
 nta su concierto en acústico “Al Cielo” en la Plaza de la Vica\,(Plaz
 a Simón Guadalupe) Tazacorte.\n\nFlavia Cruz es una cantautora palmera qu
 e ha ido construyendo su camino entre la sensibilidad y la fuerza de su vo
 z. En diciembre de 2024 publicó su primer álbum\, "Al Cielo"\, un proyec
 to íntimo que recoge vivencias\, búsquedas y cicatrices transformadas en
  música.
ATTACH;FMTTYPE=image/jpeg:https://www.larevistadelapalma.com/wp-content/up
 loads/2025/12/Navidad-25-Flavia-Cartel-1.png
CATEGORIES:Conciertos,Música
LOCATION:Municipio de Tazacorte\, Villa y Puerto de Tazacorte\, Tazacorte\,
  38770\, España
GEO:28.642917;-17.936888
X-APPLE-STRUCTURED-LOCATION;VALUE=URI;X-ADDRESS=Villa y Puerto de Tazacorte
 \, Tazacorte\, 38770\, España;X-APPLE-RADIUS=100;X-TITLE=Municipio de Taz
 acorte:geo:28.642917,-17.936888
END:VEVENT
END:VCALENDARBEGIN:VCALENDAR
VERSION:2.0
PRODID:-//wp-events-plugin.com//7.2.3.1//EN
TZID:Europe/London
X-WR-TIMEZONE:Europe/London
BEGIN:VEVENT
UID:4407@larevistadelapalma.com
DTSTART:20260104T190000Z
DTEND:20260104T203000Z
DTSTAMP:20251217T212833Z
URL:https://www.larevistadelapalma.com/events/al-cielo-concierto-acustico-
 flavia-cruz-tazacorte/
SUMMARY:“Al Cielo”: Concierto en acústico de Flavia Cruz en Tazacorte
DESCRIPTION:Concierto Acústico a la Luz de las Velas.\n\nFlavia Cruz prese
 nta su concierto en acústico “Al Cielo” en la Plaza de la Vica\,(Plaz
 a Simón Guadalupe) Tazacorte.\n\nFlavia Cruz es una cantautora palmera qu
 e ha ido construyendo su camino entre la sensibilidad y la fuerza de su vo
 z. En diciembre de 2024 publicó su primer álbum\, "Al Cielo"\, un proyec
 to íntimo que recoge vivencias\, búsquedas y cicatrices transformadas en
  música.
ATTACH;FMTTYPE=image/jpeg:https://www.larevistadelapalma.com/wp-content/up
 loads/2025/12/Navidad-25-Flavia-Cartel-1.png
CATEGORIES:Conciertos,Música
LOCATION:Municipio de Tazacorte\, Villa y Puerto de Tazacorte\, Tazacorte\,
  38770\, España
GEO:28.642917;-17.936888
X-APPLE-STRUCTURED-LOCATION;VALUE=URI;X-ADDRESS=Villa y Puerto de Tazacorte
 \, Tazacorte\, 38770\, España;X-APPLE-RADIUS=100;X-TITLE=Municipio de Taz
 acorte:geo:28.642917,-17.936888
END:VEVENT
END:VCALENDAR