BEGIN:VCALENDAR
VERSION:2.0
PRODID:-//wp-events-plugin.com//7.2.3.1//EN
TZID:Europe/London
X-WR-TIMEZONE:Europe/London
BEGIN:VEVENT
UID:2802@larevistadelapalma.com
DTSTART:20240321T193000Z
DTEND:20240321T210000Z
DTSTAMP:20240222T174916Z
URL:https://www.larevistadelapalma.com/events/albert-vila-trio/
SUMMARY:Albert Vila Trio en concierto en el Teatro Circo de Marte
DESCRIPTION:\nHasta la fecha\, Albert Vila ha grabado e interpretado compos
 iciones propias en formaciones más amplias\, como cuartetos o quintetos. 
 Esta vez\, ha querido explorar sus habilidades compositivas e interpretati
 vas en un conjunto más reducido\, respaldado por el gran contrabajista Do
 ug Weiss y el batería Rudy Royston.\n\n\nEl formato de trío de guitarra 
 puede ser minimalista\, delicado\, incluso un reto\, especialmente en un 
 álbum de casi una hora de duración. Sin embargo\, Weiss y Royston hacen 
 un excelente trabajo mezclando estilos\, texturas y capturando una amplia 
 paleta tonal\, en la cual las individualidades están al servicio de la to
 talidad.\n\nPara un músico ecléctico y reflexivo como Albert Vila\, crea
 r un lenguaje coherente significa un intenso proceso de búsqueda personal
 . Como explica Vila: "me inspiró mucho el uso de la polifonía que hacen 
 algunos pianistas clásicos y de jazz\, y quise llevar algo de ese univers
 o a la forma de trío de guitarra". Reality is Nuance es el séptimo álbu
 m de Albert Vila como líder\, y lleva inequívocamente a su nuevo trío a
  una zona en la que todo sus elementos forman una sola unidad.\nComprar en
 tradas &gt\;&gt\;\nEn taquilla de lunes a viernes de 11 a 13 h.\nhttps://w
 ww.youtube.com/watch?v=d9dSKX2yrJE\n\n
ATTACH;FMTTYPE=image/jpeg:https://www.larevistadelapalma.com/wp-content/up
 loads/2024/02/Albert-Vila-Trio-concierto.jpg
CATEGORIES:Conciertos,Música
LOCATION:Teatro Circo de Marte\, Calle Virgen de La Luz\, 5\, Santa Cruz de
  La Palma\, 38700\, España
GEO:28.682989;-17.765755
X-APPLE-STRUCTURED-LOCATION;VALUE=URI;X-ADDRESS=Calle Virgen de La Luz\, 5\
 , Santa Cruz de La Palma\, 38700\, España;X-APPLE-RADIUS=100;X-TITLE=Teat
 ro Circo de Marte:geo:28.682989,-17.765755
END:VEVENT
END:VCALENDARBEGIN:VCALENDAR
VERSION:2.0
PRODID:-//wp-events-plugin.com//7.2.3.1//EN
TZID:Europe/London
X-WR-TIMEZONE:Europe/London
BEGIN:VEVENT
UID:2802@larevistadelapalma.com
DTSTART:20240321T193000Z
DTEND:20240321T210000Z
DTSTAMP:20240222T174916Z
URL:https://www.larevistadelapalma.com/events/albert-vila-trio/
SUMMARY:Albert Vila Trio en concierto en el Teatro Circo de Marte
DESCRIPTION:\nHasta la fecha\, Albert Vila ha grabado e interpretado compos
 iciones propias en formaciones más amplias\, como cuartetos o quintetos. 
 Esta vez\, ha querido explorar sus habilidades compositivas e interpretati
 vas en un conjunto más reducido\, respaldado por el gran contrabajista Do
 ug Weiss y el batería Rudy Royston.\n\n\nEl formato de trío de guitarra 
 puede ser minimalista\, delicado\, incluso un reto\, especialmente en un 
 álbum de casi una hora de duración. Sin embargo\, Weiss y Royston hacen 
 un excelente trabajo mezclando estilos\, texturas y capturando una amplia 
 paleta tonal\, en la cual las individualidades están al servicio de la to
 talidad.\n\nPara un músico ecléctico y reflexivo como Albert Vila\, crea
 r un lenguaje coherente significa un intenso proceso de búsqueda personal
 . Como explica Vila: "me inspiró mucho el uso de la polifonía que hacen 
 algunos pianistas clásicos y de jazz\, y quise llevar algo de ese univers
 o a la forma de trío de guitarra". Reality is Nuance es el séptimo álbu
 m de Albert Vila como líder\, y lleva inequívocamente a su nuevo trío a
  una zona en la que todo sus elementos forman una sola unidad.\nComprar en
 tradas &gt\;&gt\;\nEn taquilla de lunes a viernes de 11 a 13 h.\nhttps://w
 ww.youtube.com/watch?v=d9dSKX2yrJE\n\n
ATTACH;FMTTYPE=image/jpeg:https://www.larevistadelapalma.com/wp-content/up
 loads/2024/02/Albert-Vila-Trio-concierto.jpg
CATEGORIES:Conciertos,Música
LOCATION:Teatro Circo de Marte\, Calle Virgen de La Luz\, 5\, Santa Cruz de
  La Palma\, 38700\, España
GEO:28.682989;-17.765755
X-APPLE-STRUCTURED-LOCATION;VALUE=URI;X-ADDRESS=Calle Virgen de La Luz\, 5\
 , Santa Cruz de La Palma\, 38700\, España;X-APPLE-RADIUS=100;X-TITLE=Teat
 ro Circo de Marte:geo:28.682989,-17.765755
END:VEVENT
END:VCALENDAR