BEGIN:VCALENDAR
VERSION:2.0
PRODID:-//wp-events-plugin.com//7.2.3.1//EN
TZID:Europe/London
X-WR-TIMEZONE:Europe/London
BEGIN:VEVENT
UID:3089@larevistadelapalma.com
DTSTART:20240706T180000Z
DTEND:20240706T193000Z
DTSTAMP:20240703T203504Z
URL:https://www.larevistadelapalma.com/events/alberto-rodriguez-en-el-cicl
 o-de-musica-clasica-de-la-casa-del-conde/
SUMMARY:Alberto Rodríguez en el Ciclo de Música Clásica de la Casa del C
 onde
DESCRIPTION:La guitarra clásica del joven palmero Alberto Rodríguez será
  el siguiente encuentro que nos ofrece la agenda de la Casa del Conde\, en
  Argual.\nMás info y entradas &gt\;&gt\;
ATTACH;FMTTYPE=image/jpeg:https://www.larevistadelapalma.com/wp-content/up
 loads/2024/07/Alberto-Rodriguez.jpg
CATEGORIES:Conciertos,Música
LOCATION:Casa del Conde\, Los Llanos de Aridane\, C/San Antonio\, 35 - Llan
 o de Argual\, Los Llanos de Aridane\, 38760\, España
GEO:28.655333;-17.926641
X-APPLE-STRUCTURED-LOCATION;VALUE=URI;X-ADDRESS=C/San Antonio\, 35 - Llano 
 de Argual\, Los Llanos de Aridane\, 38760\, España;X-APPLE-RADIUS=100;X-T
 ITLE=Casa del Conde\, Los Llanos de Aridane:geo:28.655333,-17.926641
END:VEVENT
END:VCALENDARBEGIN:VCALENDAR
VERSION:2.0
PRODID:-//wp-events-plugin.com//7.2.3.1//EN
TZID:Europe/London
X-WR-TIMEZONE:Europe/London
BEGIN:VEVENT
UID:3089@larevistadelapalma.com
DTSTART:20240706T180000Z
DTEND:20240706T193000Z
DTSTAMP:20240703T203504Z
URL:https://www.larevistadelapalma.com/events/alberto-rodriguez-en-el-cicl
 o-de-musica-clasica-de-la-casa-del-conde/
SUMMARY:Alberto Rodríguez en el Ciclo de Música Clásica de la Casa del C
 onde
DESCRIPTION:La guitarra clásica del joven palmero Alberto Rodríguez será
  el siguiente encuentro que nos ofrece la agenda de la Casa del Conde\, en
  Argual.\nMás info y entradas &gt\;&gt\;
ATTACH;FMTTYPE=image/jpeg:https://www.larevistadelapalma.com/wp-content/up
 loads/2024/07/Alberto-Rodriguez.jpg
CATEGORIES:Conciertos,Música
LOCATION:Casa del Conde\, Los Llanos de Aridane\, C/San Antonio\, 35 - Llan
 o de Argual\, Los Llanos de Aridane\, 38760\, España
GEO:28.655333;-17.926641
X-APPLE-STRUCTURED-LOCATION;VALUE=URI;X-ADDRESS=C/San Antonio\, 35 - Llano 
 de Argual\, Los Llanos de Aridane\, 38760\, España;X-APPLE-RADIUS=100;X-T
 ITLE=Casa del Conde\, Los Llanos de Aridane:geo:28.655333,-17.926641
END:VEVENT
END:VCALENDAR