BEGIN:VCALENDAR
VERSION:2.0
PRODID:-//wp-events-plugin.com//7.2.3.1//EN
TZID:Europe/London
X-WR-TIMEZONE:Europe/London
BEGIN:VEVENT
UID:4103@larevistadelapalma.com
DTSTART:20251214T110000Z
DTEND:20251214T123000Z
DTSTAMP:20251213T123816Z
URL:https://www.larevistadelapalma.com/events/alicia-en-el-pais-de-las-mar
 avillas/
SUMMARY:APLAZADO - Alicia en el País de Las Maravillas
DESCRIPTION:\n 	Se está valorando una nueva fecha.\n\nAlicia en el País d
 e las Maravillas de Zálatta Teatro es una adaptación del cuento origi
 nal que incluye canciones originales creadas especialmente para este mon
 taje\, dirigido a niños entre 3 y 7 años.\n\nA través de esta propuest
 a escénica\, se busca educar en valores como el juego compartido\, la p
 untualidad\, el orden\, y la animación a la lectura\, ofreciendo una ex
 periencia divertida\, creativa y llena de aprendizaje.\nComprar entradas&g
 t\;&gt\;
ATTACH;FMTTYPE=image/jpeg:https://www.larevistadelapalma.com/wp-content/up
 loads/2025/12/Alicia-en-el-pais-de-las-maravillas.webp
CATEGORIES:Espectáculos,Teatro
LOCATION:Teatro Circo de Marte\, Calle Virgen de La Luz\, 5\, Santa Cruz de
  La Palma\, 38700\, España
GEO:28.682989;-17.765755
X-APPLE-STRUCTURED-LOCATION;VALUE=URI;X-ADDRESS=Calle Virgen de La Luz\, 5\
 , Santa Cruz de La Palma\, 38700\, España;X-APPLE-RADIUS=100;X-TITLE=Teat
 ro Circo de Marte:geo:28.682989,-17.765755
END:VEVENT
END:VCALENDARBEGIN:VCALENDAR
VERSION:2.0
PRODID:-//wp-events-plugin.com//7.2.3.1//EN
TZID:Europe/London
X-WR-TIMEZONE:Europe/London
BEGIN:VEVENT
UID:4103@larevistadelapalma.com
DTSTART:20251214T110000Z
DTEND:20251214T123000Z
DTSTAMP:20251213T123816Z
URL:https://www.larevistadelapalma.com/events/alicia-en-el-pais-de-las-mar
 avillas/
SUMMARY:APLAZADO - Alicia en el País de Las Maravillas
DESCRIPTION:\n 	Se está valorando una nueva fecha.\n\nAlicia en el País d
 e las Maravillas de Zálatta Teatro es una adaptación del cuento origi
 nal que incluye canciones originales creadas especialmente para este mon
 taje\, dirigido a niños entre 3 y 7 años.\n\nA través de esta propuest
 a escénica\, se busca educar en valores como el juego compartido\, la p
 untualidad\, el orden\, y la animación a la lectura\, ofreciendo una ex
 periencia divertida\, creativa y llena de aprendizaje.\nComprar entradas&g
 t\;&gt\;
ATTACH;FMTTYPE=image/jpeg:https://www.larevistadelapalma.com/wp-content/up
 loads/2025/12/Alicia-en-el-pais-de-las-maravillas.webp
CATEGORIES:Espectáculos,Teatro
LOCATION:Teatro Circo de Marte\, Calle Virgen de La Luz\, 5\, Santa Cruz de
  La Palma\, 38700\, España
GEO:28.682989;-17.765755
X-APPLE-STRUCTURED-LOCATION;VALUE=URI;X-ADDRESS=Calle Virgen de La Luz\, 5\
 , Santa Cruz de La Palma\, 38700\, España;X-APPLE-RADIUS=100;X-TITLE=Teat
 ro Circo de Marte:geo:28.682989,-17.765755
END:VEVENT
END:VCALENDAR