BEGIN:VCALENDAR
VERSION:2.0
PRODID:-//wp-events-plugin.com//7.2.3.1//EN
TZID:Europe/London
X-WR-TIMEZONE:Europe/London
BEGIN:VEVENT
UID:3605@larevistadelapalma.com
DTSTART;VALUE=DATE:20250212
DTEND;VALUE=DATE:20250301
DTSTAMP:20250220T213313Z
URL:https://www.larevistadelapalma.com/events/alma-indiana-exposicion-de-j
 orge-monterrey-en-la-sala-odaly/
SUMMARY:"Alma Indiana": Exposición de Jorge Monterrey en la Sala O'Daly
DESCRIPTION:El pintor palmero Jorge Monterrey expone\, hasta finales de feb
 rero\, su colección de acuarelas en la Sala O'Daly de Santa Cruz de La Pa
 lma.\n\n \n\n&nbsp\;
ATTACH;FMTTYPE=image/jpeg:https://www.larevistadelapalma.com/wp-content/up
 loads/2025/02/Jorge-MOnterrey-1.jpg
CATEGORIES:Exposiciones
LOCATION:Sala O'Daly\, C. O'Daly\, 2\, \, Santa Cruz de La Palma \, 38700\,
  España
GEO:28.68306;-17.765032
X-APPLE-STRUCTURED-LOCATION;VALUE=URI;X-ADDRESS=C. O'Daly\, 2\, \, Santa Cr
 uz de La Palma \, 38700\, España;X-APPLE-RADIUS=100;X-TITLE=Sala O'Daly:g
 eo:28.68306,-17.765032
END:VEVENT
END:VCALENDARBEGIN:VCALENDAR
VERSION:2.0
PRODID:-//wp-events-plugin.com//7.2.3.1//EN
TZID:Europe/London
X-WR-TIMEZONE:Europe/London
BEGIN:VEVENT
UID:3605@larevistadelapalma.com
DTSTART;VALUE=DATE:20250212
DTEND;VALUE=DATE:20250301
DTSTAMP:20250220T213313Z
URL:https://www.larevistadelapalma.com/events/alma-indiana-exposicion-de-j
 orge-monterrey-en-la-sala-odaly/
SUMMARY:"Alma Indiana": Exposición de Jorge Monterrey en la Sala O'Daly
DESCRIPTION:El pintor palmero Jorge Monterrey expone\, hasta finales de feb
 rero\, su colección de acuarelas en la Sala O'Daly de Santa Cruz de La Pa
 lma.\n\n \n\n&nbsp\;
ATTACH;FMTTYPE=image/jpeg:https://www.larevistadelapalma.com/wp-content/up
 loads/2025/02/Jorge-MOnterrey-1.jpg
CATEGORIES:Exposiciones
LOCATION:Sala O'Daly\, C. O'Daly\, 2\, \, Santa Cruz de La Palma \, 38700\,
  España
GEO:28.68306;-17.765032
X-APPLE-STRUCTURED-LOCATION;VALUE=URI;X-ADDRESS=C. O'Daly\, 2\, \, Santa Cr
 uz de La Palma \, 38700\, España;X-APPLE-RADIUS=100;X-TITLE=Sala O'Daly:g
 eo:28.68306,-17.765032
END:VEVENT
END:VCALENDAR