BEGIN:VCALENDAR
VERSION:2.0
PRODID:-//wp-events-plugin.com//7.2.3.1//EN
TZID:Europe/London
X-WR-TIMEZONE:Europe/London
BEGIN:VEVENT
UID:4031@larevistadelapalma.com
DTSTART:20251031T190000Z
DTEND:20251031T203000Z
DTSTAMP:20251020T102124Z
URL:https://www.larevistadelapalma.com/events/almas-en-penumbra-espectacul
 o-musical-en-tijarafe/
SUMMARY:"Almas en penumbra": espectáculo musical en Tijarafe
DESCRIPTION:Una obra musicalizada\, con banda de músicos en directo.\n\nLa
  historia de los Solís se pierde en el eco de los años\, en una vida opr
 imida por la mano misma de la muerte. Los hermanos Rosario y Guillermo\, n
 os cuentan cantando\, la triste historia de su familia.\n\nCon las voces d
 e Miriam Cruz Díaz como Rosario Solís y David de Jorge como Guillermo So
 lís.\n\n\n\n&nbsp\;\n\n\n\n\n\n\n\n\n\n\nVer esta publicación en Instagr
 am\n\n\n\n\n\n\n\n\n\n\n\n\n\n\n\n\n\n\n\n\n\n\n&nbsp\;\nUna publicación 
 compartida de AR·t Creative Studio (@ar.t_creativestudio)\n\n\n
ATTACH;FMTTYPE=image/jpeg:https://www.larevistadelapalma.com/wp-content/up
 loads/2025/10/Almas-en-penumbra.jpg
CATEGORIES:Espectáculos
LOCATION:Oficina de información turística de Tijarafe\, Calle Real\, 11\,
  Tijarafe\, 38780 \, España
GEO:28.710798;-17.955469
X-APPLE-STRUCTURED-LOCATION;VALUE=URI;X-ADDRESS=Calle Real\, 11\, Tijarafe\
 , 38780 \, España;X-APPLE-RADIUS=100;X-TITLE=Oficina de información tur
 ística de Tijarafe:geo:28.710798,-17.955469
END:VEVENT
END:VCALENDARBEGIN:VCALENDAR
VERSION:2.0
PRODID:-//wp-events-plugin.com//7.2.3.1//EN
TZID:Europe/London
X-WR-TIMEZONE:Europe/London
BEGIN:VEVENT
UID:4031@larevistadelapalma.com
DTSTART:20251031T190000Z
DTEND:20251031T203000Z
DTSTAMP:20251020T102124Z
URL:https://www.larevistadelapalma.com/events/almas-en-penumbra-espectacul
 o-musical-en-tijarafe/
SUMMARY:"Almas en penumbra": espectáculo musical en Tijarafe
DESCRIPTION:Una obra musicalizada\, con banda de músicos en directo.\n\nLa
  historia de los Solís se pierde en el eco de los años\, en una vida opr
 imida por la mano misma de la muerte. Los hermanos Rosario y Guillermo\, n
 os cuentan cantando\, la triste historia de su familia.\n\nCon las voces d
 e Miriam Cruz Díaz como Rosario Solís y David de Jorge como Guillermo So
 lís.\n\n\n\n&nbsp\;\n\n\n\n\n\n\n\n\n\n\nVer esta publicación en Instagr
 am\n\n\n\n\n\n\n\n\n\n\n\n\n\n\n\n\n\n\n\n\n\n\n&nbsp\;\nUna publicación 
 compartida de AR·t Creative Studio (@ar.t_creativestudio)\n\n\n
ATTACH;FMTTYPE=image/jpeg:https://www.larevistadelapalma.com/wp-content/up
 loads/2025/10/Almas-en-penumbra.jpg
CATEGORIES:Espectáculos
LOCATION:Oficina de información turística de Tijarafe\, Calle Real\, 11\,
  Tijarafe\, 38780 \, España
GEO:28.710798;-17.955469
X-APPLE-STRUCTURED-LOCATION;VALUE=URI;X-ADDRESS=Calle Real\, 11\, Tijarafe\
 , 38780 \, España;X-APPLE-RADIUS=100;X-TITLE=Oficina de información tur
 ística de Tijarafe:geo:28.710798,-17.955469
END:VEVENT
END:VCALENDAR