BEGIN:VCALENDAR
VERSION:2.0
PRODID:-//wp-events-plugin.com//7.2.3.1//EN
TZID:Europe/London
X-WR-TIMEZONE:Europe/London
BEGIN:VEVENT
UID:3517@larevistadelapalma.com
DTSTART:20241220T190000Z
DTEND:20241220T223000Z
DTSTAMP:20241217T180018Z
URL:https://www.larevistadelapalma.com/events/amako-en-el-lunatico-el-paso
 /
SUMMARY:Amakó en el LunÁtico\, El Paso
DESCRIPTION:Un dúo sorprendente con voz\, guitarra\, percusión\, flauta\,
  bajo e incluso didgeridoo\, Amakó nos invita de nuevo a una noche de mel
 odías y ritmos internacionales\, una mezcla de estilos para todos los gus
 tos. ¡En el LunÁtico!
ATTACH;FMTTYPE=image/jpeg:https://www.larevistadelapalma.com/wp-content/up
 loads/2024/12/Lunatico-amako.jpg
CATEGORIES:Conciertos,Música
LOCATION:Sala Lunático\, El Paso\, Calle Manuel Taño 9\, El Paso\, 38750\
 , España
GEO:28.651734;-17.879603
X-APPLE-STRUCTURED-LOCATION;VALUE=URI;X-ADDRESS=Calle Manuel Taño 9\, El P
 aso\, 38750\, España;X-APPLE-RADIUS=100;X-TITLE=Sala Lunático\, El Paso:
 geo:28.651734,-17.879603
END:VEVENT
END:VCALENDARBEGIN:VCALENDAR
VERSION:2.0
PRODID:-//wp-events-plugin.com//7.2.3.1//EN
TZID:Europe/London
X-WR-TIMEZONE:Europe/London
BEGIN:VEVENT
UID:3517@larevistadelapalma.com
DTSTART:20241220T190000Z
DTEND:20241220T223000Z
DTSTAMP:20241217T180018Z
URL:https://www.larevistadelapalma.com/events/amako-en-el-lunatico-el-paso
 /
SUMMARY:Amakó en el LunÁtico\, El Paso
DESCRIPTION:Un dúo sorprendente con voz\, guitarra\, percusión\, flauta\,
  bajo e incluso didgeridoo\, Amakó nos invita de nuevo a una noche de mel
 odías y ritmos internacionales\, una mezcla de estilos para todos los gus
 tos. ¡En el LunÁtico!
ATTACH;FMTTYPE=image/jpeg:https://www.larevistadelapalma.com/wp-content/up
 loads/2024/12/Lunatico-amako.jpg
CATEGORIES:Conciertos,Música
LOCATION:Sala Lunático\, El Paso\, Calle Manuel Taño 9\, El Paso\, 38750\
 , España
GEO:28.651734;-17.879603
X-APPLE-STRUCTURED-LOCATION;VALUE=URI;X-ADDRESS=Calle Manuel Taño 9\, El P
 aso\, 38750\, España;X-APPLE-RADIUS=100;X-TITLE=Sala Lunático\, El Paso:
 geo:28.651734,-17.879603
END:VEVENT
END:VCALENDAR