BEGIN:VCALENDAR
VERSION:2.0
PRODID:-//wp-events-plugin.com//7.2.3.1//EN
TZID:Europe/London
X-WR-TIMEZONE:Europe/London
BEGIN:VEVENT
UID:3604@larevistadelapalma.com
DTSTART:20250626T200000Z
DTEND:20250626T213000Z
DTSTAMP:20250624T224402Z
URL:https://www.larevistadelapalma.com/events/ana-belen-gira-mas-d-ana-baj
 ada-de-la-palma-2025/
SUMMARY:Ana Belén - Gira "Más D Ana" | La Palma 2025
DESCRIPTION:La Bajada de la Virgen de las Nieves de La Palma 2025 contar
 á con la gran Ana Belén como parte de la programación que se desarrol
 lará en esta edición tan especial al no haberse podido celebrar en 2020.
  La artista española es una referente de la música y el cine español y 
 llegará a la isla bonita con su elegancia y su potente trayectoria artís
 tica.\nComprar entradas &gt\;&gt\;\nCon décadas de éxitos\, Ana Belén h
 a conquistado al público con temas inolvidables como ‘Lía’ o ‘Derr
 oche’\, y su versatilidad sobre los escenarios sigue siendo un sello dis
 tintivo.\n\nAna Belén\, cantautora galardona con un Grammy Latino a la Ex
 celencia Musical\, ha destacado en el ámbito artístico por su polivalenc
 ia y su capacidad de reinventarse a lo largo de los años. Su nueva gira\,
  ‘Más D Ana’ comienza el 26 de abril en Roquetas del Mar\, que la lle
 vará a 19 ciudades españolas\, entre las que estará Santa Cruz de la Pa
 lma\, donde repasará sus grandes éxitos y presentará nuevos temas de su
  próximo álbum.\n\n\n\nPara ver los conciertos de La Bajada visita nuest
 ra sección música o pincha aquí&gt\;&gt\;
ATTACH;FMTTYPE=image/jpeg:https://www.larevistadelapalma.com/wp-content/up
 loads/2025/02/Ana-Belen-La-Palma.jpg
CATEGORIES:Conciertos,Música
LOCATION:Municipio de Santa Cruz de La Palma\, Santa Cruz de La Palma \, Sa
 nta Cruz de La Palma \, 38700\, España
GEO:28.688757;-17.765102
X-APPLE-STRUCTURED-LOCATION;VALUE=URI;X-ADDRESS=Santa Cruz de La Palma \, S
 anta Cruz de La Palma \, 38700\, España;X-APPLE-RADIUS=100;X-TITLE=Munici
 pio de Santa Cruz de La Palma:geo:28.688757,-17.765102
END:VEVENT
END:VCALENDARBEGIN:VCALENDAR
VERSION:2.0
PRODID:-//wp-events-plugin.com//7.2.3.1//EN
TZID:Europe/London
X-WR-TIMEZONE:Europe/London
BEGIN:VEVENT
UID:3604@larevistadelapalma.com
DTSTART:20250626T200000Z
DTEND:20250626T213000Z
DTSTAMP:20250624T224402Z
URL:https://www.larevistadelapalma.com/events/ana-belen-gira-mas-d-ana-baj
 ada-de-la-palma-2025/
SUMMARY:Ana Belén - Gira "Más D Ana" | La Palma 2025
DESCRIPTION:La Bajada de la Virgen de las Nieves de La Palma 2025 contar
 á con la gran Ana Belén como parte de la programación que se desarrol
 lará en esta edición tan especial al no haberse podido celebrar en 2020.
  La artista española es una referente de la música y el cine español y 
 llegará a la isla bonita con su elegancia y su potente trayectoria artís
 tica.\nComprar entradas &gt\;&gt\;\nCon décadas de éxitos\, Ana Belén h
 a conquistado al público con temas inolvidables como ‘Lía’ o ‘Derr
 oche’\, y su versatilidad sobre los escenarios sigue siendo un sello dis
 tintivo.\n\nAna Belén\, cantautora galardona con un Grammy Latino a la Ex
 celencia Musical\, ha destacado en el ámbito artístico por su polivalenc
 ia y su capacidad de reinventarse a lo largo de los años. Su nueva gira\,
  ‘Más D Ana’ comienza el 26 de abril en Roquetas del Mar\, que la lle
 vará a 19 ciudades españolas\, entre las que estará Santa Cruz de la Pa
 lma\, donde repasará sus grandes éxitos y presentará nuevos temas de su
  próximo álbum.\n\n\n\nPara ver los conciertos de La Bajada visita nuest
 ra sección música o pincha aquí&gt\;&gt\;
ATTACH;FMTTYPE=image/jpeg:https://www.larevistadelapalma.com/wp-content/up
 loads/2025/02/Ana-Belen-La-Palma.jpg
CATEGORIES:Conciertos,Música
LOCATION:Municipio de Santa Cruz de La Palma\, Santa Cruz de La Palma \, Sa
 nta Cruz de La Palma \, 38700\, España
GEO:28.688757;-17.765102
X-APPLE-STRUCTURED-LOCATION;VALUE=URI;X-ADDRESS=Santa Cruz de La Palma \, S
 anta Cruz de La Palma \, 38700\, España;X-APPLE-RADIUS=100;X-TITLE=Munici
 pio de Santa Cruz de La Palma:geo:28.688757,-17.765102
END:VEVENT
END:VCALENDAR