BEGIN:VCALENDAR
VERSION:2.0
PRODID:-//wp-events-plugin.com//7.2.3.1//EN
TZID:Europe/London
X-WR-TIMEZONE:Europe/London
BEGIN:VEVENT
UID:3197@larevistadelapalma.com
DTSTART:20240824T193000Z
DTEND:20240824T210000Z
DTSTAMP:20240821T230041Z
URL:https://www.larevistadelapalma.com/events/ana-label-en-concierto-creal
 ab-el-paso/
SUMMARY:Ana Label en concierto\, Crealab El Paso
DESCRIPTION:La propuesta sobre los escenarios de esta cantautora se sale de
  los parámetros más estándar. Su música se fusiona con el teatro\, el 
 monólogo con loops sonoros\, con intervenciones con el público y con el 
 cambio de distintos personajes en medio del evento. Un espectáculo camale
 ónico en toda regla.\n\nSi algo destaca en la propuesta de Ana Label es s
 u frescura y carisma\, su desparpajo y socarronería\, el timbre de su voz
 \, el planteamiento y la riqueza narrativa de sus letras\, en las que en m
 uchas destilan\, una fina línea de humor inteligente e ironía.\n\nLas le
 tras de Ana Label ponen sobre la mesa distintas emociones y experiencias\,
  a corazón descubierto\,sin tapujos ni pelos en la lengua\, desde las ent
 rañas\, a bocajarro\, con su papel como mujer\, como madre\, como hija y 
 como persona tratando de expresar "la maravillosa incongruencia humana\, q
 ue es lo que nos hace únicas y únicos"\nEntradas &gt\;&gt\;
ATTACH;FMTTYPE=image/jpeg:https://www.larevistadelapalma.com/wp-content/up
 loads/2024/08/Ana-Label-El-Paso.jpg
CATEGORIES:Conciertos,Música
LOCATION:Crealab El Paso\, C. Manuel Taño\, 1\, El Paso\, 38750\, España
GEO:28.651929;-17.88
X-APPLE-STRUCTURED-LOCATION;VALUE=URI;X-ADDRESS=C. Manuel Taño\, 1\, El Pa
 so\, 38750\, España;X-APPLE-RADIUS=100;X-TITLE=Crealab El Paso:geo:28.651
 929,-17.88
END:VEVENT
END:VCALENDARBEGIN:VCALENDAR
VERSION:2.0
PRODID:-//wp-events-plugin.com//7.2.3.1//EN
TZID:Europe/London
X-WR-TIMEZONE:Europe/London
BEGIN:VEVENT
UID:3197@larevistadelapalma.com
DTSTART:20240824T193000Z
DTEND:20240824T210000Z
DTSTAMP:20240821T230041Z
URL:https://www.larevistadelapalma.com/events/ana-label-en-concierto-creal
 ab-el-paso/
SUMMARY:Ana Label en concierto\, Crealab El Paso
DESCRIPTION:La propuesta sobre los escenarios de esta cantautora se sale de
  los parámetros más estándar. Su música se fusiona con el teatro\, el 
 monólogo con loops sonoros\, con intervenciones con el público y con el 
 cambio de distintos personajes en medio del evento. Un espectáculo camale
 ónico en toda regla.\n\nSi algo destaca en la propuesta de Ana Label es s
 u frescura y carisma\, su desparpajo y socarronería\, el timbre de su voz
 \, el planteamiento y la riqueza narrativa de sus letras\, en las que en m
 uchas destilan\, una fina línea de humor inteligente e ironía.\n\nLas le
 tras de Ana Label ponen sobre la mesa distintas emociones y experiencias\,
  a corazón descubierto\,sin tapujos ni pelos en la lengua\, desde las ent
 rañas\, a bocajarro\, con su papel como mujer\, como madre\, como hija y 
 como persona tratando de expresar "la maravillosa incongruencia humana\, q
 ue es lo que nos hace únicas y únicos"\nEntradas &gt\;&gt\;
ATTACH;FMTTYPE=image/jpeg:https://www.larevistadelapalma.com/wp-content/up
 loads/2024/08/Ana-Label-El-Paso.jpg
CATEGORIES:Conciertos,Música
LOCATION:Crealab El Paso\, C. Manuel Taño\, 1\, El Paso\, 38750\, España
GEO:28.651929;-17.88
X-APPLE-STRUCTURED-LOCATION;VALUE=URI;X-ADDRESS=C. Manuel Taño\, 1\, El Pa
 so\, 38750\, España;X-APPLE-RADIUS=100;X-TITLE=Crealab El Paso:geo:28.651
 929,-17.88
END:VEVENT
END:VCALENDAR