BEGIN:VCALENDAR
VERSION:2.0
PRODID:-//wp-events-plugin.com//7.2.3.1//EN
TZID:Europe/London
X-WR-TIMEZONE:Europe/London
BEGIN:VEVENT
UID:3194@larevistadelapalma.com
DTSTART:20240828T200000Z
DTEND:20240828T213000Z
DTSTAMP:20240821T221721Z
URL:https://www.larevistadelapalma.com/events/angaro-de-la-compania-pieles
 -en-tijarafe/
SUMMARY:“Ángaro” de la Compañía Pieles\, en Tijarafe
DESCRIPTION:Un espectáculo que fusiona tradición y vanguardia a través d
 e la melodía\, el canto y la percusión.\n\nIncorpora instrumentos que pr
 oceden de otras músicas populares de diferentes partes del mundo\, sumán
 dose a un espectáculo que\, como es habitual en las propuestas de Pieles\
 , se inspira el folclore de las islas\, pero con una visión más global y
  más vanguardista\, con sones populares en el sentido más amplio.\n\nEl 
 folclore musical cuenta con la capacidad de viajar tanto en el tiempo como
  en el espacio\, así que contiene un saber común y lo derrama por el mun
 do. Es solo cuestión de tiempo que terminemos impregnándonos de todo.\n\
 nhttps://www.youtube.com/watch?v=jWubu4k08Lg
ATTACH;FMTTYPE=image/jpeg:https://www.larevistadelapalma.com/wp-content/up
 loads/2024/08/Angaro-Pieles.jpg
CATEGORIES:Espectáculos
LOCATION:Plaza Candelaria en Tijarafe\, Plaza de La Candelaria \, Tijarafe\
 , 38780\, España
GEO:28.711392;-17.955151
X-APPLE-STRUCTURED-LOCATION;VALUE=URI;X-ADDRESS=Plaza de La Candelaria \, T
 ijarafe\, 38780\, España;X-APPLE-RADIUS=100;X-TITLE=Plaza Candelaria en T
 ijarafe:geo:28.711392,-17.955151
END:VEVENT
END:VCALENDARBEGIN:VCALENDAR
VERSION:2.0
PRODID:-//wp-events-plugin.com//7.2.3.1//EN
TZID:Europe/London
X-WR-TIMEZONE:Europe/London
BEGIN:VEVENT
UID:3194@larevistadelapalma.com
DTSTART:20240828T200000Z
DTEND:20240828T213000Z
DTSTAMP:20240821T221721Z
URL:https://www.larevistadelapalma.com/events/angaro-de-la-compania-pieles
 -en-tijarafe/
SUMMARY:“Ángaro” de la Compañía Pieles\, en Tijarafe
DESCRIPTION:Un espectáculo que fusiona tradición y vanguardia a través d
 e la melodía\, el canto y la percusión.\n\nIncorpora instrumentos que pr
 oceden de otras músicas populares de diferentes partes del mundo\, sumán
 dose a un espectáculo que\, como es habitual en las propuestas de Pieles\
 , se inspira el folclore de las islas\, pero con una visión más global y
  más vanguardista\, con sones populares en el sentido más amplio.\n\nEl 
 folclore musical cuenta con la capacidad de viajar tanto en el tiempo como
  en el espacio\, así que contiene un saber común y lo derrama por el mun
 do. Es solo cuestión de tiempo que terminemos impregnándonos de todo.\n\
 nhttps://www.youtube.com/watch?v=jWubu4k08Lg
ATTACH;FMTTYPE=image/jpeg:https://www.larevistadelapalma.com/wp-content/up
 loads/2024/08/Angaro-Pieles.jpg
CATEGORIES:Espectáculos
LOCATION:Plaza Candelaria en Tijarafe\, Plaza de La Candelaria \, Tijarafe\
 , 38780\, España
GEO:28.711392;-17.955151
X-APPLE-STRUCTURED-LOCATION;VALUE=URI;X-ADDRESS=Plaza de La Candelaria \, T
 ijarafe\, 38780\, España;X-APPLE-RADIUS=100;X-TITLE=Plaza Candelaria en T
 ijarafe:geo:28.711392,-17.955151
END:VEVENT
END:VCALENDAR