BEGIN:VCALENDAR
VERSION:2.0
PRODID:-//wp-events-plugin.com//7.2.3.1//EN
TZID:Europe/London
X-WR-TIMEZONE:Europe/London
BEGIN:VEVENT
UID:3508@larevistadelapalma.com
DTSTART:20241230T193000Z
DTEND:20241230T210000Z
DTSTAMP:20241216T164644Z
URL:https://www.larevistadelapalma.com/events/angaro-en-brena-alta/
SUMMARY:"Ángaro" de la Compañía Pieles en Breña Alta
DESCRIPTION:Un espectáculo que fusiona tradición y vanguardia a través d
 e la melodía\, el canto y la percusión.\nIncorpora instrumentos que proc
 eden de otras músicas populares de diferentes partes del mundo\, sumándo
 se a un espectáculo que\, como es habitual en las propuestas de Pieles\,
  se inspira el folclore de las islas\, pero con una visión más global y 
 más vanguardista\, con sones populares en el sentido más amplio.\n\nEl f
 olclore musical cuenta con la capacidad de viajar tanto en el tiempo como 
 en el espacio\, así que contiene un saber común y lo derrama por el mund
 o. Es solo cuestión de tiempo que terminemos impregnándonos de todo.\n\n
 Ángaro nace desde un sentimiento de pertenencia global\, por lo que se in
 teresa por el acervo cultural universal y propicia el acercamiento entre l
 as diferentes culturas. Para ello\, se entrelazan canciones\, ritmos\, pal
 abras\, danzas\, imágenes y saberes populares a través de viejas y nueva
 s herramientas de creación.\n\nEl viaje sonoro comienza con los rumores p
 ropios de aquel escenario en que se engendraron los primeros sonidos produ
 cidos por los habitantes de las islas: el golpe de los pies en la arena\, 
 el silbo y la boca\, las manos\, las conchas del mar golpeadas entre sí
 …\, quejidos que después fueron malagueñas y alegrías que fueron isas
 \, palos…\, huesos y hueseras…\, balidos que luego fueron pieles y má
 s tarde fueron tambores… y ritmo. Sonidos que se fusionan durante el tra
 nscurso del espectáculo con la voz y la palabra. Murmullos que se enmara
 ñan con pianos\, vientos\, cuerdas…\, que se diluyen entre un abanico d
 e instrumentos musicales que\, a lo largo de los tiempos\, han pertenecido
  al tejido musical de todo el planeta.\n\nEn la propuesta intervienen elem
 entos escénicos que se convierten también en instrumentos musicales: ute
 nsilios de labranza\, molienda y siembra\, y fuentes sonoras como piedras\
 , maderas\, agua\, conchas marinas\, cañas\, pezuñas de animales\, hueso
 s\, panderos y tambores. Por otro lado\, el elenco de artistas interactúa
  con el atrezo\, integrándose entre sus elementos\, para crear una escena
  global donde se funden las diferentes disciplinas artísticas: actores qu
 e cantan…músicos que actúan…\n\n\n\nPROGRAMA\n\n 	ÁNGARO\n 	TRIGO T
 OSTADO\n 	AIRES DE MALI\n 	FUJARA\n 	MAGDALENA\n 	GOFIO Y JAREA\n 	ALISIOS
 \n 	EL VELORIO DE LOS ANGELITOS\n 	SORONDONGO\n 	TANGANILLO\n 	TANGO GUANC
 HERO\n 	LA FLORIDA\n 	TINDAYA\n 	MALAGUEÑA DEL TAMBOR\n 	SAN BORONDÓN\n
ATTACH;FMTTYPE=image/jpeg:https://www.larevistadelapalma.com/wp-content/up
 loads/2024/08/Angaro-Pieles.jpg
CATEGORIES:Espectáculos,Relax
LOCATION:Pabellón Polideportivo Breña Alta\, Calle la Constitución\, Bre
 ña Alta\, 38710\, España
GEO:28.663107;-17.784045
X-APPLE-STRUCTURED-LOCATION;VALUE=URI;X-ADDRESS=Calle la Constitución\, Br
 eña Alta\, 38710\, España;X-APPLE-RADIUS=100;X-TITLE=Pabellón Polidepor
 tivo Breña Alta:geo:28.663107,-17.784045
END:VEVENT
END:VCALENDARBEGIN:VCALENDAR
VERSION:2.0
PRODID:-//wp-events-plugin.com//7.2.3.1//EN
TZID:Europe/London
X-WR-TIMEZONE:Europe/London
BEGIN:VEVENT
UID:3508@larevistadelapalma.com
DTSTART:20241230T193000Z
DTEND:20241230T210000Z
DTSTAMP:20241216T164644Z
URL:https://www.larevistadelapalma.com/events/angaro-en-brena-alta/
SUMMARY:"Ángaro" de la Compañía Pieles en Breña Alta
DESCRIPTION:Un espectáculo que fusiona tradición y vanguardia a través d
 e la melodía\, el canto y la percusión.\nIncorpora instrumentos que proc
 eden de otras músicas populares de diferentes partes del mundo\, sumándo
 se a un espectáculo que\, como es habitual en las propuestas de Pieles\,
  se inspira el folclore de las islas\, pero con una visión más global y 
 más vanguardista\, con sones populares en el sentido más amplio.\n\nEl f
 olclore musical cuenta con la capacidad de viajar tanto en el tiempo como 
 en el espacio\, así que contiene un saber común y lo derrama por el mund
 o. Es solo cuestión de tiempo que terminemos impregnándonos de todo.\n\n
 Ángaro nace desde un sentimiento de pertenencia global\, por lo que se in
 teresa por el acervo cultural universal y propicia el acercamiento entre l
 as diferentes culturas. Para ello\, se entrelazan canciones\, ritmos\, pal
 abras\, danzas\, imágenes y saberes populares a través de viejas y nueva
 s herramientas de creación.\n\nEl viaje sonoro comienza con los rumores p
 ropios de aquel escenario en que se engendraron los primeros sonidos produ
 cidos por los habitantes de las islas: el golpe de los pies en la arena\, 
 el silbo y la boca\, las manos\, las conchas del mar golpeadas entre sí
 …\, quejidos que después fueron malagueñas y alegrías que fueron isas
 \, palos…\, huesos y hueseras…\, balidos que luego fueron pieles y má
 s tarde fueron tambores… y ritmo. Sonidos que se fusionan durante el tra
 nscurso del espectáculo con la voz y la palabra. Murmullos que se enmara
 ñan con pianos\, vientos\, cuerdas…\, que se diluyen entre un abanico d
 e instrumentos musicales que\, a lo largo de los tiempos\, han pertenecido
  al tejido musical de todo el planeta.\n\nEn la propuesta intervienen elem
 entos escénicos que se convierten también en instrumentos musicales: ute
 nsilios de labranza\, molienda y siembra\, y fuentes sonoras como piedras\
 , maderas\, agua\, conchas marinas\, cañas\, pezuñas de animales\, hueso
 s\, panderos y tambores. Por otro lado\, el elenco de artistas interactúa
  con el atrezo\, integrándose entre sus elementos\, para crear una escena
  global donde se funden las diferentes disciplinas artísticas: actores qu
 e cantan…músicos que actúan…\n\n\n\nPROGRAMA\n\n 	ÁNGARO\n 	TRIGO T
 OSTADO\n 	AIRES DE MALI\n 	FUJARA\n 	MAGDALENA\n 	GOFIO Y JAREA\n 	ALISIOS
 \n 	EL VELORIO DE LOS ANGELITOS\n 	SORONDONGO\n 	TANGANILLO\n 	TANGO GUANC
 HERO\n 	LA FLORIDA\n 	TINDAYA\n 	MALAGUEÑA DEL TAMBOR\n 	SAN BORONDÓN\n
ATTACH;FMTTYPE=image/jpeg:https://www.larevistadelapalma.com/wp-content/up
 loads/2024/08/Angaro-Pieles.jpg
CATEGORIES:Espectáculos,Relax
LOCATION:Pabellón Polideportivo Breña Alta\, Calle la Constitución\, Bre
 ña Alta\, 38710\, España
GEO:28.663107;-17.784045
X-APPLE-STRUCTURED-LOCATION;VALUE=URI;X-ADDRESS=Calle la Constitución\, Br
 eña Alta\, 38710\, España;X-APPLE-RADIUS=100;X-TITLE=Pabellón Polidepor
 tivo Breña Alta:geo:28.663107,-17.784045
END:VEVENT
END:VCALENDAR