BEGIN:VCALENDAR
VERSION:2.0
PRODID:-//wp-events-plugin.com//7.2.3.1//EN
TZID:Europe/London
X-WR-TIMEZONE:Europe/London
BEGIN:VEVENT
UID:4546@larevistadelapalma.com
DTSTART:20260307T110000Z
DTEND:20260307T123000Z
DTSTAMP:20260305T183043Z
URL:https://www.larevistadelapalma.com/events/angel-acosta-homenaje-mujere
 s/
SUMMARY:APLAZADO - Angel Acosta: "Canto a la mujer"
DESCRIPTION:Aplazado por causas técnicas. Se comunicará una nueva fecha l
 o antes posible.\nÁngel Acosta: El bagañete que conquistó su destino.\n
 Hay historias que se escriben solas\, y la de Ángel Acosta es una de ella
 s. Desde niño supo que su lugar no estaba en la orilla\, sino bajo los f
 ocos. Con una maleta llena de sueños cruzó el charco y conquistó a las 
 Américas: telenovelas\, cine\, grandes marcas… Su talento y carisma lo 
 llevaron lejos\, muy lejos.\nPero nunca olvidó de dónde venía.\nHoy\, d
 espués de una vida plena e internacional\, Ángel ha vuelto a su Isla Bon
 ita. Y lejos de retirarse\, sigue regalando su voz y su arte a su gente. E
 n una plaza\, en un teatro o donde se le pida\, emociona como aquel joven 
 que un día decidió volar. Porque se puede ser universal sin dejar de se
 r profundamente palmero.\nLa Palma tiene la suerte de tenerlo nuevamente e
 n sus escenario
ATTACH;FMTTYPE=image/jpeg:https://www.larevistadelapalma.com/wp-content/up
 loads/2026/03/3-7-angel-acosta.jpg
CATEGORIES:Conciertos,Música
LOCATION:Casa de La Cultura de Los Llanos de Aridane\, : C. Real\, 8\, Los 
 Llanos de Aridane \, 38760\, España
GEO:28.658651;-17.913512
X-APPLE-STRUCTURED-LOCATION;VALUE=URI;X-ADDRESS=: C. Real\, 8\, Los Llanos 
 de Aridane \, 38760\, España;X-APPLE-RADIUS=100;X-TITLE=Casa de La Cultur
 a de Los Llanos de Aridane:geo:28.658651,-17.913512
END:VEVENT
END:VCALENDARBEGIN:VCALENDAR
VERSION:2.0
PRODID:-//wp-events-plugin.com//7.2.3.1//EN
TZID:Europe/London
X-WR-TIMEZONE:Europe/London
BEGIN:VEVENT
UID:4546@larevistadelapalma.com
DTSTART:20260307T110000Z
DTEND:20260307T123000Z
DTSTAMP:20260305T183043Z
URL:https://www.larevistadelapalma.com/events/angel-acosta-homenaje-mujere
 s/
SUMMARY:APLAZADO - Angel Acosta: "Canto a la mujer"
DESCRIPTION:Aplazado por causas técnicas. Se comunicará una nueva fecha l
 o antes posible.\nÁngel Acosta: El bagañete que conquistó su destino.\n
 Hay historias que se escriben solas\, y la de Ángel Acosta es una de ella
 s. Desde niño supo que su lugar no estaba en la orilla\, sino bajo los f
 ocos. Con una maleta llena de sueños cruzó el charco y conquistó a las 
 Américas: telenovelas\, cine\, grandes marcas… Su talento y carisma lo 
 llevaron lejos\, muy lejos.\nPero nunca olvidó de dónde venía.\nHoy\, d
 espués de una vida plena e internacional\, Ángel ha vuelto a su Isla Bon
 ita. Y lejos de retirarse\, sigue regalando su voz y su arte a su gente. E
 n una plaza\, en un teatro o donde se le pida\, emociona como aquel joven 
 que un día decidió volar. Porque se puede ser universal sin dejar de se
 r profundamente palmero.\nLa Palma tiene la suerte de tenerlo nuevamente e
 n sus escenario
ATTACH;FMTTYPE=image/jpeg:https://www.larevistadelapalma.com/wp-content/up
 loads/2026/03/3-7-angel-acosta.jpg
CATEGORIES:Conciertos,Música
LOCATION:Casa de La Cultura de Los Llanos de Aridane\, : C. Real\, 8\, Los 
 Llanos de Aridane \, 38760\, España
GEO:28.658651;-17.913512
X-APPLE-STRUCTURED-LOCATION;VALUE=URI;X-ADDRESS=: C. Real\, 8\, Los Llanos 
 de Aridane \, 38760\, España;X-APPLE-RADIUS=100;X-TITLE=Casa de La Cultur
 a de Los Llanos de Aridane:geo:28.658651,-17.913512
END:VEVENT
END:VCALENDAR