BEGIN:VCALENDAR
VERSION:2.0
PRODID:-//wp-events-plugin.com//7.2.3.1//EN
TZID:Europe/London
X-WR-TIMEZONE:Europe/London
BEGIN:VEVENT
UID:4049@larevistadelapalma.com
DTSTART:20251129T183000Z
DTEND:20251129T224500Z
DTSTAMP:20251106T190146Z
URL:https://www.larevistadelapalma.com/events/anochecer-gaitero-2025/
SUMMARY:Anochecer Gaitero 2025
DESCRIPTION:\nUna noche llena de sabor\, ritmo y alegría venezolana en el 
 corazón de Santa Cruz de La Palma.\nTributos a:\n\n\n 	Dimensión Latina\
 n 	Billo’s\n 	Pastor López\n\n\n\nY también:\n\n\n 	Agrupación de Tam
 bores\n 	 Agrupación de Gaitas\n 	 DJ Renzzo\n\n\n\n\n\n
ATTACH;FMTTYPE=image/jpeg:https://www.larevistadelapalma.com/wp-content/up
 loads/2025/11/Anochecer-gaitero-25.jpg
CATEGORIES:Festivales/Fiestas,Música
LOCATION:Plaza de Santo Domingo en Santa Cruz de La Palma\, Plaza Santo Dom
 ingo\, Santa Cruz de La Palma\, 38700\, España
GEO:28.682691;-17.766334
X-APPLE-STRUCTURED-LOCATION;VALUE=URI;X-ADDRESS=Plaza Santo Domingo\, Santa
  Cruz de La Palma\, 38700\, España;X-APPLE-RADIUS=100;X-TITLE=Plaza de Sa
 nto Domingo en Santa Cruz de La Palma:geo:28.682691,-17.766334
END:VEVENT
END:VCALENDARBEGIN:VCALENDAR
VERSION:2.0
PRODID:-//wp-events-plugin.com//7.2.3.1//EN
TZID:Europe/London
X-WR-TIMEZONE:Europe/London
BEGIN:VEVENT
UID:4049@larevistadelapalma.com
DTSTART:20251129T183000Z
DTEND:20251129T224500Z
DTSTAMP:20251106T190146Z
URL:https://www.larevistadelapalma.com/events/anochecer-gaitero-2025/
SUMMARY:Anochecer Gaitero 2025
DESCRIPTION:\nUna noche llena de sabor\, ritmo y alegría venezolana en el 
 corazón de Santa Cruz de La Palma.\nTributos a:\n\n\n 	Dimensión Latina\
 n 	Billo’s\n 	Pastor López\n\n\n\nY también:\n\n\n 	Agrupación de Tam
 bores\n 	 Agrupación de Gaitas\n 	 DJ Renzzo\n\n\n\n\n\n
ATTACH;FMTTYPE=image/jpeg:https://www.larevistadelapalma.com/wp-content/up
 loads/2025/11/Anochecer-gaitero-25.jpg
CATEGORIES:Festivales/Fiestas,Música
LOCATION:Plaza de Santo Domingo en Santa Cruz de La Palma\, Plaza Santo Dom
 ingo\, Santa Cruz de La Palma\, 38700\, España
GEO:28.682691;-17.766334
X-APPLE-STRUCTURED-LOCATION;VALUE=URI;X-ADDRESS=Plaza Santo Domingo\, Santa
  Cruz de La Palma\, 38700\, España;X-APPLE-RADIUS=100;X-TITLE=Plaza de Sa
 nto Domingo en Santa Cruz de La Palma:geo:28.682691,-17.766334
END:VEVENT
END:VCALENDAR