BEGIN:VCALENDAR
VERSION:2.0
PRODID:-//wp-events-plugin.com//7.2.3.1//EN
TZID:Europe/London
X-WR-TIMEZONE:Europe/London
BEGIN:VEVENT
UID:581@larevistadelapalma.com
DTSTART:20230803T183000Z
DTEND:20230803T193000Z
DTSTAMP:20230803T201637Z
URL:https://www.larevistadelapalma.com/events/antonio-conejo-el-paso/
SUMMARY:Antonio Conejo presenta en El Paso el espectáculo ‘Viaje por pa
 íses imaginados’. 
DESCRIPTION:El IV Ciclo de Narración para Público Adulto de El Paso conti
 núa durante el verano congregando en el municipio a los mejores narradore
 s de cuentos de Canarias.
ATTACH;FMTTYPE=image/jpeg:https://www.larevistadelapalma.com/wp-content/up
 loads/2023/08/Antonio-Conejo.jpg
CATEGORIES:Cine y Literatura,Literatura
LOCATION:Casa de la Cultura Braulio Martín Hernández de El Paso\, Av. Isl
 as Canarias\, 9\,\, El Paso\, 38750\, España
GEO:28.652923;-17.880463
X-APPLE-STRUCTURED-LOCATION;VALUE=URI;X-ADDRESS=Av. Islas Canarias\, 9\,\, 
 El Paso\, 38750\, España;X-APPLE-RADIUS=100;X-TITLE=Casa de la Cultura Br
 aulio Martín Hernández de El Paso:geo:28.652923,-17.880463
END:VEVENT
END:VCALENDARBEGIN:VCALENDAR
VERSION:2.0
PRODID:-//wp-events-plugin.com//7.2.3.1//EN
TZID:Europe/London
X-WR-TIMEZONE:Europe/London
BEGIN:VEVENT
UID:581@larevistadelapalma.com
DTSTART:20230803T183000Z
DTEND:20230803T193000Z
DTSTAMP:20230803T201637Z
URL:https://www.larevistadelapalma.com/events/antonio-conejo-el-paso/
SUMMARY:Antonio Conejo presenta en El Paso el espectáculo ‘Viaje por pa
 íses imaginados’. 
DESCRIPTION:El IV Ciclo de Narración para Público Adulto de El Paso conti
 núa durante el verano congregando en el municipio a los mejores narradore
 s de cuentos de Canarias.
ATTACH;FMTTYPE=image/jpeg:https://www.larevistadelapalma.com/wp-content/up
 loads/2023/08/Antonio-Conejo.jpg
CATEGORIES:Cine y Literatura,Literatura
LOCATION:Casa de la Cultura Braulio Martín Hernández de El Paso\, Av. Isl
 as Canarias\, 9\,\, El Paso\, 38750\, España
GEO:28.652923;-17.880463
X-APPLE-STRUCTURED-LOCATION;VALUE=URI;X-ADDRESS=Av. Islas Canarias\, 9\,\, 
 El Paso\, 38750\, España;X-APPLE-RADIUS=100;X-TITLE=Casa de la Cultura Br
 aulio Martín Hernández de El Paso:geo:28.652923,-17.880463
END:VEVENT
END:VCALENDAR