BEGIN:VCALENDAR
VERSION:2.0
PRODID:-//wp-events-plugin.com//7.2.3.1//EN
TZID:Europe/London
X-WR-TIMEZONE:Europe/London
BEGIN:VEVENT
UID:4439@larevistadelapalma.com
DTSTART:20251226T183000Z
DTEND:20251226T201500Z
DTSTAMP:20251224T120914Z
URL:https://www.larevistadelapalma.com/events/aplazado-el-ciclo-aromas-de-
 cine-sigue-con-a-fuego-lento/
SUMMARY:APLAZADO - El ciclo "Aromas de cine" sigue con "A fuego lento"
DESCRIPTION:Por problemas técnicos aplazan la proyección al 20 de enero.\
 n\n“Aromas de cine” es un ciclo que nos acercará cada mes a algunas d
 e las películas que han usado la comida como leitmotiv. Segunda sesión\,
  el próximo viernes 26 de diciembre a las 19:30 horas en la Casa de la Cu
 ltura Braulio Martín Hernández\, con "A fuego lento" (2023\, Tran Anh Hu
 ng )\, y los aromas de Francia.\n\nComprar entradas&gt\;&gt\;\n"A fuego le
 nto" (La passion de Dodin Bouffant) - Ambientada en el mundo de la gastron
 omía francesa en 1885. La relación entre Eugenie (Juliette Binoche)\, co
 cinera de prestigio\, y Dodin\, (Benoît Magimel) el gastrónomo para el 
 que trabaja desde hace 20 años. Cada vez más enamorados el uno del otro\
 , su vínculo se convierte en un romance y da lugar a deliciosos platos qu
 e impresionan incluso a los chefs más ilustres del mundo.\n\n\n&nbsp\;
ATTACH;FMTTYPE=image/jpeg:https://www.larevistadelapalma.com/wp-content/up
 loads/2025/12/aromas-de-cine-a-fuego-lento.webp
CATEGORIES:Cine,Cine y Literatura
LOCATION:Casa de la Cultura Braulio Martín Hernández de El Paso\, Av. Isl
 as Canarias\, 9\,\, El Paso\, 38750\, España
GEO:28.652923;-17.880463
X-APPLE-STRUCTURED-LOCATION;VALUE=URI;X-ADDRESS=Av. Islas Canarias\, 9\,\, 
 El Paso\, 38750\, España;X-APPLE-RADIUS=100;X-TITLE=Casa de la Cultura Br
 aulio Martín Hernández de El Paso:geo:28.652923,-17.880463
END:VEVENT
END:VCALENDARBEGIN:VCALENDAR
VERSION:2.0
PRODID:-//wp-events-plugin.com//7.2.3.1//EN
TZID:Europe/London
X-WR-TIMEZONE:Europe/London
BEGIN:VEVENT
UID:4439@larevistadelapalma.com
DTSTART:20251226T183000Z
DTEND:20251226T201500Z
DTSTAMP:20251224T120914Z
URL:https://www.larevistadelapalma.com/events/aplazado-el-ciclo-aromas-de-
 cine-sigue-con-a-fuego-lento/
SUMMARY:APLAZADO - El ciclo "Aromas de cine" sigue con "A fuego lento"
DESCRIPTION:Por problemas técnicos aplazan la proyección al 20 de enero.\
 n\n“Aromas de cine” es un ciclo que nos acercará cada mes a algunas d
 e las películas que han usado la comida como leitmotiv. Segunda sesión\,
  el próximo viernes 26 de diciembre a las 19:30 horas en la Casa de la Cu
 ltura Braulio Martín Hernández\, con "A fuego lento" (2023\, Tran Anh Hu
 ng )\, y los aromas de Francia.\n\nComprar entradas&gt\;&gt\;\n"A fuego le
 nto" (La passion de Dodin Bouffant) - Ambientada en el mundo de la gastron
 omía francesa en 1885. La relación entre Eugenie (Juliette Binoche)\, co
 cinera de prestigio\, y Dodin\, (Benoît Magimel) el gastrónomo para el 
 que trabaja desde hace 20 años. Cada vez más enamorados el uno del otro\
 , su vínculo se convierte en un romance y da lugar a deliciosos platos qu
 e impresionan incluso a los chefs más ilustres del mundo.\n\n\n&nbsp\;
ATTACH;FMTTYPE=image/jpeg:https://www.larevistadelapalma.com/wp-content/up
 loads/2025/12/aromas-de-cine-a-fuego-lento.webp
CATEGORIES:Cine,Cine y Literatura
LOCATION:Casa de la Cultura Braulio Martín Hernández de El Paso\, Av. Isl
 as Canarias\, 9\,\, El Paso\, 38750\, España
GEO:28.652923;-17.880463
X-APPLE-STRUCTURED-LOCATION;VALUE=URI;X-ADDRESS=Av. Islas Canarias\, 9\,\, 
 El Paso\, 38750\, España;X-APPLE-RADIUS=100;X-TITLE=Casa de la Cultura Br
 aulio Martín Hernández de El Paso:geo:28.652923,-17.880463
END:VEVENT
END:VCALENDAR