BEGIN:VCALENDAR
VERSION:2.0
PRODID:-//wp-events-plugin.com//7.2.3.1//EN
TZID:Europe/London
X-WR-TIMEZONE:Europe/London
BEGIN:VEVENT
UID:3699@larevistadelapalma.com
DTSTART:20250606T180000Z
DTEND:20250607T175900Z
DTSTAMP:20250603T123725Z
URL:https://www.larevistadelapalma.com/events/aridane-dance-2025/
SUMMARY:Aridane + Dance 2025
DESCRIPTION:Con artistas de temas míticos como ‘What Is Love’\, ‘Tou
 ch Me’ o ‘Rasputín’\, Samantha Fox\, ‘Jenny of Ace Of Base’\, H
 addaway\, Boney M.\, OBK o Snap!\, y el tributo ‘This Is Michael’.
ATTACH;FMTTYPE=image/jpeg:https://www.larevistadelapalma.com/wp-content/up
 loads/2025/04/WhatsApp-Image-2025-04-18-at-15.32.55.jpeg
CATEGORIES:Festivales/Fiestas,Música
LOCATION:Plaza Juan Pablo II\, Los Llanos de Aridane\, C. Luis Felipe Góme
 z Wangüemert\, 4\, Los Llanos de Aridane \, 38760 \, España
GEO:28.660513;-17.913419
X-APPLE-STRUCTURED-LOCATION;VALUE=URI;X-ADDRESS=C. Luis Felipe Gómez Wang
 üemert\, 4\, Los Llanos de Aridane \, 38760 \, España;X-APPLE-RADIUS=100
 ;X-TITLE=Plaza Juan Pablo II\, Los Llanos de Aridane:geo:28.660513,-17.913
 419
END:VEVENT
END:VCALENDARBEGIN:VCALENDAR
VERSION:2.0
PRODID:-//wp-events-plugin.com//7.2.3.1//EN
TZID:Europe/London
X-WR-TIMEZONE:Europe/London
BEGIN:VEVENT
UID:3699@larevistadelapalma.com
DTSTART:20250606T180000Z
DTEND:20250607T175900Z
DTSTAMP:20250603T123725Z
URL:https://www.larevistadelapalma.com/events/aridane-dance-2025/
SUMMARY:Aridane + Dance 2025
DESCRIPTION:Con artistas de temas míticos como ‘What Is Love’\, ‘Tou
 ch Me’ o ‘Rasputín’\, Samantha Fox\, ‘Jenny of Ace Of Base’\, H
 addaway\, Boney M.\, OBK o Snap!\, y el tributo ‘This Is Michael’.
ATTACH;FMTTYPE=image/jpeg:https://www.larevistadelapalma.com/wp-content/up
 loads/2025/04/WhatsApp-Image-2025-04-18-at-15.32.55.jpeg
CATEGORIES:Festivales/Fiestas,Música
LOCATION:Plaza Juan Pablo II\, Los Llanos de Aridane\, C. Luis Felipe Góme
 z Wangüemert\, 4\, Los Llanos de Aridane \, 38760 \, España
GEO:28.660513;-17.913419
X-APPLE-STRUCTURED-LOCATION;VALUE=URI;X-ADDRESS=C. Luis Felipe Gómez Wang
 üemert\, 4\, Los Llanos de Aridane \, 38760 \, España;X-APPLE-RADIUS=100
 ;X-TITLE=Plaza Juan Pablo II\, Los Llanos de Aridane:geo:28.660513,-17.913
 419
END:VEVENT
END:VCALENDAR