BEGIN:VCALENDAR
VERSION:2.0
PRODID:-//wp-events-plugin.com//7.2.3.1//EN
TZID:Europe/London
X-WR-TIMEZONE:Europe/London
BEGIN:VEVENT
UID:2804@larevistadelapalma.com
DTSTART;VALUE=DATE:20240628
DTEND;VALUE=DATE:20240630
DTSTAMP:20240614T213820Z
URL:https://www.larevistadelapalma.com/events/aridane-dance/
SUMMARY:Aridane + Dance
DESCRIPTION:Una experiencia audiovisual única y más de siete horas de esp
 ectáculo los días 28 y 29 de junio.\nJulian Marley\, hijo de Bob Marley 
 y reciente ganador de un Grammy\, actuará el mismo día que el mítico gr
 upo Los Secretos.\n\nAridane + Dance es un proyecto de ocio musical que pr
 omete nostalgia y mucha energía. Un viaje a los 90's\, que tendrá lugar 
 los días 28 y 29 de junio en la Plaza Juan Pablo II\, coincidiendo con la
 s fiestas de Los Remedios. Un festival con artistas que protagonizaron la
  escena musical en décadas pasadas y que vendrá acompañado con los mejo
 res efectos visuales y sonoros.\n\nPor primera vez en su historia\, La Pal
 ma disfrutará el 28 de junio de “Un viaje a los 90s”\, con artistas i
 nternacionales y nacionales que protagonizaron la escena musical en décad
 as pasadas.\n\nEl mítico grupo de rock Los Secretos estará\, junto a Jul
 ian Marley\, el 29 de junio en el innovador festival Aridane+Dance de Los 
 Llanos de Aridane. La banda madrileña viajará hasta La Palma para revivi
 r en la isla grandes temas como “Por el Boulevard de los sueños rotos
 ” o “Pero a tu lado”\, que marcaron la juventud de toda una generaci
 ón.\nComprar entradas 28 junio &gt\;&gt\;\nComprar entradas 29 junio &gt\
 ;&gt\;\n&nbsp\;\n“Un viaje a los 90s”\nEntre  los invitados al evento
  está la belga Kate Ryan\, una de las grandes intérpretes de los 90\, co
 n éxitos en su haber como Désenchantée o su versión del histórico 
 Voyage Voyage\, entre otras.\n\nOtro de los nombres confirmados es la ital
 iana Alexia\, que traerá sus míticos temas Uh La La La y Summer is Cr
 azy a Los Llanos de Aridane. El festival también contará con la brasile
 ña Corona\, una de las reinas de la pista -cuyo éxito más conocido es 
 The Rhythm of the Night- y Whigfield\, la danesa del himno mundial Saturd
 ay Night. Al cartel se suma Daisy Dee (de los míticos Technotronic)\, qui
 enes desde Bélgica abarrotaban discotecas con su Pump Up The Jam.\n\nSor
 aya\, Rebeca\, Ku Minerva\, Viceversa\, Sofía Cristo y Sergio Blásquez s
 on otros de los artistas confirmados.\n\nhttps://www.youtube.com/watch?v=T
 YWtvmVALT8&amp\;t=18s\nLos Secretos y Julian Marley \nEl segundo día del
  evento\, previsto para el 29 de junio\, el mítico grupo de rock Los Secr
 etos estará\, junto a Julian Marley\, el 29 de junio en el innovador fest
 ival Aridane+Dance de Los Llanos de Aridane.\n\nJulian Marley se une al ca
 rtel del segundo día del festival para conquistar a los asistentes con su
  inigualable estilo reggae\, fusionando el legado de su padre con su propi
 a voz distintiva. Este 2024 recibió su primer Grammy con el premio al Mej
 or Álbum de Reggae por Colors of Royal. Su estilo musical predominante e
 s el Reggae\, mismo que combina con otros ritmos\, dando así un estilo ú
 nico dentro del género.\n\nhttps://www.youtube.com/watch?v=jeuZ2cX3pkk\n\
 nLa banda madrileña Los Secretos viajará hasta La Palma para revivir en 
 la isla grandes temas como “Por el Boulevard de los sueños rotos” o 
 “Pero a tu lado”\, que marcaron la juventud de toda una generación. L
 a música del grupo de rock Los Secretos ha marcado a varias generaciones 
 de nuestro país\, y fueron una pieza clave en la ‘Movida Madrileña’.
  Canciones como "Déjame" y "Sobre un vidrio mojado" se convirtieron en hi
 mnos de este movimiento contracultural.\n\nDécadas después\, la banda si
 gue manteniendo su esencia y consolidándose como una de las formaciones m
 ás icónicas del rock español.\n\nTodo el espectáculo ofrece una experi
 encia que va más allá de la música\, con efectos especiales sonoros y v
 isuales que trasladan a sus asistentes al pasado.\n\n\n\n 	Finalmente los 
 venezolanos Mau y Ricky no podrán asistir a Aridane+Dance\, como estaba a
 nunciado en un principio\, debido a que cancelaron su gira europea.\n\n&n
 bsp\;\n\n&nbsp\;
ATTACH;FMTTYPE=image/jpeg:https://www.larevistadelapalma.com/wp-content/up
 loads/2024/02/Aridane-Dance-1.jpg
CATEGORIES:Festivales/Fiestas,Música
LOCATION:Plaza Juan Pablo II\, Los Llanos de Aridane\, C. Luis Felipe Góme
 z Wangüemert\, 4\, Los Llanos de Aridane \, 38760 \, España
GEO:28.660513;-17.913419
X-APPLE-STRUCTURED-LOCATION;VALUE=URI;X-ADDRESS=C. Luis Felipe Gómez Wang
 üemert\, 4\, Los Llanos de Aridane \, 38760 \, España;X-APPLE-RADIUS=100
 ;X-TITLE=Plaza Juan Pablo II\, Los Llanos de Aridane:geo:28.660513,-17.913
 419
END:VEVENT
END:VCALENDARBEGIN:VCALENDAR
VERSION:2.0
PRODID:-//wp-events-plugin.com//7.2.3.1//EN
TZID:Europe/London
X-WR-TIMEZONE:Europe/London
BEGIN:VEVENT
UID:2804@larevistadelapalma.com
DTSTART;VALUE=DATE:20240628
DTEND;VALUE=DATE:20240630
DTSTAMP:20240614T213820Z
URL:https://www.larevistadelapalma.com/events/aridane-dance/
SUMMARY:Aridane + Dance
DESCRIPTION:Una experiencia audiovisual única y más de siete horas de esp
 ectáculo los días 28 y 29 de junio.\nJulian Marley\, hijo de Bob Marley 
 y reciente ganador de un Grammy\, actuará el mismo día que el mítico gr
 upo Los Secretos.\n\nAridane + Dance es un proyecto de ocio musical que pr
 omete nostalgia y mucha energía. Un viaje a los 90's\, que tendrá lugar 
 los días 28 y 29 de junio en la Plaza Juan Pablo II\, coincidiendo con la
 s fiestas de Los Remedios. Un festival con artistas que protagonizaron la
  escena musical en décadas pasadas y que vendrá acompañado con los mejo
 res efectos visuales y sonoros.\n\nPor primera vez en su historia\, La Pal
 ma disfrutará el 28 de junio de “Un viaje a los 90s”\, con artistas i
 nternacionales y nacionales que protagonizaron la escena musical en décad
 as pasadas.\n\nEl mítico grupo de rock Los Secretos estará\, junto a Jul
 ian Marley\, el 29 de junio en el innovador festival Aridane+Dance de Los 
 Llanos de Aridane. La banda madrileña viajará hasta La Palma para revivi
 r en la isla grandes temas como “Por el Boulevard de los sueños rotos
 ” o “Pero a tu lado”\, que marcaron la juventud de toda una generaci
 ón.\nComprar entradas 28 junio &gt\;&gt\;\nComprar entradas 29 junio &gt\
 ;&gt\;\n&nbsp\;\n“Un viaje a los 90s”\nEntre  los invitados al evento
  está la belga Kate Ryan\, una de las grandes intérpretes de los 90\, co
 n éxitos en su haber como Désenchantée o su versión del histórico 
 Voyage Voyage\, entre otras.\n\nOtro de los nombres confirmados es la ital
 iana Alexia\, que traerá sus míticos temas Uh La La La y Summer is Cr
 azy a Los Llanos de Aridane. El festival también contará con la brasile
 ña Corona\, una de las reinas de la pista -cuyo éxito más conocido es 
 The Rhythm of the Night- y Whigfield\, la danesa del himno mundial Saturd
 ay Night. Al cartel se suma Daisy Dee (de los míticos Technotronic)\, qui
 enes desde Bélgica abarrotaban discotecas con su Pump Up The Jam.\n\nSor
 aya\, Rebeca\, Ku Minerva\, Viceversa\, Sofía Cristo y Sergio Blásquez s
 on otros de los artistas confirmados.\n\nhttps://www.youtube.com/watch?v=T
 YWtvmVALT8&amp\;t=18s\nLos Secretos y Julian Marley \nEl segundo día del
  evento\, previsto para el 29 de junio\, el mítico grupo de rock Los Secr
 etos estará\, junto a Julian Marley\, el 29 de junio en el innovador fest
 ival Aridane+Dance de Los Llanos de Aridane.\n\nJulian Marley se une al ca
 rtel del segundo día del festival para conquistar a los asistentes con su
  inigualable estilo reggae\, fusionando el legado de su padre con su propi
 a voz distintiva. Este 2024 recibió su primer Grammy con el premio al Mej
 or Álbum de Reggae por Colors of Royal. Su estilo musical predominante e
 s el Reggae\, mismo que combina con otros ritmos\, dando así un estilo ú
 nico dentro del género.\n\nhttps://www.youtube.com/watch?v=jeuZ2cX3pkk\n\
 nLa banda madrileña Los Secretos viajará hasta La Palma para revivir en 
 la isla grandes temas como “Por el Boulevard de los sueños rotos” o 
 “Pero a tu lado”\, que marcaron la juventud de toda una generación. L
 a música del grupo de rock Los Secretos ha marcado a varias generaciones 
 de nuestro país\, y fueron una pieza clave en la ‘Movida Madrileña’.
  Canciones como "Déjame" y "Sobre un vidrio mojado" se convirtieron en hi
 mnos de este movimiento contracultural.\n\nDécadas después\, la banda si
 gue manteniendo su esencia y consolidándose como una de las formaciones m
 ás icónicas del rock español.\n\nTodo el espectáculo ofrece una experi
 encia que va más allá de la música\, con efectos especiales sonoros y v
 isuales que trasladan a sus asistentes al pasado.\n\n\n\n 	Finalmente los 
 venezolanos Mau y Ricky no podrán asistir a Aridane+Dance\, como estaba a
 nunciado en un principio\, debido a que cancelaron su gira europea.\n\n&n
 bsp\;\n\n&nbsp\;
ATTACH;FMTTYPE=image/jpeg:https://www.larevistadelapalma.com/wp-content/up
 loads/2024/02/Aridane-Dance-1.jpg
CATEGORIES:Festivales/Fiestas,Música
LOCATION:Plaza Juan Pablo II\, Los Llanos de Aridane\, C. Luis Felipe Góme
 z Wangüemert\, 4\, Los Llanos de Aridane \, 38760 \, España
GEO:28.660513;-17.913419
X-APPLE-STRUCTURED-LOCATION;VALUE=URI;X-ADDRESS=C. Luis Felipe Gómez Wang
 üemert\, 4\, Los Llanos de Aridane \, 38760 \, España;X-APPLE-RADIUS=100
 ;X-TITLE=Plaza Juan Pablo II\, Los Llanos de Aridane:geo:28.660513,-17.913
 419
END:VEVENT
END:VCALENDAR