BEGIN:VCALENDAR
VERSION:2.0
PRODID:-//wp-events-plugin.com//7.2.3.1//EN
TZID:Europe/London
X-WR-TIMEZONE:Europe/London
BEGIN:VEVENT
UID:4041@larevistadelapalma.com
DTSTART:20251105T183000Z
DTEND:20251105T200000Z
DTSTAMP:20251028T231148Z
URL:https://www.larevistadelapalma.com/events/aromas-de-cine-ciclo-de-proy
 ecciones-con-la-gastronomia-como-leitmotiv/
SUMMARY:‘Aromas de Cine’: Ciclo de proyecciones\, con la gastronomía c
 omo Leitmotiv
DESCRIPTION:Comienzan con "COME\, REZA\, AMA". 
ATTACH;FMTTYPE=image/jpeg:https://www.larevistadelapalma.com/wp-content/up
 loads/2025/10/Come-reza-ama.jpg
CATEGORIES:Cine,Cine y Literatura
LOCATION:Casa de la Cultura Braulio Martín Hernández de El Paso\, Av. Isl
 as Canarias\, 9\,\, El Paso\, 38750\, España
GEO:28.652923;-17.880463
X-APPLE-STRUCTURED-LOCATION;VALUE=URI;X-ADDRESS=Av. Islas Canarias\, 9\,\, 
 El Paso\, 38750\, España;X-APPLE-RADIUS=100;X-TITLE=Casa de la Cultura Br
 aulio Martín Hernández de El Paso:geo:28.652923,-17.880463
END:VEVENT
END:VCALENDARBEGIN:VCALENDAR
VERSION:2.0
PRODID:-//wp-events-plugin.com//7.2.3.1//EN
TZID:Europe/London
X-WR-TIMEZONE:Europe/London
BEGIN:VEVENT
UID:4041@larevistadelapalma.com
DTSTART:20251105T183000Z
DTEND:20251105T200000Z
DTSTAMP:20251028T231148Z
URL:https://www.larevistadelapalma.com/events/aromas-de-cine-ciclo-de-proy
 ecciones-con-la-gastronomia-como-leitmotiv/
SUMMARY:‘Aromas de Cine’: Ciclo de proyecciones\, con la gastronomía c
 omo Leitmotiv
DESCRIPTION:Comienzan con "COME\, REZA\, AMA". 
ATTACH;FMTTYPE=image/jpeg:https://www.larevistadelapalma.com/wp-content/up
 loads/2025/10/Come-reza-ama.jpg
CATEGORIES:Cine,Cine y Literatura
LOCATION:Casa de la Cultura Braulio Martín Hernández de El Paso\, Av. Isl
 as Canarias\, 9\,\, El Paso\, 38750\, España
GEO:28.652923;-17.880463
X-APPLE-STRUCTURED-LOCATION;VALUE=URI;X-ADDRESS=Av. Islas Canarias\, 9\,\, 
 El Paso\, 38750\, España;X-APPLE-RADIUS=100;X-TITLE=Casa de la Cultura Br
 aulio Martín Hernández de El Paso:geo:28.652923,-17.880463
END:VEVENT
END:VCALENDAR