BEGIN:VCALENDAR
VERSION:2.0
PRODID:-//wp-events-plugin.com//7.2.3.1//EN
TZID:Europe/London
X-WR-TIMEZONE:Europe/London
BEGIN:VEVENT
UID:3720@larevistadelapalma.com
DTSTART:20250430T200000Z
DTEND:20250430T225900Z
DTSTAMP:20250429T165854Z
URL:https://www.larevistadelapalma.com/events/arrancadilla-de-fiestas-de-m
 ayo-en-santa-cruz-de-la-palma/
SUMMARY:Arrancadilla de Fiestas de Mayo en Santa Cruz de La Palma
DESCRIPTION:Arrancan las Fiestas de Mayo en Santa Cruz de La Palma\, este 3
 0 de abril\, a partir de las 21:00 horas\, en la trasera del Cabildo\, dar
 emos el pistoletazo de salida a nuestras Fiestas de Mayo con un concierto 
 lleno de buena música y energía. • La Cagaste Burt Lancaster\, banda 
 chicharrera que rinde tributo a Hombres G\, una de las formaciones más ic
 ónicas del rock nacional.• Los Stereo\, la banda palmera que regresa co
 n versiones de los grandes éxitos de los 80 y 90\, capaces de hacer canta
 r al público de principio a fin.• Cristian Delgado\, joven talento palm
 ero del municipio de El Paso\, que empieza a hacerse un nombre en el panor
 ama musical insular.• Grajasound\, DJs palmeros que destacan por su gran
  versatilidad y conexión con el público .
ATTACH;FMTTYPE=image/jpeg:https://www.larevistadelapalma.com/wp-content/up
 loads/2025/04/Arrancadilla.jpg
CATEGORIES:Festivales/Fiestas,Música
LOCATION:Trasera del Cabildo Insular de La Palma\, C. Álvarez de Abreu\, 7
 7\, Santa Cruz De La Palma\, 38700\, España
GEO:28.681457;-17.765928
X-APPLE-STRUCTURED-LOCATION;VALUE=URI;X-ADDRESS=C. Álvarez de Abreu\, 77\,
  Santa Cruz De La Palma\, 38700\, España;X-APPLE-RADIUS=100;X-TITLE=Trase
 ra del Cabildo Insular de La Palma:geo:28.681457,-17.765928
END:VEVENT
END:VCALENDARBEGIN:VCALENDAR
VERSION:2.0
PRODID:-//wp-events-plugin.com//7.2.3.1//EN
TZID:Europe/London
X-WR-TIMEZONE:Europe/London
BEGIN:VEVENT
UID:3720@larevistadelapalma.com
DTSTART:20250430T200000Z
DTEND:20250430T225900Z
DTSTAMP:20250429T165854Z
URL:https://www.larevistadelapalma.com/events/arrancadilla-de-fiestas-de-m
 ayo-en-santa-cruz-de-la-palma/
SUMMARY:Arrancadilla de Fiestas de Mayo en Santa Cruz de La Palma
DESCRIPTION:Arrancan las Fiestas de Mayo en Santa Cruz de La Palma\, este 3
 0 de abril\, a partir de las 21:00 horas\, en la trasera del Cabildo\, dar
 emos el pistoletazo de salida a nuestras Fiestas de Mayo con un concierto 
 lleno de buena música y energía. • La Cagaste Burt Lancaster\, banda 
 chicharrera que rinde tributo a Hombres G\, una de las formaciones más ic
 ónicas del rock nacional.• Los Stereo\, la banda palmera que regresa co
 n versiones de los grandes éxitos de los 80 y 90\, capaces de hacer canta
 r al público de principio a fin.• Cristian Delgado\, joven talento palm
 ero del municipio de El Paso\, que empieza a hacerse un nombre en el panor
 ama musical insular.• Grajasound\, DJs palmeros que destacan por su gran
  versatilidad y conexión con el público .
ATTACH;FMTTYPE=image/jpeg:https://www.larevistadelapalma.com/wp-content/up
 loads/2025/04/Arrancadilla.jpg
CATEGORIES:Festivales/Fiestas,Música
LOCATION:Trasera del Cabildo Insular de La Palma\, C. Álvarez de Abreu\, 7
 7\, Santa Cruz De La Palma\, 38700\, España
GEO:28.681457;-17.765928
X-APPLE-STRUCTURED-LOCATION;VALUE=URI;X-ADDRESS=C. Álvarez de Abreu\, 77\,
  Santa Cruz De La Palma\, 38700\, España;X-APPLE-RADIUS=100;X-TITLE=Trase
 ra del Cabildo Insular de La Palma:geo:28.681457,-17.765928
END:VEVENT
END:VCALENDAR