BEGIN:VCALENDAR
VERSION:2.0
PRODID:-//wp-events-plugin.com//7.2.3.1//EN
TZID:Europe/London
X-WR-TIMEZONE:Europe/London
BEGIN:VEVENT
UID:4084@larevistadelapalma.com
DTSTART:20251208T180000Z
DTEND:20251208T193000Z
DTSTAMP:20251203T133456Z
URL:https://www.larevistadelapalma.com/events/arrullando-castanuelas-b-alt
 a/
SUMMARY:La Agrupación de Castañuelas de Breña Alta presenta su nuevo dis
 co "Arrullando"
DESCRIPTION:\nLa Agrupacion De Castañuelas De Breña Alta te invita el pr
 óximo lunes\, 8 de diciembre\, a asistir a la presentación de su nuevo d
 isco "Arrullando". Un trabajo elaborado con mucho mimo\, dedicación. Te e
 speran en la Sociedad Atlántida a las 19:00h.\nEntrada libre hasta comple
 tar aforo.\n\n
ATTACH;FMTTYPE=image/jpeg:https://www.larevistadelapalma.com/wp-content/up
 loads/2025/12/Arrullando-Castanuelas-B-Alta.jpg
CATEGORIES:Conciertos,Música
LOCATION:Municipio de Breña Alta\, Municipio de Breña Alta\, Breña Alta\
 , 8710 \, España
GEO:28.65375;-17.805077
X-APPLE-STRUCTURED-LOCATION;VALUE=URI;X-ADDRESS=Municipio de Breña Alta\, 
 Breña Alta\, 8710 \, España;X-APPLE-RADIUS=100;X-TITLE=Municipio de Bre
 ña Alta:geo:28.65375,-17.805077
END:VEVENT
END:VCALENDARBEGIN:VCALENDAR
VERSION:2.0
PRODID:-//wp-events-plugin.com//7.2.3.1//EN
TZID:Europe/London
X-WR-TIMEZONE:Europe/London
BEGIN:VEVENT
UID:4084@larevistadelapalma.com
DTSTART:20251208T180000Z
DTEND:20251208T193000Z
DTSTAMP:20251203T133456Z
URL:https://www.larevistadelapalma.com/events/arrullando-castanuelas-b-alt
 a/
SUMMARY:La Agrupación de Castañuelas de Breña Alta presenta su nuevo dis
 co "Arrullando"
DESCRIPTION:\nLa Agrupacion De Castañuelas De Breña Alta te invita el pr
 óximo lunes\, 8 de diciembre\, a asistir a la presentación de su nuevo d
 isco "Arrullando". Un trabajo elaborado con mucho mimo\, dedicación. Te e
 speran en la Sociedad Atlántida a las 19:00h.\nEntrada libre hasta comple
 tar aforo.\n\n
ATTACH;FMTTYPE=image/jpeg:https://www.larevistadelapalma.com/wp-content/up
 loads/2025/12/Arrullando-Castanuelas-B-Alta.jpg
CATEGORIES:Conciertos,Música
LOCATION:Municipio de Breña Alta\, Municipio de Breña Alta\, Breña Alta\
 , 8710 \, España
GEO:28.65375;-17.805077
X-APPLE-STRUCTURED-LOCATION;VALUE=URI;X-ADDRESS=Municipio de Breña Alta\, 
 Breña Alta\, 8710 \, España;X-APPLE-RADIUS=100;X-TITLE=Municipio de Bre
 ña Alta:geo:28.65375,-17.805077
END:VEVENT
END:VCALENDAR