BEGIN:VCALENDAR
VERSION:2.0
PRODID:-//wp-events-plugin.com//7.2.3.1//EN
TZID:Europe/London
X-WR-TIMEZONE:Europe/London
BEGIN:VEVENT
UID:3883@larevistadelapalma.com
DTSTART;VALUE=DATE:20250723
DTEND;VALUE=DATE:20250809
DTSTAMP:20250723T215250Z
URL:https://www.larevistadelapalma.com/events/arte-lustral-3-turno-salazar
 /
SUMMARY:Tercer turno de las exposiciones "Arte Lustral" (Casa Salazar)
DESCRIPTION:Tres salas de la casa Salazar nos mostrarán tres series distin
 tas de la obra de Manu Marzán.
ATTACH;FMTTYPE=image/jpeg:https://www.larevistadelapalma.com/wp-content/up
 loads/2025/07/Arte-Lustral-3-turno-Salazar-manu.jpeg
CATEGORIES:Exposiciones
LOCATION:Casa principal de Salazar\, Calle Odaly\, 22\, Santa Cruz de La Pa
 lma\, 38700\, España
GEO:28.682275;-17.765795
X-APPLE-STRUCTURED-LOCATION;VALUE=URI;X-ADDRESS=Calle Odaly\, 22\, Santa Cr
 uz de La Palma\, 38700\, España;X-APPLE-RADIUS=100;X-TITLE=Casa principal
  de Salazar:geo:28.682275,-17.765795
END:VEVENT
END:VCALENDARBEGIN:VCALENDAR
VERSION:2.0
PRODID:-//wp-events-plugin.com//7.2.3.1//EN
TZID:Europe/London
X-WR-TIMEZONE:Europe/London
BEGIN:VEVENT
UID:3883@larevistadelapalma.com
DTSTART;VALUE=DATE:20250723
DTEND;VALUE=DATE:20250809
DTSTAMP:20250723T215250Z
URL:https://www.larevistadelapalma.com/events/arte-lustral-3-turno-salazar
 /
SUMMARY:Tercer turno de las exposiciones "Arte Lustral" (Casa Salazar)
DESCRIPTION:Tres salas de la casa Salazar nos mostrarán tres series distin
 tas de la obra de Manu Marzán.
ATTACH;FMTTYPE=image/jpeg:https://www.larevistadelapalma.com/wp-content/up
 loads/2025/07/Arte-Lustral-3-turno-Salazar-manu.jpeg
CATEGORIES:Exposiciones
LOCATION:Casa principal de Salazar\, Calle Odaly\, 22\, Santa Cruz de La Pa
 lma\, 38700\, España
GEO:28.682275;-17.765795
X-APPLE-STRUCTURED-LOCATION;VALUE=URI;X-ADDRESS=Calle Odaly\, 22\, Santa Cr
 uz de La Palma\, 38700\, España;X-APPLE-RADIUS=100;X-TITLE=Casa principal
  de Salazar:geo:28.682275,-17.765795
END:VEVENT
END:VCALENDAR