BEGIN:VCALENDAR
VERSION:2.0
PRODID:-//wp-events-plugin.com//7.2.3.1//EN
TZID:Europe/London
X-WR-TIMEZONE:Europe/London
BEGIN:VEVENT
UID:3581@larevistadelapalma.com
DTSTART:20250215T100000Z
DTEND:20250215T113000Z
DTSTAMP:20250203T212733Z
URL:https://www.larevistadelapalma.com/events/arte-y-juego-como-recurso-pe
 dagogico/
SUMMARY:“Arte y Juego como Recurso Pedagógico”
DESCRIPTION:Pim Pau llega por primera vez a La Palma con la charla vivencia
 l “Arte y Juego como Recurso Pedagógico”. \n\nUna oportunidad única
  para descubrir nuevas formas de abordar la enseñanza a través del arte 
 y el juego con este trío referente en culturas y música para las infanci
 as.\nAsiste y participa en la charla vivencial sobre el abordaje pedagógi
 co de la banda argentina Pim Pau.\nEs una propuesta destinada  a personas
  vinculadas a la infancia\, dedicadas a la educación\, cuidado y acompañ
 amiento en la crianza de niños/as con el objetivo de ampliar miradas y ge
 nerar nuevas herramientas para pensar en ellas. Docentes de nivel inicial\
 ; estudiantes de profesorados\; personal auxiliar de la salud\; personas q
 ue se dedican al cuidado de niños/as\; recreólogos y todas las personas 
 interesadas.\n\nEsta formación\, organizada por Ocho Pies\, cuenta con la
  colaboración de la Concejalía de Educación del Ayuntamiento de Santa C
 ruz de La Palma.\n\nEntrada libre (hasta completar aforo)\n\n Inscripcion
 es aquí&gt\;&gt\;
ATTACH;FMTTYPE=image/jpeg:https://www.larevistadelapalma.com/wp-content/up
 loads/2025/02/Arte-y-juego-como-recurso-pedagogico.jpg
CATEGORIES:Formación,Otras propuestas
LOCATION:Teatro Chico\, Calle Díaz Pimienta\, 1\, Santa Cruz De La Palma\,
  Santa Cruz de Tenerife\, 38700\, España
GEO:28.68432;-17.764225
X-APPLE-STRUCTURED-LOCATION;VALUE=URI;X-ADDRESS=Calle Díaz Pimienta\, 1\, 
 Santa Cruz De La Palma\, Santa Cruz de Tenerife\, 38700\, España;X-APPLE-
 RADIUS=100;X-TITLE=Teatro Chico:geo:28.68432,-17.764225
END:VEVENT
END:VCALENDARBEGIN:VCALENDAR
VERSION:2.0
PRODID:-//wp-events-plugin.com//7.2.3.1//EN
TZID:Europe/London
X-WR-TIMEZONE:Europe/London
BEGIN:VEVENT
UID:3581@larevistadelapalma.com
DTSTART:20250215T100000Z
DTEND:20250215T113000Z
DTSTAMP:20250203T212733Z
URL:https://www.larevistadelapalma.com/events/arte-y-juego-como-recurso-pe
 dagogico/
SUMMARY:“Arte y Juego como Recurso Pedagógico”
DESCRIPTION:Pim Pau llega por primera vez a La Palma con la charla vivencia
 l “Arte y Juego como Recurso Pedagógico”. \n\nUna oportunidad única
  para descubrir nuevas formas de abordar la enseñanza a través del arte 
 y el juego con este trío referente en culturas y música para las infanci
 as.\nAsiste y participa en la charla vivencial sobre el abordaje pedagógi
 co de la banda argentina Pim Pau.\nEs una propuesta destinada  a personas
  vinculadas a la infancia\, dedicadas a la educación\, cuidado y acompañ
 amiento en la crianza de niños/as con el objetivo de ampliar miradas y ge
 nerar nuevas herramientas para pensar en ellas. Docentes de nivel inicial\
 ; estudiantes de profesorados\; personal auxiliar de la salud\; personas q
 ue se dedican al cuidado de niños/as\; recreólogos y todas las personas 
 interesadas.\n\nEsta formación\, organizada por Ocho Pies\, cuenta con la
  colaboración de la Concejalía de Educación del Ayuntamiento de Santa C
 ruz de La Palma.\n\nEntrada libre (hasta completar aforo)\n\n Inscripcion
 es aquí&gt\;&gt\;
ATTACH;FMTTYPE=image/jpeg:https://www.larevistadelapalma.com/wp-content/up
 loads/2025/02/Arte-y-juego-como-recurso-pedagogico.jpg
CATEGORIES:Formación,Otras propuestas
LOCATION:Teatro Chico\, Calle Díaz Pimienta\, 1\, Santa Cruz De La Palma\,
  Santa Cruz de Tenerife\, 38700\, España
GEO:28.68432;-17.764225
X-APPLE-STRUCTURED-LOCATION;VALUE=URI;X-ADDRESS=Calle Díaz Pimienta\, 1\, 
 Santa Cruz De La Palma\, Santa Cruz de Tenerife\, 38700\, España;X-APPLE-
 RADIUS=100;X-TITLE=Teatro Chico:geo:28.68432,-17.764225
END:VEVENT
END:VCALENDAR