BEGIN:VCALENDAR
VERSION:2.0
PRODID:-//wp-events-plugin.com//7.2.3.1//EN
TZID:Europe/London
X-WR-TIMEZONE:Europe/London
BEGIN:VEVENT
UID:2710@larevistadelapalma.com
DTSTART:20240113T180000Z
DTEND:20240113T200000Z
DTSTAMP:20240105T162739Z
URL:https://www.larevistadelapalma.com/events/arte-y-vino-en-la-marmota/
SUMMARY:Arte y vino en La Marmota
DESCRIPTION:\nRegala/te experiencias\n\n\nUna tarde en la que se compartir
 á arte\, vino y musiquita. En la Tasca La Marmota\, con la artista Angela
  Glezal. No te dejará indiferente .\n\n\n\nRESERVA TU PLAZA en los sigui
 entes teléfonos:\n620 761 534\n648 988 206\n\n\nAportación: 30€ (inclu
 ye taller\, materiales y cata de vino)\nPLAZAS LIMITADAS\n
ATTACH;FMTTYPE=image/jpeg:https://www.larevistadelapalma.com/wp-content/up
 loads/2024/01/Arte-y-vino.jpg
CATEGORIES:Gastro,Otras propuestas,Varios
LOCATION:Tasca La Marmota\, Av de la Constitución\, número 1\, Tazacorte\
 , 38770\, España
GEO:28.643843;-17.933605
X-APPLE-STRUCTURED-LOCATION;VALUE=URI;X-ADDRESS=Av de la Constitución\, n
 úmero 1\, Tazacorte\, 38770\, España;X-APPLE-RADIUS=100;X-TITLE=Tasca La
  Marmota:geo:28.643843,-17.933605
END:VEVENT
END:VCALENDARBEGIN:VCALENDAR
VERSION:2.0
PRODID:-//wp-events-plugin.com//7.2.3.1//EN
TZID:Europe/London
X-WR-TIMEZONE:Europe/London
BEGIN:VEVENT
UID:2710@larevistadelapalma.com
DTSTART:20240113T180000Z
DTEND:20240113T200000Z
DTSTAMP:20240105T162739Z
URL:https://www.larevistadelapalma.com/events/arte-y-vino-en-la-marmota/
SUMMARY:Arte y vino en La Marmota
DESCRIPTION:\nRegala/te experiencias\n\n\nUna tarde en la que se compartir
 á arte\, vino y musiquita. En la Tasca La Marmota\, con la artista Angela
  Glezal. No te dejará indiferente .\n\n\n\nRESERVA TU PLAZA en los sigui
 entes teléfonos:\n620 761 534\n648 988 206\n\n\nAportación: 30€ (inclu
 ye taller\, materiales y cata de vino)\nPLAZAS LIMITADAS\n
ATTACH;FMTTYPE=image/jpeg:https://www.larevistadelapalma.com/wp-content/up
 loads/2024/01/Arte-y-vino.jpg
CATEGORIES:Gastro,Otras propuestas,Varios
LOCATION:Tasca La Marmota\, Av de la Constitución\, número 1\, Tazacorte\
 , 38770\, España
GEO:28.643843;-17.933605
X-APPLE-STRUCTURED-LOCATION;VALUE=URI;X-ADDRESS=Av de la Constitución\, n
 úmero 1\, Tazacorte\, 38770\, España;X-APPLE-RADIUS=100;X-TITLE=Tasca La
  Marmota:geo:28.643843,-17.933605
END:VEVENT
END:VCALENDAR