BEGIN:VCALENDAR
VERSION:2.0
PRODID:-//wp-events-plugin.com//7.2.3.1//EN
TZID:Europe/London
X-WR-TIMEZONE:Europe/London
BEGIN:VEVENT
UID:3996@larevistadelapalma.com
DTSTART;VALUE=DATE:20251010
DTEND;VALUE=DATE:20251013
DTSTAMP:20251008T202440Z
URL:https://www.larevistadelapalma.com/events/artemercado-raices-vivas/
SUMMARY:“Artemercado: Raíces Vivas”
DESCRIPTION:\nLlega la segunda feria “Artemercado: Raíces Vivas”\, baj
 o la temática “Entre Cestos y Vasijas”.\nLa cita permitirá vivir y e
 xperimentar la tradición y la cultura\, con música\, talleres de artesan
 ía\, degustaciones\, y muchas sorpresas más.\n\n\n\n\nPrograma\n\nVierne
 s 10: de 17h a 21h\n\n\n 	 17 h: Apertura de la feria\n 	 18 h: Taller d
 e cestería de palma (adultos) a cargo de Saray Lorenzo González\n 	 19 
 h: Música: Dj Calamity Jane Selectora\n\n\n\nSábado 11: de 11h a 21h\n\n
  	11 h: Apertura de la feria\n 	11.30 h: Taller de cestería de palma (inf
 antil) a cargo de Saray Lorenzo González\n 	17 h: Charla Coloquio: “Cer
 ámica y Cestería\, de la tierra a la forma”\, moderada por Estrella He
 rnández y participan M.ª Victoria Hernández\, Ramón Barreto y Maira Ri
 verol.\n 	19 h: Música en vivo: “EntreCuerdas”\n\nDomingo 24: de 11h 
 a 14h\n\n\n 	11 h: Apertura de la Feria\n 	11.30 h: Taller de cestería de
  mimbre a cargo de Beatriz Fernández\n 	12 h: Música en vivo: Fran Ramos
 .\n\nUna iniciativa enmarcada en el programa Dinamiza Rural\, promovida po
 r el Gobierno de Canarias a través de GMR\, impulsada por el Ayuntamiento
  de Breña Baja y la Asociación de Artesanos El Telar. Colabora Oficina A
 groecológica S. Coop. Can.\n\n
ATTACH;FMTTYPE=image/jpeg:https://www.larevistadelapalma.com/wp-content/up
 loads/2025/10/artemercado.jpg
CATEGORIES:Ferias y mercados,Otras propuestas,Varios
LOCATION:Antiguas Salinas de Los Cancajos\, P.º del litoral\, Breña Baja\
 , 38712\, España
GEO:28.650095;-17.75849
X-APPLE-STRUCTURED-LOCATION;VALUE=URI;X-ADDRESS=P.º del litoral\, Breña B
 aja\, 38712\, España;X-APPLE-RADIUS=100;X-TITLE=Antiguas Salinas de Los C
 ancajos:geo:28.650095,-17.75849
END:VEVENT
END:VCALENDARBEGIN:VCALENDAR
VERSION:2.0
PRODID:-//wp-events-plugin.com//7.2.3.1//EN
TZID:Europe/London
X-WR-TIMEZONE:Europe/London
BEGIN:VEVENT
UID:3996@larevistadelapalma.com
DTSTART;VALUE=DATE:20251010
DTEND;VALUE=DATE:20251013
DTSTAMP:20251008T202440Z
URL:https://www.larevistadelapalma.com/events/artemercado-raices-vivas/
SUMMARY:“Artemercado: Raíces Vivas”
DESCRIPTION:\nLlega la segunda feria “Artemercado: Raíces Vivas”\, baj
 o la temática “Entre Cestos y Vasijas”.\nLa cita permitirá vivir y e
 xperimentar la tradición y la cultura\, con música\, talleres de artesan
 ía\, degustaciones\, y muchas sorpresas más.\n\n\n\n\nPrograma\n\nVierne
 s 10: de 17h a 21h\n\n\n 	 17 h: Apertura de la feria\n 	 18 h: Taller d
 e cestería de palma (adultos) a cargo de Saray Lorenzo González\n 	 19 
 h: Música: Dj Calamity Jane Selectora\n\n\n\nSábado 11: de 11h a 21h\n\n
  	11 h: Apertura de la feria\n 	11.30 h: Taller de cestería de palma (inf
 antil) a cargo de Saray Lorenzo González\n 	17 h: Charla Coloquio: “Cer
 ámica y Cestería\, de la tierra a la forma”\, moderada por Estrella He
 rnández y participan M.ª Victoria Hernández\, Ramón Barreto y Maira Ri
 verol.\n 	19 h: Música en vivo: “EntreCuerdas”\n\nDomingo 24: de 11h 
 a 14h\n\n\n 	11 h: Apertura de la Feria\n 	11.30 h: Taller de cestería de
  mimbre a cargo de Beatriz Fernández\n 	12 h: Música en vivo: Fran Ramos
 .\n\nUna iniciativa enmarcada en el programa Dinamiza Rural\, promovida po
 r el Gobierno de Canarias a través de GMR\, impulsada por el Ayuntamiento
  de Breña Baja y la Asociación de Artesanos El Telar. Colabora Oficina A
 groecológica S. Coop. Can.\n\n
ATTACH;FMTTYPE=image/jpeg:https://www.larevistadelapalma.com/wp-content/up
 loads/2025/10/artemercado.jpg
CATEGORIES:Ferias y mercados,Otras propuestas,Varios
LOCATION:Antiguas Salinas de Los Cancajos\, P.º del litoral\, Breña Baja\
 , 38712\, España
GEO:28.650095;-17.75849
X-APPLE-STRUCTURED-LOCATION;VALUE=URI;X-ADDRESS=P.º del litoral\, Breña B
 aja\, 38712\, España;X-APPLE-RADIUS=100;X-TITLE=Antiguas Salinas de Los C
 ancajos:geo:28.650095,-17.75849
END:VEVENT
END:VCALENDAR